BEGIN:VCALENDAR
VERSION:2.0
PRODID:-//Go Batroun - ECPv6.14.2//NONSGML v1.0//EN
CALSCALE:GREGORIAN
METHOD:PUBLISH
X-ORIGINAL-URL:https://gobatroun.com
X-WR-CALDESC:Events for Go Batroun
REFRESH-INTERVAL;VALUE=DURATION:PT1H
X-Robots-Tag:noindex
X-PUBLISHED-TTL:PT1H
BEGIN:VTIMEZONE
TZID:Asia/Beirut
BEGIN:DAYLIGHT
TZOFFSETFROM:+0200
TZOFFSETTO:+0300
TZNAME:EEST
DTSTART:20230325T220000
END:DAYLIGHT
BEGIN:STANDARD
TZOFFSETFROM:+0300
TZOFFSETTO:+0200
TZNAME:EET
DTSTART:20231028T210000
END:STANDARD
END:VTIMEZONE
BEGIN:VEVENT
DTSTART;VALUE=DATE:20230219
DTEND;VALUE=DATE:20230313
DTSTAMP:20260421T080859
CREATED:20230207T150309Z
LAST-MODIFIED:20230207T150309Z
UID:10001923-1676764800-1678665599@gobatroun.com
SUMMARY:Volleyball Match Schedule
DESCRIPTION:
URL:https://gobatroun.com/event/volleyball-match-schedule/
LOCATION:Hamat Community Center
CATEGORIES:Performing Arts,Sports
ATTACH;FMTTYPE=image/jpeg:https://gobatroun.com/wp-content/uploads/2023/02/WhatsApp-Image-2023-02-07-at-5.02.15-PM.jpeg
END:VEVENT
BEGIN:VEVENT
DTSTART;TZID=Asia/Beirut:20230220T080000
DTEND;TZID=Asia/Beirut:20230220T170000
DTSTAMP:20260421T080859
CREATED:20230220T073828Z
LAST-MODIFIED:20230220T073828Z
UID:10001969-1676880000-1676912400@gobatroun.com
SUMMARY:50% at Chess Bar
DESCRIPTION:This Monday\, 20 February\, 50% off all night long!!
URL:https://gobatroun.com/event/50-at-chess-bar/
LOCATION:Chess Bar
CATEGORIES:Performing Arts
ATTACH;FMTTYPE=image/png:https://gobatroun.com/wp-content/uploads/2023/02/Screenshot-2757.png
END:VEVENT
END:VCALENDAR