BEGIN:VCALENDAR
VERSION:2.0
PRODID:-//Go Batroun - ECPv6.14.2//NONSGML v1.0//EN
CALSCALE:GREGORIAN
METHOD:PUBLISH
X-ORIGINAL-URL:https://gobatroun.com
X-WR-CALDESC:Events for Go Batroun
REFRESH-INTERVAL;VALUE=DURATION:PT1H
X-Robots-Tag:noindex
X-PUBLISHED-TTL:PT1H
BEGIN:VTIMEZONE
TZID:Asia/Beirut
BEGIN:DAYLIGHT
TZOFFSETFROM:+0200
TZOFFSETTO:+0300
TZNAME:EEST
DTSTART:20230325T220000
END:DAYLIGHT
BEGIN:STANDARD
TZOFFSETFROM:+0300
TZOFFSETTO:+0200
TZNAME:EET
DTSTART:20231028T210000
END:STANDARD
END:VTIMEZONE
BEGIN:VEVENT
DTSTART;VALUE=DATE:20230219
DTEND;VALUE=DATE:20230313
DTSTAMP:20260421T080835
CREATED:20230207T150309Z
LAST-MODIFIED:20230207T150309Z
UID:10001923-1676764800-1678665599@gobatroun.com
SUMMARY:Volleyball Match Schedule
DESCRIPTION:
URL:https://gobatroun.com/event/volleyball-match-schedule/
LOCATION:Hamat Community Center
CATEGORIES:Performing Arts,Sports
ATTACH;FMTTYPE=image/jpeg:https://gobatroun.com/wp-content/uploads/2023/02/WhatsApp-Image-2023-02-07-at-5.02.15-PM.jpeg
END:VEVENT
BEGIN:VEVENT
DTSTART;TZID=Asia/Beirut:20230219T080000
DTEND;TZID=Asia/Beirut:20230219T170000
DTSTAMP:20260421T080835
CREATED:20230210T084516Z
LAST-MODIFIED:20230210T084540Z
UID:10001938-1676793600-1676826000@gobatroun.com
SUMMARY:NIHA TO HADATH AL JEBBEH
DESCRIPTION:Event Details : \n* DATE: Sunday\, 19 of February . \n* MEETING POINT: \nBeirut Al Nahar Building-Martyr square Downtown(we can pick up hikers along the way) at 7:00 AM. \nBatroun routes station at 8:00 AM. \nPS: Punctuality is highly important! \n* HIKE DEPARTURE: 10:00 AM.\n* HIKE DURATION: 4h 30 min.\n* DISTANCE: 13 km \nBE PREPARED: \nBring light snacks to boost your energy up (such as nuts\, dry fruits and water).\nwinter clothing\, winter shoes\, jacket\, gloves & hat\, sunscreen\, sunglass and changing clothes. \nYou can book by calling\nRoutes Team 76-338762 ————————————————————————————-\nEvent Participation Fees : \n* 25$ including Transportation. \nThis event will include Snowshoeing equipment\, Routes guides\, local guides\, Breakfast (Tea & Croissants ). \nMaximum number of participants for this event is 25.
URL:https://gobatroun.com/event/niha-to-hadath-al-jebbeh/
LOCATION:Routes
CATEGORIES:Performing Arts
ATTACH;FMTTYPE=image/jpeg:https://gobatroun.com/wp-content/uploads/2023/02/1136840120230209062536.jpg
END:VEVENT
BEGIN:VEVENT
DTSTART;TZID=Asia/Beirut:20230219T210000
DTEND;TZID=Asia/Beirut:20230219T210000
DTSTAMP:20260421T080835
CREATED:20230210T074535Z
LAST-MODIFIED:20230210T074535Z
UID:10001931-1676840400-1676840400@gobatroun.com
SUMMARY:Chady Aidamouny at Merchak بالسوق
DESCRIPTION:Hey lovers! It’s a love-filled week at Merchak Bel Souk! Dance\, drink\, eat and have the time of your lives with\n>> @dj__excess : Monday 13\, Tuesday 14 & Saturday 18\n>> @djsamixx : Friday 17\n>> @chadyaidamouny.official : Sunday 19 \nBook now at📱 76 666 151
URL:https://gobatroun.com/event/chady-aidamouny-at-merchak-%d8%a8%d8%a7%d9%84%d8%b3%d9%88%d9%82-7/
LOCATION:Merchak بالسوق
CATEGORIES:Performing Arts
ATTACH;FMTTYPE=image/png:https://gobatroun.com/wp-content/uploads/2023/02/Screenshot-2720.png
END:VEVENT
END:VCALENDAR