BEGIN:VCALENDAR
VERSION:2.0
PRODID:-//Go Batroun - ECPv6.14.2//NONSGML v1.0//EN
CALSCALE:GREGORIAN
METHOD:PUBLISH
X-ORIGINAL-URL:https://gobatroun.com
X-WR-CALDESC:Events for Go Batroun
REFRESH-INTERVAL;VALUE=DURATION:PT1H
X-Robots-Tag:noindex
X-PUBLISHED-TTL:PT1H
BEGIN:VTIMEZONE
TZID:Asia/Beirut
BEGIN:DAYLIGHT
TZOFFSETFROM:+0200
TZOFFSETTO:+0300
TZNAME:EEST
DTSTART:20230325T220000
END:DAYLIGHT
BEGIN:STANDARD
TZOFFSETFROM:+0300
TZOFFSETTO:+0200
TZNAME:EET
DTSTART:20231028T210000
END:STANDARD
END:VTIMEZONE
BEGIN:VEVENT
DTSTART;TZID=Asia/Beirut:20230216T160000
DTEND;TZID=Asia/Beirut:20230216T160000
DTSTAMP:20260421T080830
CREATED:20230124T080514Z
LAST-MODIFIED:20230124T080710Z
UID:10001826-1676563200-1676563200@gobatroun.com
SUMMARY:My First Valentine at Dream Ville
DESCRIPTION:Limited places! \n25$/mom and baby \nFor reservations: 70224987  /  70146349
URL:https://gobatroun.com/event/my-first-valentine-at-dream-ville/
LOCATION:Dream Ville
CATEGORIES:Performing Arts
ATTACH;FMTTYPE=image/png:https://gobatroun.com/wp-content/uploads/2023/01/Screenshot-2550.png
END:VEVENT
BEGIN:VEVENT
DTSTART;TZID=Asia/Beirut:20230216T200000
DTEND;TZID=Asia/Beirut:20230216T200000
DTSTAMP:20260421T080830
CREATED:20230212T181905Z
LAST-MODIFIED:20230213T091842Z
UID:10001943-1676577600-1676577600@gobatroun.com
SUMMARY:Sakara بالسوق
DESCRIPTION:يعود ريع هذه الفعالية، من أجل تمويل مشروع تنظيم حركة المرور وإنارة الشوارع في المنطقة القديمة
URL:https://gobatroun.com/event/sakara-%d8%a8%d8%a7%d9%84%d8%b3%d9%88%d9%82/
LOCATION:Batroun old town
CATEGORIES:Performing Arts
ATTACH;FMTTYPE=image/jpeg:https://gobatroun.com/wp-content/uploads/2023/02/20230212_201010.jpg
END:VEVENT
BEGIN:VEVENT
DTSTART;TZID=Asia/Beirut:20230216T210000
DTEND;TZID=Asia/Beirut:20230216T210000
DTSTAMP:20260421T080830
CREATED:20230202T113034Z
LAST-MODIFIED:20230202T113034Z
UID:10001882-1676581200-1676581200@gobatroun.com
SUMMARY:Rachid Al Najar at Al Khawaby
DESCRIPTION:
URL:https://gobatroun.com/event/rachid-al-najar-at-al-khawaby/
LOCATION:Al Khawaby
CATEGORIES:Performing Arts
ATTACH;FMTTYPE=image/png:https://gobatroun.com/wp-content/uploads/2023/02/Screenshot-2634.png
END:VEVENT
BEGIN:VEVENT
DTSTART;TZID=Asia/Beirut:20230216T210000
DTEND;TZID=Asia/Beirut:20230216T210000
DTSTAMP:20260421T080830
CREATED:20230216T123611Z
LAST-MODIFIED:20230216T123611Z
UID:10001960-1676581200-1676581200@gobatroun.com
SUMMARY:Oriental Night with Dj CHUB
DESCRIPTION:Oriental Night Thursday\, February 16th with @dj_chub_official at Tramway Batroun.\n.\nFor reservations call us on 📲 03 51 41 01\nor WhatsApp us on ➡️ https://wa.link/4z3wsz\n.\n✅Valet Parking Service available\n🕘 starting 9 p.m
URL:https://gobatroun.com/event/oriental-night-with-dj-chub/
LOCATION:Tramway Gastro Pub\, 7M45+CQ Batroun\, Batroun\, Lebanon
CATEGORIES:Performing Arts
ATTACH;FMTTYPE=image/png:https://gobatroun.com/wp-content/uploads/2023/02/Screenshot-2752.png
END:VEVENT
BEGIN:VEVENT
DTSTART;TZID=Asia/Beirut:20230216T220000
DTEND;TZID=Asia/Beirut:20230216T220000
DTSTAMP:20260421T080830
CREATED:20230215T082600Z
LAST-MODIFIED:20230215T082600Z
UID:10001953-1676584800-1676584800@gobatroun.com
SUMMARY:80's Night at Cheers
DESCRIPTION:
URL:https://gobatroun.com/event/80s-night-at-cheers/
LOCATION:Cheers
CATEGORIES:Performing Arts
ATTACH;FMTTYPE=image/png:https://gobatroun.com/wp-content/uploads/2023/02/Screenshot-2747.png
END:VEVENT
END:VCALENDAR