BEGIN:VCALENDAR
VERSION:2.0
PRODID:-//Go Batroun - ECPv6.14.2//NONSGML v1.0//EN
CALSCALE:GREGORIAN
METHOD:PUBLISH
X-ORIGINAL-URL:https://gobatroun.com
X-WR-CALDESC:Events for Go Batroun
REFRESH-INTERVAL;VALUE=DURATION:PT1H
X-Robots-Tag:noindex
X-PUBLISHED-TTL:PT1H
BEGIN:VTIMEZONE
TZID:Asia/Beirut
BEGIN:DAYLIGHT
TZOFFSETFROM:+0200
TZOFFSETTO:+0300
TZNAME:EEST
DTSTART:20230325T220000
END:DAYLIGHT
BEGIN:STANDARD
TZOFFSETFROM:+0300
TZOFFSETTO:+0200
TZNAME:EET
DTSTART:20231028T210000
END:STANDARD
END:VTIMEZONE
BEGIN:VEVENT
DTSTART;VALUE=DATE:20230213
DTEND;VALUE=DATE:20230214
DTSTAMP:20260421T080757
CREATED:20230210T073551Z
LAST-MODIFIED:20230210T073551Z
UID:10001927-1676246400-1676332799@gobatroun.com
SUMMARY:Indian Night at Mayouli
DESCRIPTION:Spice up your Valentine’s celebration with a delicious dinner catered by @getgrilledlb 😉🥰 \n📅 Monday 13 January 2023\n🕧 Starting 6:00 PM \n💵 Prices: 50$ per couple\n60$ per couple wih a Wine\nBottle 🍷 \nLimited Seats available\nFor reservation: 71 000 516
URL:https://gobatroun.com/event/indian-night-at-mayouli/
LOCATION:Mayouli\, 7M88+PP Batroun\, Batroun\, Lebanon
CATEGORIES:Performing Arts
ATTACH;FMTTYPE=image/png:https://gobatroun.com/wp-content/uploads/2023/02/Screenshot-2718.png
GEO:34.266795819013;35.666856562531
X-APPLE-STRUCTURED-LOCATION;VALUE=URI;X-ADDRESS=Mayouli 7M88+PP Batroun Batroun Lebanon;X-APPLE-RADIUS=500;X-TITLE=7M88+PP Batroun:geo:35.666856562531,34.266795819013
END:VEVENT
BEGIN:VEVENT
DTSTART;VALUE=DATE:20230213
DTEND;VALUE=DATE:20230215
DTSTAMP:20260421T080757
CREATED:20230213T075524Z
LAST-MODIFIED:20230213T075524Z
UID:10001947-1676246400-1676419199@gobatroun.com
SUMMARY:Valentine's date at Bario67
DESCRIPTION:
URL:https://gobatroun.com/event/valentines-date-at-bario67/
LOCATION:Barrio67
CATEGORIES:Performing Arts
ATTACH;FMTTYPE=image/png:https://gobatroun.com/wp-content/uploads/2023/02/Screenshot-2733.png
END:VEVENT
BEGIN:VEVENT
DTSTART;TZID=Asia/Beirut:20230213T160000
DTEND;TZID=Asia/Beirut:20230213T173000
DTSTAMP:20260421T080757
CREATED:20230213T074728Z
LAST-MODIFIED:20230213T074728Z
UID:10001945-1676304000-1676309400@gobatroun.com
SUMMARY:Partners Workshop with Life coach Marie Therese Bassil at Mayouli
DESCRIPTION:collaboration with @executivewomen_ will be holding a partners workshop with Life coach Marie Therese Bassil @marietherese_lifecoach \nCome join us in the revealing the secret of healthy relationships workshop\, for a 1h30mins session of laughter and learning about :\n✨How Saboteurs interface with relationships.\n✨The main cause of tension and conflict in relationships.\n✨And 5 ways to use Sage powers to shift the energy in relationships. \nBook Now – Limited Seats!\nFor reservation: 71 000 516
URL:https://gobatroun.com/event/partners-workshop-with-life-coach-marie-therese-bassil-at-mayouli/
LOCATION:Mayouli\, 7M88+PP Batroun\, Batroun\, Lebanon
CATEGORIES:Performing Arts
ATTACH;FMTTYPE=image/png:https://gobatroun.com/wp-content/uploads/2023/02/Screenshot-2731.png
GEO:34.266795819013;35.666856562531
X-APPLE-STRUCTURED-LOCATION;VALUE=URI;X-ADDRESS=Mayouli 7M88+PP Batroun Batroun Lebanon;X-APPLE-RADIUS=500;X-TITLE=7M88+PP Batroun:geo:35.666856562531,34.266795819013
END:VEVENT
BEGIN:VEVENT
DTSTART;TZID=Asia/Beirut:20230213T210000
DTEND;TZID=Asia/Beirut:20230213T210000
DTSTAMP:20260421T080757
CREATED:20230201T074250Z
LAST-MODIFIED:20230201T074250Z
UID:10001875-1676322000-1676322000@gobatroun.com
SUMMARY:Liubov at Cheers
DESCRIPTION:
URL:https://gobatroun.com/event/liubov-at-cheers/
LOCATION:Cheers
CATEGORIES:Performing Arts
ATTACH;FMTTYPE=image/png:https://gobatroun.com/wp-content/uploads/2023/02/Screenshot-2604.png
END:VEVENT
BEGIN:VEVENT
DTSTART;TZID=Asia/Beirut:20230213T210000
DTEND;TZID=Asia/Beirut:20230213T210000
DTSTAMP:20260421T080757
CREATED:20230206T112135Z
LAST-MODIFIED:20230206T112135Z
UID:10001886-1676322000-1676322000@gobatroun.com
SUMMARY:Azizi at TRAMWAY BATROUN.
DESCRIPTION:There is no better way to celebrate Valentine’s than by dancing to Aziz’s enchanting voice and savoring a delicious dinner at TRAMWAY BATROUN. Delight yourselves and your loved ones with amazing set menu and brace yourselves for a wonderful night starting 9:30 pm.For Rsvp 03514101 .\nft. @dj_chub_official\n#TramwayBatroun\n.\nFor reservations call us on 📲 03 51 41 01
URL:https://gobatroun.com/event/azizi-at-tramway-batroun/
LOCATION:Tramway Gastro Pub\, 7M45+CQ Batroun\, Batroun\, Lebanon
CATEGORIES:Performing Arts
ATTACH;FMTTYPE=image/png:https://gobatroun.com/wp-content/uploads/2023/02/Screenshot-21.png
END:VEVENT
BEGIN:VEVENT
DTSTART;TZID=Asia/Beirut:20230213T210000
DTEND;TZID=Asia/Beirut:20230213T210000
DTSTAMP:20260421T080757
CREATED:20230210T073020Z
LAST-MODIFIED:20230210T073020Z
UID:10001926-1676322000-1676322000@gobatroun.com
SUMMARY:Wissam Hobeich at GreenHouse
DESCRIPTION:
URL:https://gobatroun.com/event/wissam-hobeich-at-greenhouse/
LOCATION:Green House Batroun
CATEGORIES:Performing Arts
ATTACH;FMTTYPE=image/png:https://gobatroun.com/wp-content/uploads/2023/02/Screenshot-2717.png
END:VEVENT
BEGIN:VEVENT
DTSTART;TZID=Asia/Beirut:20230213T210000
DTEND;TZID=Asia/Beirut:20230213T210000
DTSTAMP:20260421T080757
CREATED:20230210T074235Z
LAST-MODIFIED:20230210T074235Z
UID:10001929-1676322000-1676322000@gobatroun.com
SUMMARY:Dj Ihab El Helou at Merchak بالسوق
DESCRIPTION:Hey lovers! It’s a love-filled week at Merchak Bel Souk! Dance\, drink\, eat and have the time of your lives with\n>> @dj__excess : Monday 13\, Tuesday 14 & Saturday 18\n>> @djsamixx : Friday 17\n>> @chadyaidamouny.official : Sunday 19 \nBook now at📱 76 666 151
URL:https://gobatroun.com/event/dj-ihab-el-helou-at-merchak-%d8%a8%d8%a7%d9%84%d8%b3%d9%88%d9%82/
LOCATION:Merchak بالسوق
CATEGORIES:Performing Arts
ATTACH;FMTTYPE=image/png:https://gobatroun.com/wp-content/uploads/2023/02/Screenshot-2720.png
END:VEVENT
BEGIN:VEVENT
DTSTART;TZID=Asia/Beirut:20230213T210000
DTEND;TZID=Asia/Beirut:20230213T210000
DTSTAMP:20260421T080757
CREATED:20230213T074114Z
LAST-MODIFIED:20230213T074114Z
UID:10001944-1676322000-1676322000@gobatroun.com
SUMMARY:Dj Mike at Cheers
DESCRIPTION:
URL:https://gobatroun.com/event/dj-mike-at-cheers/
LOCATION:Cheers
CATEGORIES:Performing Arts
ATTACH;FMTTYPE=image/png:https://gobatroun.com/wp-content/uploads/2023/02/Screenshot-2730.png
END:VEVENT
BEGIN:VEVENT
DTSTART;TZID=Asia/Beirut:20230213T220000
DTEND;TZID=Asia/Beirut:20230213T220000
DTSTAMP:20260421T080757
CREATED:20230207T141234Z
LAST-MODIFIED:20230207T141234Z
UID:10001913-1676325600-1676325600@gobatroun.com
SUMMARY:Dj Bibb and Mc-H at Void
DESCRIPTION:
URL:https://gobatroun.com/event/dj-bibb-and-mc-h-at-void-10/
LOCATION:Void Nightclub
CATEGORIES:Performing Arts
ATTACH;FMTTYPE=image/png:https://gobatroun.com/wp-content/uploads/2023/02/Screenshot-2700.png
END:VEVENT
BEGIN:VEVENT
DTSTART;TZID=Asia/Beirut:20230213T220000
DTEND;TZID=Asia/Beirut:20230213T220000
DTSTAMP:20260421T080757
CREATED:20230207T141820Z
LAST-MODIFIED:20230210T080644Z
UID:10001915-1676325600-1676325600@gobatroun.com
SUMMARY:Eliana Moubarak and Pavo Sbannout at Xlounge Batroun
DESCRIPTION:❤️ Love is in the air ❤️\nCome celebrate Valentine Monday 13 February At X Lounge with @pavosbannout and @elianamoubarak\nFor reservation 03 499 833
URL:https://gobatroun.com/event/eliana-moubarak-and-pavo-sbannout-at-xlounge-batroun/
LOCATION:Xlounge Batroun
CATEGORIES:Performing Arts
ATTACH;FMTTYPE=image/png:https://gobatroun.com/wp-content/uploads/2023/02/Screenshot-2704.png
END:VEVENT
BEGIN:VEVENT
DTSTART;TZID=Asia/Beirut:20230213T220000
DTEND;TZID=Asia/Beirut:20230213T220000
DTSTAMP:20260421T080757
CREATED:20230207T142505Z
LAST-MODIFIED:20230210T080902Z
UID:10001919-1676325600-1676325600@gobatroun.com
SUMMARY:Oriental Night at B1 Batroun
DESCRIPTION:I followed my heart and it led me to B1 batroun.\nParty with us on 13 Feb with Dj Armen Avakian.\nNo minimum Charge
URL:https://gobatroun.com/event/oriental-night-at-b1-batroun/
LOCATION:B1 Batroun
CATEGORIES:Performing Arts
ATTACH;FMTTYPE=image/png:https://gobatroun.com/wp-content/uploads/2023/02/Screenshot-2725.png
END:VEVENT
BEGIN:VEVENT
DTSTART;VALUE=DATE:20230214
DTEND;VALUE=DATE:20230215
DTSTAMP:20260421T080757
CREATED:20230210T072421Z
LAST-MODIFIED:20230210T072421Z
UID:10001924-1676332800-1676419199@gobatroun.com
SUMMARY:Valentine's Day at SnawBar
DESCRIPTION:“Roses are red. Violets are blue. I love spending Valentine’s Day on this dinner for two.” \nExperience a memorable Valentine’s Day with our exclusive takeout dinner. Choose from a selection of romantic charcuterie boards and finish with a rich dessert. Order now and create a night to remember at home with your loved one 🥰 \nValentine’s Day at Snaw-bar comes in three different packages for couples \nClassic Package : take away cheese board. 30$ \nGold Package : cheese board with a special btls of wine. 50$\nGold Package \nPremium Package : cheese board with special btls of wine and a tent for 2. 80$ \nTables are limited so early reservation is advised ! \nRSVP: 71942776 \n❗Bring a jacket or blanket if you’d like!❗ \n🔸 Camping spot 🏕\n🔸 bonfire 🔥\n🔸 bar 🍻\n🔸 food 🥙🌮🍳\n🔸 game board ♟🎲🎯\n🔸 Toilets available\n🔸 tent rental is available upon reservation\n🔸 RSVP : 71942776
URL:https://gobatroun.com/event/valentines-day-at-snawbar/
LOCATION:Snaw Bar
CATEGORIES:Festivals,Performing Arts
ATTACH;FMTTYPE=image/png:https://gobatroun.com/wp-content/uploads/2023/02/Screenshot-2714.png
END:VEVENT
END:VCALENDAR