BEGIN:VCALENDAR
VERSION:2.0
PRODID:-//Go Batroun - ECPv6.14.2//NONSGML v1.0//EN
CALSCALE:GREGORIAN
METHOD:PUBLISH
X-WR-CALNAME:Go Batroun
X-ORIGINAL-URL:https://gobatroun.com
X-WR-CALDESC:Events for Go Batroun
REFRESH-INTERVAL;VALUE=DURATION:PT1H
X-Robots-Tag:noindex
X-PUBLISHED-TTL:PT1H
BEGIN:VTIMEZONE
TZID:Asia/Beirut
BEGIN:DAYLIGHT
TZOFFSETFROM:+0200
TZOFFSETTO:+0300
TZNAME:EEST
DTSTART:20230325T220000
END:DAYLIGHT
BEGIN:STANDARD
TZOFFSETFROM:+0300
TZOFFSETTO:+0200
TZNAME:EET
DTSTART:20231028T210000
END:STANDARD
END:VTIMEZONE
BEGIN:VEVENT
DTSTART;VALUE=DATE:20230210
DTEND;VALUE=DATE:20230213
DTSTAMP:20260421T063019
CREATED:20230124T084543Z
LAST-MODIFIED:20230124T084543Z
UID:10001827-1675987200-1676246399@gobatroun.com
SUMMARY:Valentine's vacation with A to Z Trips
DESCRIPTION:Join us in our Trip to Jordan this February to spend Valentine’s vacation
URL:https://gobatroun.com/event/valentines-vacation-with-a-to-z-trips/
LOCATION:A to Z Trips
CATEGORIES:Expos,Sports
ATTACH;FMTTYPE=image/jpeg:https://gobatroun.com/wp-content/uploads/2023/01/WhatsApp-Image-2023-01-24-at-10.32.40-AM-1.jpeg
END:VEVENT
BEGIN:VEVENT
DTSTART;TZID=Asia/Beirut:20230212T080000
DTEND;TZID=Asia/Beirut:20230212T170000
DTSTAMP:20260421T063019
CREATED:20230210T083934Z
LAST-MODIFIED:20230210T085417Z
UID:10001937-1676188800-1676221200@gobatroun.com
SUMMARY:Horsh Ehden Nature Reserve
DESCRIPTION:* DATE: Sunday 12 February 2023 \n* MEETING POINT: \nBeirut Al Nahar Building-Martyr square Downtown(we can pick up hikers along the way) at 7:00 am \nBatroun Routes station at 8:00 am. \nPS: Punctuality is highly important! \n* HIKE DEPARTURE: 10:00 AM.\n* HIKE DURATION: 3h 30 min\n* LEVEL: Easy to moderate\n* Trail: 8 km \nBE PREPARED: \nBring light snacks to boost your energy up (such as nuts\, dry fruits\, and water).\nwinter clothing\, winter shoes\, jacket\, gloves & hat\, sunscreen\, sunglass\, and changing clothes. \nYou can book by calling\nRoutes Team 76-338762 ————————————————————————————-\nEvent Participation Fees : \n* 25$ including Transportation.\n* 20$ for People who will join in their own car. \nThis event will include Ehden nature reserve entrance\, transportation\, Snowshoeing equipment\, Routes guides\, Local guides\, and Breakfast (Tea & Croissants). \nThe maximum number of participants for this hike is 25.
URL:https://gobatroun.com/event/horsh-ehden-nature-reserve/
LOCATION:Routes
CATEGORIES:Sports
ATTACH;FMTTYPE=image/jpeg:https://gobatroun.com/wp-content/uploads/2023/02/1136840120230209063754.jpg
END:VEVENT
BEGIN:VEVENT
DTSTART;TZID=Asia/Beirut:20230212T150000
DTEND;TZID=Asia/Beirut:20230212T180000
DTSTAMP:20260421T063019
CREATED:20230210T140529Z
LAST-MODIFIED:20230210T140529Z
UID:10001942-1676214000-1676224800@gobatroun.com
SUMMARY:Meet and Greet SpiderMan at Kids Factory
DESCRIPTION:🔥Time for some happy winter moments with your favorite characters\nSunday 12th : meet and greet Spiderman 🕸️\nActivity includes craft\, games\, snacks and hot chocolate 🥞☕
URL:https://gobatroun.com/event/meet-and-greet-spiderman-at-kids-factory/
LOCATION:Kids Factory\, 7M45+MGJ Batroun\, Batroun\, Lebanon
CATEGORIES:Performing Arts
ATTACH;FMTTYPE=image/png:https://gobatroun.com/wp-content/uploads/2023/02/Screenshot-2729.png
END:VEVENT
BEGIN:VEVENT
DTSTART;TZID=Asia/Beirut:20230212T210000
DTEND;TZID=Asia/Beirut:20230212T210000
DTSTAMP:20260421T063019
CREATED:20230210T072845Z
LAST-MODIFIED:20230210T072845Z
UID:10001925-1676235600-1676235600@gobatroun.com
SUMMARY:Ralph C and the Band at GreenHouse
DESCRIPTION:
URL:https://gobatroun.com/event/ralph-c-and-the-band-at-greenhouse/
LOCATION:Green House Batroun
CATEGORIES:Performing Arts
ATTACH;FMTTYPE=image/png:https://gobatroun.com/wp-content/uploads/2023/02/Screenshot-2716.png
END:VEVENT
BEGIN:VEVENT
DTSTART;TZID=Asia/Beirut:20230212T210000
DTEND;TZID=Asia/Beirut:20230212T220000
DTSTAMP:20260421T063019
CREATED:20230206T113202Z
LAST-MODIFIED:20230206T113202Z
UID:10001889-1676235600-1676239200@gobatroun.com
SUMMARY:Dj Bibb at 961 Loungebar
DESCRIPTION:Sunday 12/2/2023
URL:https://gobatroun.com/event/dj-bibb-at-961-loungebar/
LOCATION:961 Lounge bar
CATEGORIES:Performing Arts
ATTACH;FMTTYPE=image/png:https://gobatroun.com/wp-content/uploads/2023/02/Screenshot-27.png
END:VEVENT
BEGIN:VEVENT
DTSTART;VALUE=DATE:20230213
DTEND;VALUE=DATE:20230214
DTSTAMP:20260421T063019
CREATED:20230210T073551Z
LAST-MODIFIED:20230210T073551Z
UID:10001927-1676246400-1676332799@gobatroun.com
SUMMARY:Indian Night at Mayouli
DESCRIPTION:Spice up your Valentine’s celebration with a delicious dinner catered by @getgrilledlb 😉🥰 \n📅 Monday 13 January 2023\n🕧 Starting 6:00 PM \n💵 Prices: 50$ per couple\n60$ per couple wih a Wine\nBottle 🍷 \nLimited Seats available\nFor reservation: 71 000 516
URL:https://gobatroun.com/event/indian-night-at-mayouli/
LOCATION:Mayouli\, 7M88+PP Batroun\, Batroun\, Lebanon
CATEGORIES:Performing Arts
ATTACH;FMTTYPE=image/png:https://gobatroun.com/wp-content/uploads/2023/02/Screenshot-2718.png
GEO:34.266795819013;35.666856562531
X-APPLE-STRUCTURED-LOCATION;VALUE=URI;X-ADDRESS=Mayouli 7M88+PP Batroun Batroun Lebanon;X-APPLE-RADIUS=500;X-TITLE=7M88+PP Batroun:geo:35.666856562531,34.266795819013
END:VEVENT
BEGIN:VEVENT
DTSTART;VALUE=DATE:20230213
DTEND;VALUE=DATE:20230215
DTSTAMP:20260421T063019
CREATED:20230213T075524Z
LAST-MODIFIED:20230213T075524Z
UID:10001947-1676246400-1676419199@gobatroun.com
SUMMARY:Valentine's date at Bario67
DESCRIPTION:
URL:https://gobatroun.com/event/valentines-date-at-bario67/
LOCATION:Barrio67
CATEGORIES:Performing Arts
ATTACH;FMTTYPE=image/png:https://gobatroun.com/wp-content/uploads/2023/02/Screenshot-2733.png
END:VEVENT
END:VCALENDAR