BEGIN:VCALENDAR
VERSION:2.0
PRODID:-//Go Batroun - ECPv6.14.2//NONSGML v1.0//EN
CALSCALE:GREGORIAN
METHOD:PUBLISH
X-WR-CALNAME:Go Batroun
X-ORIGINAL-URL:https://gobatroun.com
X-WR-CALDESC:Events for Go Batroun
REFRESH-INTERVAL;VALUE=DURATION:PT1H
X-Robots-Tag:noindex
X-PUBLISHED-TTL:PT1H
BEGIN:VTIMEZONE
TZID:Asia/Beirut
BEGIN:DAYLIGHT
TZOFFSETFROM:+0200
TZOFFSETTO:+0300
TZNAME:EEST
DTSTART:20220326T220000
END:DAYLIGHT
BEGIN:STANDARD
TZOFFSETFROM:+0300
TZOFFSETTO:+0200
TZNAME:EET
DTSTART:20221029T210000
END:STANDARD
BEGIN:DAYLIGHT
TZOFFSETFROM:+0200
TZOFFSETTO:+0300
TZNAME:EEST
DTSTART:20230325T220000
END:DAYLIGHT
BEGIN:STANDARD
TZOFFSETFROM:+0300
TZOFFSETTO:+0200
TZNAME:EET
DTSTART:20231028T210000
END:STANDARD
END:VTIMEZONE
BEGIN:VEVENT
DTSTART;VALUE=DATE:20221201
DTEND;VALUE=DATE:20230110
DTSTAMP:20260422T030947
CREATED:20221201T112620Z
LAST-MODIFIED:20230418T124124Z
UID:10001603-1669874400-1673243999@gobatroun.com
SUMMARY:Christmas Market at Batroun
DESCRIPTION:Christmas is just around the corner! \nJoin us at our Christmas Market and support our local vendors while enjoying music\, food\, concerts and kids activities. \nStay tuned for our full schedule. \nAll our events are free of charge! \nLocation: Batroun old town \nSoft opening: Thursday\, December 1st \nGrand opening: Saturday\, December 3rd
URL:https://gobatroun.com/event/christmas-market-at-batroun/
LOCATION:Batroun old town
CATEGORIES:Festivals,Performing Arts
ATTACH;FMTTYPE=image/png:https://gobatroun.com/wp-content/uploads/2022/12/Screenshot-2137.png
END:VEVENT
BEGIN:VEVENT
DTSTART;TZID=Asia/Beirut:20221224T090000
DTEND;TZID=Asia/Beirut:20221224T103000
DTSTAMP:20260422T030947
CREATED:20221212T113353Z
LAST-MODIFIED:20221212T113353Z
UID:10001647-1671872400-1671877800@gobatroun.com
SUMMARY:Breakfast with Santa at Dream Ville
DESCRIPTION:Breakfast with Santa????\nIs that real???? \n🎅 Enjoy making and eating your crêpes with Santa at Dream Ville!!!\nTake instant photos and feel the Christmas vibes 🎶 🎄 \nReservation is a must!!\nWaiting for you hohohooo!!!
URL:https://gobatroun.com/event/breakfast-with-santa-at-dream-ville/
LOCATION:Dream Ville
CATEGORIES:Performing Arts
ATTACH;FMTTYPE=image/png:https://gobatroun.com/wp-content/uploads/2022/12/Screenshot-2233.png
END:VEVENT
BEGIN:VEVENT
DTSTART;TZID=Asia/Beirut:20221224T220000
DTEND;TZID=Asia/Beirut:20221224T220000
DTSTAMP:20260422T030947
CREATED:20221214T081919Z
LAST-MODIFIED:20221214T081919Z
UID:10001673-1671919200-1671919200@gobatroun.com
SUMMARY:Christmas Eve ft. Dj Excess at Merchak Bel Souk
DESCRIPTION:
URL:https://gobatroun.com/event/christmas-eve-ft-dj-excess-at-merchak-bel-souk/
LOCATION:Merchak بالسوق
CATEGORIES:Performing Arts
ATTACH;FMTTYPE=image/png:https://gobatroun.com/wp-content/uploads/2022/12/Screenshot-2260.png
END:VEVENT
BEGIN:VEVENT
DTSTART;TZID=Asia/Beirut:20221224T220000
DTEND;TZID=Asia/Beirut:20221224T220000
DTSTAMP:20260422T030947
CREATED:20221221T133601Z
LAST-MODIFIED:20221221T133601Z
UID:10001708-1671919200-1671919200@gobatroun.com
SUMMARY:DJ Bob at Barrio67
DESCRIPTION:
URL:https://gobatroun.com/event/dj-bob-at-barrio67-2/
LOCATION:Barrio67
CATEGORIES:Performing Arts
ATTACH;FMTTYPE=image/png:https://gobatroun.com/wp-content/uploads/2022/12/Screenshot-2308.png
END:VEVENT
BEGIN:VEVENT
DTSTART;TZID=Asia/Beirut:20221224T223000
DTEND;TZID=Asia/Beirut:20221224T223000
DTSTAMP:20260422T030947
CREATED:20221219T132802Z
LAST-MODIFIED:20221219T132802Z
UID:10001689-1671921000-1671921000@gobatroun.com
SUMMARY:Borhan at TAIGA BATROUN CLUB
DESCRIPTION:TaiGa Batroun Every Weekend!\nThis Saturday Night 🍸\n#Borhan on Stage #DjRalph\nNew Hit 3am Faker sah\n#TaiGa #Batroun #Lebanon\n#Reserve On 00961 3499408
URL:https://gobatroun.com/event/borhan-at-taiga-batroun-club-15/
LOCATION:TAIGA BATROUN CLUB\, 7M46+23 Batroun\, Batroun\, Lebanon
CATEGORIES:Performing Arts
ATTACH;FMTTYPE=image/png:https://gobatroun.com/wp-content/uploads/2022/12/Screenshot-2285.png
GEO:34.255082353874;35.660243950604
X-APPLE-STRUCTURED-LOCATION;VALUE=URI;X-ADDRESS=TAIGA BATROUN CLUB 7M46+23 Batroun Batroun Lebanon;X-APPLE-RADIUS=500;X-TITLE=7M46+23 Batroun:geo:35.660243950604,34.255082353874
END:VEVENT
END:VCALENDAR