BEGIN:VCALENDAR
VERSION:2.0
PRODID:-//Go Batroun - ECPv6.14.2//NONSGML v1.0//EN
CALSCALE:GREGORIAN
METHOD:PUBLISH
X-ORIGINAL-URL:https://gobatroun.com
X-WR-CALDESC:Events for Go Batroun
REFRESH-INTERVAL;VALUE=DURATION:PT1H
X-Robots-Tag:noindex
X-PUBLISHED-TTL:PT1H
BEGIN:VTIMEZONE
TZID:Asia/Beirut
BEGIN:DAYLIGHT
TZOFFSETFROM:+0200
TZOFFSETTO:+0300
TZNAME:EEST
DTSTART:20220326T220000
END:DAYLIGHT
BEGIN:STANDARD
TZOFFSETFROM:+0300
TZOFFSETTO:+0200
TZNAME:EET
DTSTART:20221029T210000
END:STANDARD
BEGIN:DAYLIGHT
TZOFFSETFROM:+0200
TZOFFSETTO:+0300
TZNAME:EEST
DTSTART:20230325T220000
END:DAYLIGHT
BEGIN:STANDARD
TZOFFSETFROM:+0300
TZOFFSETTO:+0200
TZNAME:EET
DTSTART:20231028T210000
END:STANDARD
END:VTIMEZONE
BEGIN:VEVENT
DTSTART;VALUE=DATE:20221201
DTEND;VALUE=DATE:20230110
DTSTAMP:20260421T132211
CREATED:20221201T112620Z
LAST-MODIFIED:20230418T124124Z
UID:10001603-1669874400-1673243999@gobatroun.com
SUMMARY:Christmas Market at Batroun
DESCRIPTION:Christmas is just around the corner! \nJoin us at our Christmas Market and support our local vendors while enjoying music\, food\, concerts and kids activities. \nStay tuned for our full schedule. \nAll our events are free of charge! \nLocation: Batroun old town \nSoft opening: Thursday\, December 1st \nGrand opening: Saturday\, December 3rd
URL:https://gobatroun.com/event/christmas-market-at-batroun/
LOCATION:Batroun old town
CATEGORIES:Festivals,Performing Arts
ATTACH;FMTTYPE=image/png:https://gobatroun.com/wp-content/uploads/2022/12/Screenshot-2137.png
END:VEVENT
BEGIN:VEVENT
DTSTART;VALUE=DATE:20221202
DTEND;VALUE=DATE:20221224
DTSTAMP:20260421T132211
CREATED:20221126T131714Z
LAST-MODIFIED:20221126T131715Z
UID:10001584-1669939200-1671839999@gobatroun.com
SUMMARY:Christmas at the Dar
DESCRIPTION:🎄Join us during the month of December for our annual *Christmas at the Dar* fair in the beautiful Dar al Mona\, Batroun. \n🎁 Meet a unique selection of local artisans and designers\, and start your Christmas shopping early! \n🗓 Dec 02-04 / 09-11 / 16-18 / 21-23 \n⏱ 04:00 – 10:00 pm \n📍 Dar al Mona\, Batroun \n  \nWishing you happy holidays! 🎅
URL:https://gobatroun.com/event/christmas-at-the-dar/
LOCATION:Dar El Mona
CATEGORIES:Festivals,Performing Arts
ATTACH;FMTTYPE=image/jpeg:https://gobatroun.com/wp-content/uploads/2022/11/IMG-20221126-WA0021.jpg
END:VEVENT
BEGIN:VEVENT
DTSTART;TZID=Asia/Beirut:20221223T150000
DTEND;TZID=Asia/Beirut:20221223T170000
DTSTAMP:20260421T132211
CREATED:20221221T132032Z
LAST-MODIFIED:20221221T132032Z
UID:10001702-1671807600-1671814800@gobatroun.com
SUMMARY:Kfaraabida Christmas Event
DESCRIPTION:#join the #christmas #fun this #friday 23rd #december in
URL:https://gobatroun.com/event/kfaraabida-christmas-event/
LOCATION:Kfarabida
CATEGORIES:Performing Arts
ATTACH;FMTTYPE=image/png:https://gobatroun.com/wp-content/uploads/2022/12/Screenshot-2305.png
END:VEVENT
BEGIN:VEVENT
DTSTART;TZID=Asia/Beirut:20221223T153000
DTEND;TZID=Asia/Beirut:20221223T170000
DTSTAMP:20260421T132211
CREATED:20221222T130200Z
LAST-MODIFIED:20221222T130200Z
UID:10001709-1671809400-1671814800@gobatroun.com
SUMMARY:Santa in His Helicopter
DESCRIPTION:Get ready! Santa will fly over Batroûn Capitale de Noêl in his helicopter this Friday December 23rd at 3:30pm to distribute Christmas Gifts! \nFull details on Lebtivity.com
URL:https://gobatroun.com/event/santa-in-his-helicopter/
LOCATION:Batroun\, 6MX6+79V Batroun\, Batroun\, 1400\, Lebanon
CATEGORIES:Festivals,Performing Arts
ATTACH;FMTTYPE=image/png:https://gobatroun.com/wp-content/uploads/2022/12/Screenshot-1.png
GEO:34.248237811542;35.660916328184
X-APPLE-STRUCTURED-LOCATION;VALUE=URI;X-ADDRESS=Batroun 6MX6+79V Batroun Batroun 1400 Lebanon;X-APPLE-RADIUS=500;X-TITLE=6MX6+79V Batroun:geo:35.660916328184,34.248237811542
END:VEVENT
BEGIN:VEVENT
DTSTART;TZID=Asia/Beirut:20221223T210000
DTEND;TZID=Asia/Beirut:20221223T210000
DTSTAMP:20260421T132211
CREATED:20221214T081725Z
LAST-MODIFIED:20221214T081725Z
UID:10001672-1671829200-1671829200@gobatroun.com
SUMMARY:Dj Pia at Merchak Bel Souk
DESCRIPTION:
URL:https://gobatroun.com/event/dj-pia-at-merchak-bel-souk/
LOCATION:Merchak بالسوق
CATEGORIES:Performing Arts
ATTACH;FMTTYPE=image/png:https://gobatroun.com/wp-content/uploads/2022/12/Screenshot-2260.png
END:VEVENT
BEGIN:VEVENT
DTSTART;TZID=Asia/Beirut:20221223T210000
DTEND;TZID=Asia/Beirut:20221223T210000
DTSTAMP:20260421T132211
CREATED:20221220T111106Z
LAST-MODIFIED:20221220T111106Z
UID:10001691-1671829200-1671829200@gobatroun.com
SUMMARY:Allo Beirut Band and Maher at Tramway Batroun
DESCRIPTION:Join us this Friday December 23 with “Allo Beirut Band & Maher” at Tramway Batroun Ft. @dj_chub_official\nFor reservations call us on 📲 03 51 41 01\nor WhatsApp us on ➡️ https://wa.link/4z3wsz\n.\n✅Valet Parking Service available\n🕘 starting 9 p.m\n@allo.beirutband
URL:https://gobatroun.com/event/allo-beirut-band-and-maher-at-tramway-batroun/
LOCATION:Tramway Gastro Pub\, 7M45+CQ Batroun\, Batroun\, Lebanon
CATEGORIES:Performing Arts
ATTACH;FMTTYPE=image/png:https://gobatroun.com/wp-content/uploads/2022/12/Screenshot-2291.png
END:VEVENT
BEGIN:VEVENT
DTSTART;TZID=Asia/Beirut:20221223T210000
DTEND;TZID=Asia/Beirut:20221223T210000
DTSTAMP:20260421T132211
CREATED:20221221T073103Z
LAST-MODIFIED:20221221T073103Z
UID:10001696-1671829200-1671829200@gobatroun.com
SUMMARY:Danton Attieh at Green House
DESCRIPTION:This Friday we celebrate early Christmas with Danton Attieh starting 9:00 pm\nFa la la la 🎄🦌⛄\nOpening hours\nmid week 03:00 pm\nWeekend 11:30 am\n____________________________\nBooking on 70 125 310
URL:https://gobatroun.com/event/danton-attieh-at-green-house-2/
LOCATION:Green House Batroun
CATEGORIES:Performing Arts
ATTACH;FMTTYPE=image/png:https://gobatroun.com/wp-content/uploads/2022/12/Screenshot-2296.png
END:VEVENT
BEGIN:VEVENT
DTSTART;TZID=Asia/Beirut:20221223T210000
DTEND;TZID=Asia/Beirut:20221223T210000
DTSTAMP:20260421T132211
CREATED:20221221T132333Z
LAST-MODIFIED:20221221T132333Z
UID:10001703-1671829200-1671829200@gobatroun.com
SUMMARY:Anamel at Barrio67
DESCRIPTION:Live performance by @anamel a techno band on Friday 23 December at our stage 🎛️ \nBand charge 200 000 LBP
URL:https://gobatroun.com/event/anamel-at-barrio67/
LOCATION:Barrio67
CATEGORIES:Performing Arts
ATTACH;FMTTYPE=image/png:https://gobatroun.com/wp-content/uploads/2022/12/Screenshot-2306.png
END:VEVENT
BEGIN:VEVENT
DTSTART;TZID=Asia/Beirut:20221223T220000
DTEND;TZID=Asia/Beirut:20221223T220000
DTSTAMP:20260421T132211
CREATED:20221214T075807Z
LAST-MODIFIED:20221221T083407Z
UID:10001663-1671832800-1671832800@gobatroun.com
SUMMARY:Carlos at Léyl
DESCRIPTION:
URL:https://gobatroun.com/event/carlos-at-leyl/
LOCATION:Xlounge Batroun
CATEGORIES:Performing Arts
ATTACH;FMTTYPE=image/png:https://gobatroun.com/wp-content/uploads/2022/12/Screenshot-2301.png
END:VEVENT
BEGIN:VEVENT
DTSTART;TZID=Asia/Beirut:20221223T220000
DTEND;TZID=Asia/Beirut:20221223T220000
DTSTAMP:20260421T132211
CREATED:20221219T132557Z
LAST-MODIFIED:20221219T132557Z
UID:10001688-1671832800-1671832800@gobatroun.com
SUMMARY:Jawad at TAIGA BATROUN CLUB
DESCRIPTION:TaiGa Batroun Every Weekend!\nThis Friday Night 🍸\n#Jawad on Stage #DjRalph\n#TaiGa #Batroun #Lebanon\n#Reserve On 00961 3499408
URL:https://gobatroun.com/event/jawad-at-taiga-batroun-club-13/
LOCATION:TAIGA BATROUN CLUB\, 7M46+23 Batroun\, Batroun\, Lebanon
CATEGORIES:Performing Arts
ATTACH;FMTTYPE=image/png:https://gobatroun.com/wp-content/uploads/2022/12/Screenshot-2284.png
GEO:34.255082353874;35.660243950604
X-APPLE-STRUCTURED-LOCATION;VALUE=URI;X-ADDRESS=TAIGA BATROUN CLUB 7M46+23 Batroun Batroun Lebanon;X-APPLE-RADIUS=500;X-TITLE=7M46+23 Batroun:geo:35.660243950604,34.255082353874
END:VEVENT
BEGIN:VEVENT
DTSTART;TZID=Asia/Beirut:20221223T220000
DTEND;TZID=Asia/Beirut:20221223T220000
DTSTAMP:20260421T132211
CREATED:20221220T112111Z
LAST-MODIFIED:20221220T112111Z
UID:10001693-1671832800-1671832800@gobatroun.com
SUMMARY:Kayy The Return at Void
DESCRIPTION:
URL:https://gobatroun.com/event/kayy-the-return-at-void/
LOCATION:Void Nightclub
CATEGORIES:Performing Arts
ATTACH;FMTTYPE=image/png:https://gobatroun.com/wp-content/uploads/2022/12/Screenshot-2293.png
END:VEVENT
BEGIN:VEVENT
DTSTART;TZID=Asia/Beirut:20221223T220000
DTEND;TZID=Asia/Beirut:20221223T220000
DTSTAMP:20260421T132211
CREATED:20221221T080153Z
LAST-MODIFIED:20221221T080153Z
UID:10001698-1671832800-1671832800@gobatroun.com
SUMMARY:The Rays Featuring Nidal Saxophone at Cheers
DESCRIPTION:
URL:https://gobatroun.com/event/the-rays-featuring-nidal-saxophone-at-cheers-2/
LOCATION:Cheers
CATEGORIES:Performing Arts
ATTACH;FMTTYPE=image/png:https://gobatroun.com/wp-content/uploads/2022/10/Screenshot-1990.png
END:VEVENT
BEGIN:VEVENT
DTSTART;TZID=Asia/Beirut:20221224T043000
DTEND;TZID=Asia/Beirut:20221224T043000
DTSTAMP:20260421T132211
CREATED:20221219T131422Z
LAST-MODIFIED:20221219T131422Z
UID:10001685-1671856200-1671856200@gobatroun.com
SUMMARY:Pleasant Lunch with DJ CHUB at Tramway
DESCRIPTION:For reservations call us on 📲 03 51 41 01\nor WhatsApp us on ➡️ https://wa.link/4z3wsz\n✅Valet Parking
URL:https://gobatroun.com/event/pleasant-lunch-with-dj-chub-at-tramway/
LOCATION:Tramway Gastro Pub\, 7M45+CQ Batroun\, Batroun\, Lebanon
CATEGORIES:Performing Arts
ATTACH;FMTTYPE=image/png:https://gobatroun.com/wp-content/uploads/2022/12/Screenshot-2281.png
END:VEVENT
END:VCALENDAR