BEGIN:VCALENDAR
VERSION:2.0
PRODID:-//Go Batroun - ECPv6.14.2//NONSGML v1.0//EN
CALSCALE:GREGORIAN
METHOD:PUBLISH
X-WR-CALNAME:Go Batroun
X-ORIGINAL-URL:https://gobatroun.com
X-WR-CALDESC:Events for Go Batroun
REFRESH-INTERVAL;VALUE=DURATION:PT1H
X-Robots-Tag:noindex
X-PUBLISHED-TTL:PT1H
BEGIN:VTIMEZONE
TZID:Asia/Beirut
BEGIN:DAYLIGHT
TZOFFSETFROM:+0200
TZOFFSETTO:+0300
TZNAME:EEST
DTSTART:20220326T220000
END:DAYLIGHT
BEGIN:STANDARD
TZOFFSETFROM:+0300
TZOFFSETTO:+0200
TZNAME:EET
DTSTART:20221029T210000
END:STANDARD
BEGIN:DAYLIGHT
TZOFFSETFROM:+0200
TZOFFSETTO:+0300
TZNAME:EEST
DTSTART:20230325T220000
END:DAYLIGHT
BEGIN:STANDARD
TZOFFSETFROM:+0300
TZOFFSETTO:+0200
TZNAME:EET
DTSTART:20231028T210000
END:STANDARD
END:VTIMEZONE
BEGIN:VEVENT
DTSTART;VALUE=DATE:20221201
DTEND;VALUE=DATE:20230110
DTSTAMP:20260420T060536
CREATED:20221201T112620Z
LAST-MODIFIED:20230418T124124Z
UID:10001603-1669874400-1673243999@gobatroun.com
SUMMARY:Christmas Market at Batroun
DESCRIPTION:Christmas is just around the corner! \nJoin us at our Christmas Market and support our local vendors while enjoying music\, food\, concerts and kids activities. \nStay tuned for our full schedule. \nAll our events are free of charge! \nLocation: Batroun old town \nSoft opening: Thursday\, December 1st \nGrand opening: Saturday\, December 3rd
URL:https://gobatroun.com/event/christmas-market-at-batroun/
LOCATION:Batroun old town
CATEGORIES:Festivals,Performing Arts
ATTACH;FMTTYPE=image/png:https://gobatroun.com/wp-content/uploads/2022/12/Screenshot-2137.png
END:VEVENT
BEGIN:VEVENT
DTSTART;VALUE=DATE:20221202
DTEND;VALUE=DATE:20221224
DTSTAMP:20260420T060536
CREATED:20221126T131714Z
LAST-MODIFIED:20221126T131715Z
UID:10001584-1669939200-1671839999@gobatroun.com
SUMMARY:Christmas at the Dar
DESCRIPTION:🎄Join us during the month of December for our annual *Christmas at the Dar* fair in the beautiful Dar al Mona\, Batroun. \n🎁 Meet a unique selection of local artisans and designers\, and start your Christmas shopping early! \n🗓 Dec 02-04 / 09-11 / 16-18 / 21-23 \n⏱ 04:00 – 10:00 pm \n📍 Dar al Mona\, Batroun \n  \nWishing you happy holidays! 🎅
URL:https://gobatroun.com/event/christmas-at-the-dar/
LOCATION:Dar El Mona
CATEGORIES:Festivals,Performing Arts
ATTACH;FMTTYPE=image/jpeg:https://gobatroun.com/wp-content/uploads/2022/11/IMG-20221126-WA0021.jpg
END:VEVENT
BEGIN:VEVENT
DTSTART;TZID=Asia/Beirut:20221221T080000
DTEND;TZID=Asia/Beirut:20221221T170000
DTSTAMP:20260420T060536
CREATED:20221221T083235Z
LAST-MODIFIED:20221221T083235Z
UID:10001701-1671609600-1671642000@gobatroun.com
SUMMARY:Dj Nina at Temple
DESCRIPTION:Hype up & Turn on your Christmas celebrations with us at @temple Batroun on Friday\, the 23rd of December \nWe promise you will eat & drink the best Asian   &   tailored especially for this night. \nAn    is waiting for you \nFor \,  81003013
URL:https://gobatroun.com/event/dj-nina-at-temple/
LOCATION:Temple
CATEGORIES:Performing Arts
ATTACH;FMTTYPE=image/png:https://gobatroun.com/wp-content/uploads/2022/12/Screenshot-2300.png
END:VEVENT
BEGIN:VEVENT
DTSTART;TZID=Asia/Beirut:20221221T193000
DTEND;TZID=Asia/Beirut:20221221T193000
DTSTAMP:20260420T060536
CREATED:20221219T094656Z
LAST-MODIFIED:20221219T094656Z
UID:10001579-1671651000-1671651000@gobatroun.com
SUMMARY:ريسيتال أغاني ميلادية
DESCRIPTION:موعدنا معكن متل كل سنة بريسيتال لجوقة بيت الفن والثقافة-البترون … بكاتدرائية مار اسطفان البترون الاريعاء ٢١ كانون الأول الساعة ٧.٣٠\nناطرينكن لحتى نصلي ونغني سوى ونعيش روح الميلاد اكتر واكتر واكتر…
URL:https://gobatroun.com/event/%d8%b1%d9%8a%d8%b3%d9%8a%d8%aa%d8%a7%d9%84-%d8%a3%d8%ba%d8%a7%d9%86%d9%8a-%d9%85%d9%8a%d9%84%d8%a7%d8%af%d9%8a%d8%a9/
LOCATION:Mar Estfan
CATEGORIES:Performing Arts
ATTACH;FMTTYPE=image/png:https://gobatroun.com/wp-content/uploads/2022/11/Screenshot-2276.png
END:VEVENT
BEGIN:VEVENT
DTSTART;TZID=Asia/Beirut:20221221T210000
DTEND;TZID=Asia/Beirut:20221221T210000
DTSTAMP:20260420T060536
CREATED:20221214T081225Z
LAST-MODIFIED:20221214T081225Z
UID:10001669-1671656400-1671656400@gobatroun.com
SUMMARY:Cheese & Wine night at Merchak Bel Souk
DESCRIPTION:Bringing you the best of December Nights! Come down for a Cheese & Wine night every Wednesday at Merchak Bel Souk 🍷\nTo RSVP: 📱 76 666 151
URL:https://gobatroun.com/event/cheese-wine-night-at-merchak-bel-souk-2/
LOCATION:Merchak بالسوق
CATEGORIES:Performing Arts
ATTACH;FMTTYPE=image/png:https://gobatroun.com/wp-content/uploads/2022/12/Screenshot-2218.png
END:VEVENT
BEGIN:VEVENT
DTSTART;TZID=Asia/Beirut:20221221T220000
DTEND;TZID=Asia/Beirut:20221221T220000
DTSTAMP:20260420T060536
CREATED:20221221T080140Z
LAST-MODIFIED:20221221T080140Z
UID:10001697-1671660000-1671660000@gobatroun.com
SUMMARY:Stephan Roukos at Cheers
DESCRIPTION:
URL:https://gobatroun.com/event/stephan-roukos-at-cheers-3/
LOCATION:Cheers
CATEGORIES:Performing Arts
ATTACH;FMTTYPE=image/png:https://gobatroun.com/wp-content/uploads/2022/12/Screenshot-2158.png
END:VEVENT
BEGIN:VEVENT
DTSTART;TZID=Asia/Beirut:20221221T220000
DTEND;TZID=Asia/Beirut:20221221T220000
DTSTAMP:20260420T060536
CREATED:20221221T133215Z
LAST-MODIFIED:20221221T133215Z
UID:10001705-1671660000-1671660000@gobatroun.com
SUMMARY:DJ Bob at Barrio67
DESCRIPTION:
URL:https://gobatroun.com/event/dj-bob-at-barrio67/
LOCATION:Barrio67
CATEGORIES:Performing Arts
ATTACH;FMTTYPE=image/png:https://gobatroun.com/wp-content/uploads/2022/12/Screenshot-2308.png
END:VEVENT
END:VCALENDAR