BEGIN:VCALENDAR
VERSION:2.0
PRODID:-//Go Batroun - ECPv6.14.2//NONSGML v1.0//EN
CALSCALE:GREGORIAN
METHOD:PUBLISH
X-ORIGINAL-URL:https://gobatroun.com
X-WR-CALDESC:Events for Go Batroun
REFRESH-INTERVAL;VALUE=DURATION:PT1H
X-Robots-Tag:noindex
X-PUBLISHED-TTL:PT1H
BEGIN:VTIMEZONE
TZID:Asia/Beirut
BEGIN:DAYLIGHT
TZOFFSETFROM:+0200
TZOFFSETTO:+0300
TZNAME:EEST
DTSTART:20220326T220000
END:DAYLIGHT
BEGIN:STANDARD
TZOFFSETFROM:+0300
TZOFFSETTO:+0200
TZNAME:EET
DTSTART:20221029T210000
END:STANDARD
END:VTIMEZONE
BEGIN:VEVENT
DTSTART;TZID=Asia/Beirut:20221126T110000
DTEND;TZID=Asia/Beirut:20221126T170000
DTSTAMP:20260425T072300
CREATED:20221114T124234Z
LAST-MODIFIED:20221114T124234Z
UID:10001560-1669460400-1669482000@gobatroun.com
SUMMARY:The Inauguration of NABU's Exhibition
DESCRIPTION:Under the Patronage & Presence of the Minister of Culture\,\nJudge Mohammad Wissam Al-Mortada\nWe are pleased to invite you to the inauguration of NABU’s exhibition
URL:https://gobatroun.com/event/the-inauguration-of-nabus-exhibition/
LOCATION:NABU Museum
CATEGORIES:Performing Arts
ATTACH;FMTTYPE=image/png:https://gobatroun.com/wp-content/uploads/2022/11/Screenshot-2075.png
END:VEVENT
BEGIN:VEVENT
DTSTART;TZID=Asia/Beirut:20221126T180000
DTEND;TZID=Asia/Beirut:20221126T180000
DTSTAMP:20260425T072300
CREATED:20221123T075315Z
LAST-MODIFIED:20221123T075315Z
UID:10001578-1669485600-1669485600@gobatroun.com
SUMMARY:WINE TASTING COURSE at Mayouli
DESCRIPTION:WINE TASTING COURSE 🍷 \n“Being an amateur wine snob” \nWith Mirvat Sarkis @mirvats \nit’s happening again this Saturday!🤩 \nWe are introducing a new winery @lesvignesdumarje \n📆 Saturday 26 November 2022\n🕕Starting 6:00 PM \n🔴The following will be covered : \n▶️Basic hints to identify a wine\nfrom the color\, smell & taste \n▶️What kind of grapes for\nwhich kind of wine \n▶️The keys to ordering wine at the\nrestaurant and the food pairing \n▶️Golden tips\, to preserve\nthe wine & how to serve it \n💵 Course contribution: 15$ \n🔴Optional:\nFollowed by Cheese and wine 🧀🍷‬ \n🎟Limited Seats available\n‪For Reservation:‬ +961 71 000 516
URL:https://gobatroun.com/event/wine-tasting-course-at-mayouli-2/
LOCATION:Mayouli\, 7M88+PP Batroun\, Batroun\, Lebanon
CATEGORIES:Performing Arts
ATTACH;FMTTYPE=image/png:https://gobatroun.com/wp-content/uploads/2022/11/Screenshot-2103.png
GEO:34.266795819013;35.666856562531
X-APPLE-STRUCTURED-LOCATION;VALUE=URI;X-ADDRESS=Mayouli 7M88+PP Batroun Batroun Lebanon;X-APPLE-RADIUS=500;X-TITLE=7M88+PP Batroun:geo:35.666856562531,34.266795819013
END:VEVENT
BEGIN:VEVENT
DTSTART;TZID=Asia/Beirut:20221126T210000
DTEND;TZID=Asia/Beirut:20221126T210000
DTSTAMP:20260425T072300
CREATED:20221121T072833Z
LAST-MODIFIED:20221121T072833Z
UID:10001530-1669496400-1669496400@gobatroun.com
SUMMARY:Ralph C at Green House
DESCRIPTION:This Saturday live music with @ralphcmusic \nRsvp 70125 310
URL:https://gobatroun.com/event/ralph-c-at-green-house/
LOCATION:Green House Batroun
CATEGORIES:Performing Arts
ATTACH;FMTTYPE=image/png:https://gobatroun.com/wp-content/uploads/2022/11/Screenshot-2094.png
END:VEVENT
BEGIN:VEVENT
DTSTART;TZID=Asia/Beirut:20221126T210000
DTEND;TZID=Asia/Beirut:20221126T210000
DTSTAMP:20260425T072300
CREATED:20221123T073402Z
LAST-MODIFIED:20221123T073402Z
UID:10001569-1669496400-1669496400@gobatroun.com
SUMMARY:Rashid Al Najjar at Tramway Batroun
DESCRIPTION:Join us this Saturday the 26th of November with Rashid Al Najjar at Tramway Batroun Ft. @dj_chub_official\nFor reservations 📲 03 51 41 01\nhttps://wa.link/4z3wsz\n✅Valet Parking\n🕘 starting 9 p.m
URL:https://gobatroun.com/event/rashid-al-najjar-at-tramway-batroun-16/
LOCATION:Tramway Gastro Pub\, 7M45+CQ Batroun\, Batroun\, Lebanon
CATEGORIES:Performing Arts
ATTACH;FMTTYPE=image/png:https://gobatroun.com/wp-content/uploads/2022/11/Screenshot-2099.png
END:VEVENT
BEGIN:VEVENT
DTSTART;TZID=Asia/Beirut:20221126T210000
DTEND;TZID=Asia/Beirut:20221126T210000
DTSTAMP:20260425T072300
CREATED:20221123T073824Z
LAST-MODIFIED:20221123T073824Z
UID:10001571-1669496400-1669496400@gobatroun.com
SUMMARY:Dj Solvador at Cheers
DESCRIPTION:
URL:https://gobatroun.com/event/dj-solvador-at-cheers-8/
LOCATION:Cheers
CATEGORIES:Performing Arts
ATTACH;FMTTYPE=image/png:https://gobatroun.com/wp-content/uploads/2022/10/Screenshot-1836.png
END:VEVENT
BEGIN:VEVENT
DTSTART;TZID=Asia/Beirut:20221126T220000
DTEND;TZID=Asia/Beirut:20221126T220000
DTSTAMP:20260425T072300
CREATED:20221124T110821Z
LAST-MODIFIED:20221124T110821Z
UID:10001581-1669500000-1669500000@gobatroun.com
SUMMARY:Dj Bibb and Dj Mc-H at Void
DESCRIPTION:
URL:https://gobatroun.com/event/dj-bibb-and-dj-mc-h-at-void-2/
LOCATION:Void Nightclub
CATEGORIES:Performing Arts
ATTACH;FMTTYPE=image/png:https://gobatroun.com/wp-content/uploads/2022/11/Screenshot-2107.png
END:VEVENT
BEGIN:VEVENT
DTSTART;TZID=Asia/Beirut:20221126T223000
DTEND;TZID=Asia/Beirut:20221126T223000
DTSTAMP:20260425T072300
CREATED:20221121T111147Z
LAST-MODIFIED:20221121T111147Z
UID:10001404-1669501800-1669501800@gobatroun.com
SUMMARY:Dj Ihab at Merchak بالسوق
DESCRIPTION:
URL:https://gobatroun.com/event/dj-ihab-at-merchak-%d8%a8%d8%a7%d9%84%d8%b3%d9%88%d9%82-3/
LOCATION:Merchak بالسوق
CATEGORIES:Performing Arts
ATTACH;FMTTYPE=image/png:https://gobatroun.com/wp-content/uploads/2022/11/Screenshot-2053.png
END:VEVENT
BEGIN:VEVENT
DTSTART;TZID=Asia/Beirut:20221126T223000
DTEND;TZID=Asia/Beirut:20221126T223000
DTSTAMP:20260425T072300
CREATED:20221123T074235Z
LAST-MODIFIED:20221123T074235Z
UID:10001574-1669501800-1669501800@gobatroun.com
SUMMARY:Borhan at TAIGA BATROUN CLUB
DESCRIPTION:Taiga Batroun Every Weekend!\nThis Saturday Night 🍸\n#Borhan on Stage #DjRalph\nNew Hit 3am Faker sah\n#TaiGa #Batroun #Lebanon\n#Reserve On 00961 3499408
URL:https://gobatroun.com/event/borhan-at-taiga-batroun-club-11/
LOCATION:TAIGA BATROUN CLUB\, 7M46+23 Batroun\, Batroun\, Lebanon
CATEGORIES:Performing Arts
ATTACH;FMTTYPE=image/png:https://gobatroun.com/wp-content/uploads/2022/10/Screenshot-1938.png
GEO:34.255082353874;35.660243950604
X-APPLE-STRUCTURED-LOCATION;VALUE=URI;X-ADDRESS=TAIGA BATROUN CLUB 7M46+23 Batroun Batroun Lebanon;X-APPLE-RADIUS=500;X-TITLE=7M46+23 Batroun:geo:35.660243950604,34.255082353874
END:VEVENT
END:VCALENDAR