BEGIN:VCALENDAR
VERSION:2.0
PRODID:-//Go Batroun - ECPv6.14.2//NONSGML v1.0//EN
CALSCALE:GREGORIAN
METHOD:PUBLISH
X-ORIGINAL-URL:https://gobatroun.com
X-WR-CALDESC:Events for Go Batroun
REFRESH-INTERVAL;VALUE=DURATION:PT1H
X-Robots-Tag:noindex
X-PUBLISHED-TTL:PT1H
BEGIN:VTIMEZONE
TZID:Asia/Beirut
BEGIN:DAYLIGHT
TZOFFSETFROM:+0200
TZOFFSETTO:+0300
TZNAME:EEST
DTSTART:20220326T220000
END:DAYLIGHT
BEGIN:STANDARD
TZOFFSETFROM:+0300
TZOFFSETTO:+0200
TZNAME:EET
DTSTART:20221029T210000
END:STANDARD
END:VTIMEZONE
BEGIN:VEVENT
DTSTART;TZID=Asia/Beirut:20221125T150000
DTEND;TZID=Asia/Beirut:20221125T170000
DTSTAMP:20260422T004247
CREATED:20221123T103310Z
LAST-MODIFIED:20221123T114857Z
UID:10001580-1669388400-1669395600@gobatroun.com
SUMMARY:Macrame workshop at Kids Factory
DESCRIPTION:The trendiest art is finally here✨ This one-of-a-kind Macrame workshop is designed for All Ages starting 6 years old\, it could be you and/or your kids😍 \nYou will learn to create beautiful projects while enjoying a much-needed calm and creative time. Book your spot now on 71599262 💖
URL:https://gobatroun.com/event/macrame-workshop-at-kids-factory/
LOCATION:Kids Factory\, 7M45+MGJ Batroun\, Batroun\, Lebanon
CATEGORIES:Performing Arts
ATTACH;FMTTYPE=image/png:https://gobatroun.com/wp-content/uploads/2022/11/Screenshot-2105.png
END:VEVENT
BEGIN:VEVENT
DTSTART;TZID=Asia/Beirut:20221125T210000
DTEND;TZID=Asia/Beirut:20221125T210000
DTSTAMP:20260422T004247
CREATED:20221123T074122Z
LAST-MODIFIED:20221123T074122Z
UID:10001573-1669410000-1669410000@gobatroun.com
SUMMARY:the Opening of Cheers New Edition
DESCRIPTION:Join us to Celebrate the Opening of Cheers New Edition.\nCheering the evening With @michaandtheband @nadimchemalyofficial \nOur New Edition is ideal for your Private Parties\, Celebrations\, and special events. \nBook your table on 81/162.742.\nWelcome drinks on the house!
URL:https://gobatroun.com/event/the-opening-of-cheers-new-edition/
LOCATION:Cheers
CATEGORIES:Performing Arts
ATTACH;FMTTYPE=image/png:https://gobatroun.com/wp-content/uploads/2022/11/Screenshot-2100.png
END:VEVENT
BEGIN:VEVENT
DTSTART;TZID=Asia/Beirut:20221125T220000
DTEND;TZID=Asia/Beirut:20221125T220000
DTSTAMP:20260422T004247
CREATED:20221121T111314Z
LAST-MODIFIED:20221121T111314Z
UID:10001376-1669413600-1669413600@gobatroun.com
SUMMARY:Dj Samix at Merchak بالسوق
DESCRIPTION:
URL:https://gobatroun.com/event/dj-samix-at-merchak-%d8%a8%d8%a7%d9%84%d8%b3%d9%88%d9%82-4/
LOCATION:Merchak بالسوق
CATEGORIES:Performing Arts
ATTACH;FMTTYPE=image/png:https://gobatroun.com/wp-content/uploads/2022/11/Screenshot-2053.png
END:VEVENT
BEGIN:VEVENT
DTSTART;TZID=Asia/Beirut:20221125T220000
DTEND;TZID=Asia/Beirut:20221125T220000
DTSTAMP:20260422T004247
CREATED:20221123T074243Z
LAST-MODIFIED:20221123T074244Z
UID:10001575-1669413600-1669413600@gobatroun.com
SUMMARY:Jawad at TAIGA BATROUN CLUB
DESCRIPTION:Taiga Batroun Every Weekend!\nThis Friday Night 🍸\n#Jawad on Stage #DjRalph\n#TaiGa #Batroun #Lebanon\n#Reserve On 00961 3499408
URL:https://gobatroun.com/event/jawad-at-taiga-batroun-club-9/
LOCATION:TAIGA BATROUN CLUB\, 7M46+23 Batroun\, Batroun\, Lebanon
CATEGORIES:Performing Arts
ATTACH;FMTTYPE=image/png:https://gobatroun.com/wp-content/uploads/2022/11/Screenshot-2078.png
GEO:34.255082353874;35.660243950604
X-APPLE-STRUCTURED-LOCATION;VALUE=URI;X-ADDRESS=TAIGA BATROUN CLUB 7M46+23 Batroun Batroun Lebanon;X-APPLE-RADIUS=500;X-TITLE=7M46+23 Batroun:geo:35.660243950604,34.255082353874
END:VEVENT
BEGIN:VEVENT
DTSTART;TZID=Asia/Beirut:20221125T220000
DTEND;TZID=Asia/Beirut:20221125T220000
DTSTAMP:20260422T004247
CREATED:20221123T074506Z
LAST-MODIFIED:20221123T074506Z
UID:10001576-1669413600-1669413600@gobatroun.com
SUMMARY:Dj T-Mak at Void
DESCRIPTION:
URL:https://gobatroun.com/event/dj-t-mak-at-void/
LOCATION:Void Nightclub
CATEGORIES:Performing Arts
ATTACH;FMTTYPE=image/png:https://gobatroun.com/wp-content/uploads/2022/11/Screenshot-2101.png
END:VEVENT
END:VCALENDAR