BEGIN:VCALENDAR
VERSION:2.0
PRODID:-//Go Batroun - ECPv6.14.2//NONSGML v1.0//EN
CALSCALE:GREGORIAN
METHOD:PUBLISH
X-WR-CALNAME:Go Batroun
X-ORIGINAL-URL:https://gobatroun.com
X-WR-CALDESC:Events for Go Batroun
REFRESH-INTERVAL;VALUE=DURATION:PT1H
X-Robots-Tag:noindex
X-PUBLISHED-TTL:PT1H
BEGIN:VTIMEZONE
TZID:Asia/Beirut
BEGIN:DAYLIGHT
TZOFFSETFROM:+0200
TZOFFSETTO:+0300
TZNAME:EEST
DTSTART:20220326T220000
END:DAYLIGHT
BEGIN:STANDARD
TZOFFSETFROM:+0300
TZOFFSETTO:+0200
TZNAME:EET
DTSTART:20221029T210000
END:STANDARD
END:VTIMEZONE
BEGIN:VEVENT
DTSTART;TZID=Asia/Beirut:20221124T120000
DTEND;TZID=Asia/Beirut:20221124T120000
DTSTAMP:20260422T030944
CREATED:20221124T111131Z
LAST-MODIFIED:20221124T111301Z
UID:10001582-1669291200-1669291200@gobatroun.com
SUMMARY:FIFA World Cup at Seven Doors
DESCRIPTION:
URL:https://gobatroun.com/event/fifa-world-cup-at-seven-doors-2/
LOCATION:Seven Doors
CATEGORIES:Performing Arts,Sports
ATTACH;FMTTYPE=image/png:https://gobatroun.com/wp-content/uploads/2022/11/Screenshot-2109.png
END:VEVENT
BEGIN:VEVENT
DTSTART;TZID=Asia/Beirut:20221124T210000
DTEND;TZID=Asia/Beirut:20221124T210000
DTSTAMP:20260422T030944
CREATED:20221123T073833Z
LAST-MODIFIED:20221123T073833Z
UID:10001572-1669323600-1669323600@gobatroun.com
SUMMARY:Dj Undertaker at Cheers
DESCRIPTION:
URL:https://gobatroun.com/event/dj-undertaker-at-cheers-10/
LOCATION:Cheers
CATEGORIES:Performing Arts
ATTACH;FMTTYPE=image/png:https://gobatroun.com/wp-content/uploads/2022/10/Screenshot-1834.png
END:VEVENT
BEGIN:VEVENT
DTSTART;TZID=Asia/Beirut:20221124T223000
DTEND;TZID=Asia/Beirut:20221124T223000
DTSTAMP:20260422T030944
CREATED:20221121T110813Z
LAST-MODIFIED:20221121T110813Z
UID:10001452-1669329000-1669329000@gobatroun.com
SUMMARY:Ladies Night at Merchak Belsouk
DESCRIPTION:Come down the souks every Thursday for a Ladies Night ✨\nFree drinks for the Ladies every Thursday at Merchak bel Souk\, from 8:00PM till 10:30PM \nTo RSVP: 📱 76 666 151\n✨ Find our menu at the link in bio
URL:https://gobatroun.com/event/ladies-night-at-merchak-belsouk/
LOCATION:Merchak بالسوق
CATEGORIES:Performing Arts
ATTACH;FMTTYPE=image/png:https://gobatroun.com/wp-content/uploads/2022/10/Screenshot-2028.png
END:VEVENT
END:VCALENDAR