BEGIN:VCALENDAR
VERSION:2.0
PRODID:-//Go Batroun - ECPv6.14.2//NONSGML v1.0//EN
CALSCALE:GREGORIAN
METHOD:PUBLISH
X-ORIGINAL-URL:https://gobatroun.com
X-WR-CALDESC:Events for Go Batroun
REFRESH-INTERVAL;VALUE=DURATION:PT1H
X-Robots-Tag:noindex
X-PUBLISHED-TTL:PT1H
BEGIN:VTIMEZONE
TZID:Asia/Beirut
BEGIN:DAYLIGHT
TZOFFSETFROM:+0200
TZOFFSETTO:+0300
TZNAME:EEST
DTSTART:20220326T220000
END:DAYLIGHT
BEGIN:STANDARD
TZOFFSETFROM:+0300
TZOFFSETTO:+0200
TZNAME:EET
DTSTART:20221029T210000
END:STANDARD
END:VTIMEZONE
BEGIN:VEVENT
DTSTART;TZID=Asia/Beirut:20221123T120000
DTEND;TZID=Asia/Beirut:20221123T120000
DTSTAMP:20260421T145652
CREATED:20221123T074951Z
LAST-MODIFIED:20221123T074951Z
UID:10001577-1669204800-1669204800@gobatroun.com
SUMMARY:FIFA World Cup at Seven Doors
DESCRIPTION:
URL:https://gobatroun.com/event/fifa-world-cup-at-seven-doors/
LOCATION:Seven Doors
CATEGORIES:Performing Arts,Sports
ATTACH;FMTTYPE=image/png:https://gobatroun.com/wp-content/uploads/2022/11/Screenshot-2102.png
END:VEVENT
BEGIN:VEVENT
DTSTART;TZID=Asia/Beirut:20221123T210000
DTEND;TZID=Asia/Beirut:20221123T210000
DTSTAMP:20260421T145652
CREATED:20221123T073726Z
LAST-MODIFIED:20221123T073726Z
UID:10001570-1669237200-1669237200@gobatroun.com
SUMMARY:Latin Night with Stephan Roukos at Cheers
DESCRIPTION:
URL:https://gobatroun.com/event/latin-night-with-stephan-roukos-at-cheers-7/
LOCATION:Cheers
CATEGORIES:Performing Arts
ATTACH;FMTTYPE=image/png:https://gobatroun.com/wp-content/uploads/2022/11/Screenshot-2059.png
END:VEVENT
END:VCALENDAR