BEGIN:VCALENDAR
VERSION:2.0
PRODID:-//Go Batroun - ECPv6.14.2//NONSGML v1.0//EN
CALSCALE:GREGORIAN
METHOD:PUBLISH
X-WR-CALNAME:Go Batroun
X-ORIGINAL-URL:https://gobatroun.com
X-WR-CALDESC:Events for Go Batroun
REFRESH-INTERVAL;VALUE=DURATION:PT1H
X-Robots-Tag:noindex
X-PUBLISHED-TTL:PT1H
BEGIN:VTIMEZONE
TZID:Asia/Beirut
BEGIN:DAYLIGHT
TZOFFSETFROM:+0200
TZOFFSETTO:+0300
TZNAME:EEST
DTSTART:20220326T220000
END:DAYLIGHT
BEGIN:STANDARD
TZOFFSETFROM:+0300
TZOFFSETTO:+0200
TZNAME:EET
DTSTART:20221029T210000
END:STANDARD
END:VTIMEZONE
BEGIN:VEVENT
DTSTART;TZID=Asia/Beirut:20221117T190000
DTEND;TZID=Asia/Beirut:20221117T190000
DTSTAMP:20260422T124357
CREATED:20221116T072239Z
LAST-MODIFIED:20221116T072239Z
UID:10001326-1668711600-1668711600@gobatroun.com
SUMMARY:Hind El Lahlouba at Orend
DESCRIPTION:This Thursday\, with @ellahlouba playing Electro Posé\, Vibey and some goldies oldies 🕺🏼💃.\nWe’re starting at 7 Pm! See you 💕
URL:https://gobatroun.com/event/hind-el-lahlouba-at-orend/
LOCATION:Orenda
CATEGORIES:Performing Arts
ATTACH;FMTTYPE=image/png:https://gobatroun.com/wp-content/uploads/2022/11/Screenshot-2084.png
END:VEVENT
BEGIN:VEVENT
DTSTART;TZID=Asia/Beirut:20221117T200000
DTEND;TZID=Asia/Beirut:20221117T200000
DTSTAMP:20260422T124357
CREATED:20221114T073757Z
LAST-MODIFIED:20221114T073757Z
UID:10001555-1668715200-1668715200@gobatroun.com
SUMMARY:Ladies Night at Merchak bel Souk
DESCRIPTION:Come down the souks every Thursday for a Ladies’ Night ✨\nFree Drinks for the Ladies every Thursday at Merchak bel Souk\, from 8:00 PM till 10:30 PM \nTo RSVP: 📱 76 666 151\n✨ Find our menu at the link
URL:https://gobatroun.com/event/ladies-night-at-merchak-bel-souk-3/
LOCATION:Merchak بالسوق
CATEGORIES:Performing Arts
ATTACH;FMTTYPE=image/png:https://gobatroun.com/wp-content/uploads/2022/10/Screenshot-2028.png
END:VEVENT
BEGIN:VEVENT
DTSTART;TZID=Asia/Beirut:20221117T210000
DTEND;TZID=Asia/Beirut:20221117T210000
DTSTAMP:20260422T124357
CREATED:20221116T083115Z
LAST-MODIFIED:20221116T083115Z
UID:10001332-1668718800-1668718800@gobatroun.com
SUMMARY:Dj Undertaker at Cheers
DESCRIPTION:
URL:https://gobatroun.com/event/dj-undertaker-at-cheers-9/
LOCATION:Cheers
CATEGORIES:Performing Arts
ATTACH;FMTTYPE=image/png:https://gobatroun.com/wp-content/uploads/2022/10/Screenshot-1834.png
END:VEVENT
END:VCALENDAR