BEGIN:VCALENDAR
VERSION:2.0
PRODID:-//Go Batroun - ECPv6.14.2//NONSGML v1.0//EN
CALSCALE:GREGORIAN
METHOD:PUBLISH
X-ORIGINAL-URL:https://gobatroun.com
X-WR-CALDESC:Events for Go Batroun
REFRESH-INTERVAL;VALUE=DURATION:PT1H
X-Robots-Tag:noindex
X-PUBLISHED-TTL:PT1H
BEGIN:VTIMEZONE
TZID:Asia/Beirut
BEGIN:DAYLIGHT
TZOFFSETFROM:+0200
TZOFFSETTO:+0300
TZNAME:EEST
DTSTART:20220326T220000
END:DAYLIGHT
BEGIN:STANDARD
TZOFFSETFROM:+0300
TZOFFSETTO:+0200
TZNAME:EET
DTSTART:20221029T210000
END:STANDARD
END:VTIMEZONE
BEGIN:VEVENT
DTSTART;VALUE=DATE:20221111
DTEND;VALUE=DATE:20221114
DTSTAMP:20260420T223836
CREATED:20221110T123942Z
LAST-MODIFIED:20221110T123942Z
UID:10001544-1668124800-1668383999@gobatroun.com
SUMMARY:Disney-Themed Arts and Crafts at Kids Factory
DESCRIPTION:The enchanted world of Disney\, is brought to you by Kids Factory at our studio in Batroun Old Souks. Join us for Disney-themed arts and crafts this weekend. Ps: Mickey and Minnie have booked their places too 😍 For more info 71599262
URL:https://gobatroun.com/event/disney-themed-arts-and-crafts-at-kids-factory/
LOCATION:Kids Factory\, 7M45+MGJ Batroun\, Batroun\, Lebanon
CATEGORIES:Performing Arts
ATTACH;FMTTYPE=image/png:https://gobatroun.com/wp-content/uploads/2022/11/Screenshot-2066.png
END:VEVENT
BEGIN:VEVENT
DTSTART;TZID=Asia/Beirut:20221112T160000
DTEND;TZID=Asia/Beirut:20221112T160000
DTSTAMP:20260420T223836
CREATED:20221108T103900Z
LAST-MODIFIED:20221108T103900Z
UID:10001297-1668268800-1668268800@gobatroun.com
SUMMARY:Coffee Seminar With Ahmed Hawi at Mayouli
DESCRIPTION:COFFEE SEMINAR ☕️ \nWith @ahmedhawi \nThis course is for anyone with an interest in learning more about great coffee. \n📅 Saturday 12 November 2022\n🕓 Starting 4:00 pm \n🟤 The following will be covered: \n▶️General information about coffee \n▶️Coffee Roasting \n▶️Coffee Grinding \n▶️Brewing methods \n☕️ Choose from a wide variety of coffee packs and expand your general coffee knowledge and what it takes to make the perfect cup.\n@cafeyounes \n💵 Seminar Contribution: 20$ \n🎟 Limited Seats are available\nFor reservation: +961 71 000 516
URL:https://gobatroun.com/event/coffee-seminar-with-ahmed-hawi-at-mayouli/
LOCATION:Mayouli\, 7M88+PP Batroun\, Batroun\, Lebanon
CATEGORIES:Performing Arts
ATTACH;FMTTYPE=image/png:https://gobatroun.com/wp-content/uploads/2022/11/Screenshot-2052.png
GEO:34.266795819013;35.666856562531
X-APPLE-STRUCTURED-LOCATION;VALUE=URI;X-ADDRESS=Mayouli 7M88+PP Batroun Batroun Lebanon;X-APPLE-RADIUS=500;X-TITLE=7M88+PP Batroun:geo:35.666856562531,34.266795819013
END:VEVENT
BEGIN:VEVENT
DTSTART;TZID=Asia/Beirut:20221112T210000
DTEND;TZID=Asia/Beirut:20221112T210000
DTSTAMP:20260420T223836
CREATED:20221107T111707Z
LAST-MODIFIED:20221108T102835Z
UID:10001533-1668286800-1668286800@gobatroun.com
SUMMARY:Ralph C at Green House
DESCRIPTION:This Saturday live band with @ralphcmusic featuring @charbelbark on percussion starting at 9:00 pm singing your favorite new hits\, oldies\, and blues.\n____________________________________\nRsvp 70125310
URL:https://gobatroun.com/event/ralph-c-at-greenhouse/
LOCATION:Green House Batroun
CATEGORIES:Performing Arts
ATTACH;FMTTYPE=image/png:https://gobatroun.com/wp-content/uploads/2022/11/Screenshot-2049.png
END:VEVENT
BEGIN:VEVENT
DTSTART;TZID=Asia/Beirut:20221112T210000
DTEND;TZID=Asia/Beirut:20221112T210000
DTSTAMP:20260420T223836
CREATED:20221108T104417Z
LAST-MODIFIED:20221108T104417Z
UID:10001305-1668286800-1668286800@gobatroun.com
SUMMARY:Dj Ihab at Merchak بالسوق
DESCRIPTION:Weekends بالسوق are all lit! \n📱 76 666 151\n✨ Find our menu at the link
URL:https://gobatroun.com/event/dj-ihab-at-merchak-%d8%a8%d8%a7%d9%84%d8%b3%d9%88%d9%82/
LOCATION:Merchak بالسوق
CATEGORIES:Performing Arts
ATTACH;FMTTYPE=image/png:https://gobatroun.com/wp-content/uploads/2022/11/Screenshot-2053.png
END:VEVENT
BEGIN:VEVENT
DTSTART;TZID=Asia/Beirut:20221112T210000
DTEND;TZID=Asia/Beirut:20221112T210000
DTSTAMP:20260420T223836
CREATED:20221109T072652Z
LAST-MODIFIED:20221109T072713Z
UID:10001538-1668286800-1668286800@gobatroun.com
SUMMARY:Dj Solvador at Cheers
DESCRIPTION:
URL:https://gobatroun.com/event/dj-solvador-at-cheers-6/
LOCATION:Cheers
CATEGORIES:Performing Arts
ATTACH;FMTTYPE=image/png:https://gobatroun.com/wp-content/uploads/2022/10/Screenshot-1836.png
END:VEVENT
BEGIN:VEVENT
DTSTART;TZID=Asia/Beirut:20221112T210000
DTEND;TZID=Asia/Beirut:20221112T210000
DTSTAMP:20260420T223836
CREATED:20221110T122409Z
LAST-MODIFIED:20221110T122409Z
UID:10001541-1668286800-1668286800@gobatroun.com
SUMMARY:Rashid Al Najjar at Tramway Batroun
DESCRIPTION:Join us this Saturday the 12th of November with Rashid Al Najjar at Tramway Batroun Ft. @dj_chub_official\nFor reservations 📲 03 51 41 01\nhttps://wa.link/4z3wsz\n✅Valet Parking\n🕘 starting 9 p.m
URL:https://gobatroun.com/event/rashid-al-najjar-at-tramway-batroun-12/
LOCATION:Tramway Gastro Pub\, 7M45+CQ Batroun\, Batroun\, Lebanon
CATEGORIES:Performing Arts
ATTACH;FMTTYPE=image/png:https://gobatroun.com/wp-content/uploads/2022/11/Screenshot-2063.png
END:VEVENT
BEGIN:VEVENT
DTSTART;TZID=Asia/Beirut:20221112T213000
DTEND;TZID=Asia/Beirut:20221112T213000
DTSTAMP:20260420T223836
CREATED:20221108T104622Z
LAST-MODIFIED:20221108T104622Z
UID:10001307-1668288600-1668288600@gobatroun.com
SUMMARY:Live Band Karaoke at Nazel Saada
DESCRIPTION:
URL:https://gobatroun.com/event/live-band-karaoke-at-nazel-saada-5/
LOCATION:Nazel Saada
CATEGORIES:Performing Arts
ATTACH;FMTTYPE=image/png:https://gobatroun.com/wp-content/uploads/2022/10/Screenshot-2046.png
END:VEVENT
BEGIN:VEVENT
DTSTART;TZID=Asia/Beirut:20221112T220000
DTEND;TZID=Asia/Beirut:20221112T220000
DTSTAMP:20260420T223836
CREATED:20221111T073008Z
LAST-MODIFIED:20221111T074123Z
UID:10001547-1668290400-1668290400@gobatroun.com
SUMMARY:Dany Fenianos at Beit AL Khal
DESCRIPTION:
URL:https://gobatroun.com/event/dany-fenianos-at-beit-al-khal/
LOCATION:Beit AL Khal
CATEGORIES:Performing Arts
ATTACH;FMTTYPE=image/png:https://gobatroun.com/wp-content/uploads/2022/11/Screenshot-2067.png
END:VEVENT
BEGIN:VEVENT
DTSTART;TZID=Asia/Beirut:20221112T223000
DTEND;TZID=Asia/Beirut:20221112T223000
DTSTAMP:20260420T223836
CREATED:20221108T142031Z
LAST-MODIFIED:20221108T142031Z
UID:10001309-1668292200-1668292200@gobatroun.com
SUMMARY:Dj Bibb and Mc H at Void
DESCRIPTION:
URL:https://gobatroun.com/event/dj-bibb-and-mc-h-at-void/
LOCATION:Void Nightclub
CATEGORIES:Performing Arts
ATTACH;FMTTYPE=image/png:https://gobatroun.com/wp-content/uploads/2022/11/Screenshot-2055.png
END:VEVENT
BEGIN:VEVENT
DTSTART;TZID=Asia/Beirut:20221112T223000
DTEND;TZID=Asia/Beirut:20221112T223000
DTSTAMP:20260420T223836
CREATED:20221109T073340Z
LAST-MODIFIED:20221109T073340Z
UID:10001532-1668292200-1668292200@gobatroun.com
SUMMARY:Borhan at TAIGA BATROUN CLUB
DESCRIPTION:Taiga Batroun Every Weekend!\nThis Saturday Night 🍸\n#Borhan on Stage #DjRalph\nNew Hit 3am Faker sah\n#TaiGa #Batroun #Lebanon\n#Reserve On 00961 3499408
URL:https://gobatroun.com/event/borhan-at-taiga-batroun-club-9/
LOCATION:TAIGA BATROUN CLUB\, 7M46+23 Batroun\, Batroun\, Lebanon
CATEGORIES:Performing Arts
ATTACH;FMTTYPE=image/png:https://gobatroun.com/wp-content/uploads/2022/10/Screenshot-1938.png
GEO:34.255082353874;35.660243950604
X-APPLE-STRUCTURED-LOCATION;VALUE=URI;X-ADDRESS=TAIGA BATROUN CLUB 7M46+23 Batroun Batroun Lebanon;X-APPLE-RADIUS=500;X-TITLE=7M46+23 Batroun:geo:35.660243950604,34.255082353874
END:VEVENT
END:VCALENDAR