BEGIN:VCALENDAR
VERSION:2.0
PRODID:-//Go Batroun - ECPv6.14.2//NONSGML v1.0//EN
CALSCALE:GREGORIAN
METHOD:PUBLISH
X-WR-CALNAME:Go Batroun
X-ORIGINAL-URL:https://gobatroun.com
X-WR-CALDESC:Events for Go Batroun
REFRESH-INTERVAL;VALUE=DURATION:PT1H
X-Robots-Tag:noindex
X-PUBLISHED-TTL:PT1H
BEGIN:VTIMEZONE
TZID:Asia/Beirut
BEGIN:DAYLIGHT
TZOFFSETFROM:+0200
TZOFFSETTO:+0300
TZNAME:EEST
DTSTART:20220326T220000
END:DAYLIGHT
BEGIN:STANDARD
TZOFFSETFROM:+0300
TZOFFSETTO:+0200
TZNAME:EET
DTSTART:20221029T210000
END:STANDARD
END:VTIMEZONE
BEGIN:VEVENT
DTSTART;TZID=Asia/Beirut:20221028T210000
DTEND;TZID=Asia/Beirut:20221028T210000
DTSTAMP:20260421T073429
CREATED:20221024T083105Z
LAST-MODIFIED:20221024T083105Z
UID:10001485-1666990800-1666990800@gobatroun.com
SUMMARY:Dj Samix at Merchak بالسوق
DESCRIPTION:Weekends بالسوق are all lit! \n📱 76 666 151\n✨ Find our menu at the link in bio
URL:https://gobatroun.com/event/dj-samix-at-merchak-%d8%a8%d8%a7%d9%84%d8%b3%d9%88%d9%82/
LOCATION:Merchak بالسوق
CATEGORIES:Performing Arts
ATTACH;FMTTYPE=image/png:https://gobatroun.com/wp-content/uploads/2022/10/Screenshot-1977.png
END:VEVENT
BEGIN:VEVENT
DTSTART;TZID=Asia/Beirut:20221028T210000
DTEND;TZID=Asia/Beirut:20221028T210000
DTSTAMP:20260421T073429
CREATED:20221024T090258Z
LAST-MODIFIED:20221024T090258Z
UID:10001492-1666990800-1666990800@gobatroun.com
SUMMARY:Youhana Saad at 961 Lounge Bar
DESCRIPTION:
URL:https://gobatroun.com/event/youhana-saad-at-961-lounge-bar/
LOCATION:961 Lounge bar
CATEGORIES:Performing Arts
ATTACH;FMTTYPE=image/png:https://gobatroun.com/wp-content/uploads/2022/10/Screenshot-1973.png
END:VEVENT
BEGIN:VEVENT
DTSTART;TZID=Asia/Beirut:20221028T213000
DTEND;TZID=Asia/Beirut:20221028T213000
DTSTAMP:20260421T073429
CREATED:20221026T135631Z
LAST-MODIFIED:20221026T135631Z
UID:10001271-1666992600-1666992600@gobatroun.com
SUMMARY:Live Band Karaoke at Nazel Saada
DESCRIPTION:
URL:https://gobatroun.com/event/live-band-karaoke-at-nazel-saada-3/
LOCATION:Nazel Saada
CATEGORIES:Performing Arts
ATTACH;FMTTYPE=image/png:https://gobatroun.com/wp-content/uploads/2022/10/Screenshot-1994.png
END:VEVENT
BEGIN:VEVENT
DTSTART;TZID=Asia/Beirut:20221028T220000
DTEND;TZID=Asia/Beirut:20221028T220000
DTSTAMP:20260421T073429
CREATED:20221025T063021Z
LAST-MODIFIED:20221025T063021Z
UID:10001495-1666994400-1666994400@gobatroun.com
SUMMARY:Borhan at Taiga Batroun Club
DESCRIPTION:Taiga Batroun Every Weekend!\nThis Friday Night 🍸\n#Borhan on Stage #DjRalph\nNew Hit 3am Faker sah\n#TaiGa #Batroun #Lebanon\n#Reserve On 00961 3499408
URL:https://gobatroun.com/event/borhan-at-taiga-batroun-club-7/
LOCATION:TAIGA BATROUN CLUB\, 7M46+23 Batroun\, Batroun\, Lebanon
CATEGORIES:Performing Arts
ATTACH;FMTTYPE=image/png:https://gobatroun.com/wp-content/uploads/2022/10/Screenshot-1883.png
GEO:34.255082353874;35.660243950604
X-APPLE-STRUCTURED-LOCATION;VALUE=URI;X-ADDRESS=TAIGA BATROUN CLUB 7M46+23 Batroun Batroun Lebanon;X-APPLE-RADIUS=500;X-TITLE=7M46+23 Batroun:geo:35.660243950604,34.255082353874
END:VEVENT
BEGIN:VEVENT
DTSTART;TZID=Asia/Beirut:20221028T220000
DTEND;TZID=Asia/Beirut:20221028T220000
DTSTAMP:20260421T073429
CREATED:20221025T112537Z
LAST-MODIFIED:20221025T112545Z
UID:10001265-1666994400-1666994400@gobatroun.com
SUMMARY:The Rays Featuring at Cheers
DESCRIPTION:
URL:https://gobatroun.com/event/the-rays-featuring-at-cheers/
LOCATION:Cheers
CATEGORIES:Performing Arts
ATTACH;FMTTYPE=image/png:https://gobatroun.com/wp-content/uploads/2022/10/Screenshot-1990.png
END:VEVENT
END:VCALENDAR