BEGIN:VCALENDAR
VERSION:2.0
PRODID:-//Go Batroun - ECPv6.14.2//NONSGML v1.0//EN
CALSCALE:GREGORIAN
METHOD:PUBLISH
X-ORIGINAL-URL:https://gobatroun.com
X-WR-CALDESC:Events for Go Batroun
REFRESH-INTERVAL;VALUE=DURATION:PT1H
X-Robots-Tag:noindex
X-PUBLISHED-TTL:PT1H
BEGIN:VTIMEZONE
TZID:Asia/Beirut
BEGIN:DAYLIGHT
TZOFFSETFROM:+0200
TZOFFSETTO:+0300
TZNAME:EEST
DTSTART:20220326T220000
END:DAYLIGHT
BEGIN:STANDARD
TZOFFSETFROM:+0300
TZOFFSETTO:+0200
TZNAME:EET
DTSTART:20221029T210000
END:STANDARD
END:VTIMEZONE
BEGIN:VEVENT
DTSTART;TZID=Asia/Beirut:20220930T160000
DTEND;TZID=Asia/Beirut:20220930T210000
DTSTAMP:20260420T220736
CREATED:20220928T071442Z
LAST-MODIFIED:20220928T071442Z
UID:10001401-1664553600-1664571600@gobatroun.com
SUMMARY:Culinary activity\, Educational games\, and Coloring at Kids Factory
DESCRIPTION:” Back to school ” weekend events at kids Factory – Batroun old Souk.\nThis Friday 30\, Saturday 1 & Sunday 2 October 2022 from 4 till 9 p.m. \n✨ Culinary activity – 🎨 Craft – 🧑‍🔬 Educational games & 🧑‍🎨 Coloring. \nFor reservation call us: 71 599 262 or DM us
URL:https://gobatroun.com/event/culinary-activity-educational-games-and-coloring-at-kids-factory/
LOCATION:Kids Factory\, 7M45+MGJ Batroun\, Batroun\, Lebanon
CATEGORIES:Performing Arts
ATTACH;FMTTYPE=image/png:https://gobatroun.com/wp-content/uploads/2022/09/Screenshot-1753.png
END:VEVENT
BEGIN:VEVENT
DTSTART;TZID=Asia/Beirut:20220930T160000
DTEND;TZID=Asia/Beirut:20221002T160000
DTSTAMP:20260420T220736
CREATED:20220929T112900Z
LAST-MODIFIED:20220929T112900Z
UID:10001408-1664553600-1664726400@gobatroun.com
SUMMARY:Flying Brush at Dar Al Mona
DESCRIPTION:Doors Open at: 4 Pm
URL:https://gobatroun.com/event/flying-brush-at-dar-al-mona/
LOCATION:Dar Al Mona\, 7M35+PM Batroun\, Batroun\, Lebanon
CATEGORIES:Performing Arts
ATTACH;FMTTYPE=image/jpeg:https://gobatroun.com/wp-content/uploads/2022/09/WhatsApp-Image-2022-09-29-at-2.01.09-PM.jpeg
GEO:34.254368398216;35.659186434674
X-APPLE-STRUCTURED-LOCATION;VALUE=URI;X-ADDRESS=Dar Al Mona 7M35+PM Batroun Batroun Lebanon;X-APPLE-RADIUS=500;X-TITLE=7M35+PM Batroun:geo:35.659186434674,34.254368398216
END:VEVENT
BEGIN:VEVENT
DTSTART;TZID=Asia/Beirut:20220930T180000
DTEND;TZID=Asia/Beirut:20220930T180000
DTSTAMP:20260420T220736
CREATED:20220929T101701Z
LAST-MODIFIED:20220929T101701Z
UID:10001412-1664560800-1664560800@gobatroun.com
SUMMARY:Dj GeeD at Almaza Bay
DESCRIPTION:
URL:https://gobatroun.com/event/dj-geed-at-almaza-bay/
LOCATION:Almaza Bay\, 6J5V+2JJ\, Kfar Kedah\, Batroun\, Lebanon
CATEGORIES:Performing Arts
ATTACH;FMTTYPE=image/png:https://gobatroun.com/wp-content/uploads/2022/09/Screenshot-1760.png
GEO:34.207559145639;35.644062243642
X-APPLE-STRUCTURED-LOCATION;VALUE=URI;X-ADDRESS=Almaza Bay 6J5V+2JJ Kfar Kedah Batroun Lebanon;X-APPLE-RADIUS=500;X-TITLE=6J5V+2JJ\, Kfar Kedah:geo:35.644062243642,34.207559145639
END:VEVENT
BEGIN:VEVENT
DTSTART;TZID=Asia/Beirut:20220930T200000
DTEND;TZID=Asia/Beirut:20220930T200000
DTSTAMP:20260420T220736
CREATED:20220929T100343Z
LAST-MODIFIED:20220929T100343Z
UID:10001411-1664568000-1664568000@gobatroun.com
SUMMARY:Yal Solan at Snaw Bar
DESCRIPTION:🍂 Autumn colors remind us we are all one dancing in the wind 🍃 \nSchedule of the week:\n🔹️Friday :\nEnjoy our magical music night with @yalsolan for an unforgettable Friday\, starting from 8 pm.\nHear the music and feel her voice.\nLimited places hurry!! And reserve your table.\nBand charge: 200 000 LL \n🔹️Tattoo and dreadlocks stand will be available for all of the weekend with waleedsabi @riwakhalil_ ( special prices)\n❗Bring your jacket or a blanket with you❗ \n🔸 Camping spot 🏕\n🔸 bonfire 🔥\n🔸 bar 🍻\n🔸 food 🥙🌮🍳\n🔸 game board ♟🎲🎯\n🔸 Toilets available\n🔸 tent rental is available upon reservation\n🔸 RSVP: 71942776
URL:https://gobatroun.com/event/yal-solan-at-snaw-bar/
LOCATION:Snaw Bar
CATEGORIES:Performing Arts
ATTACH;FMTTYPE=image/png:https://gobatroun.com/wp-content/uploads/2022/09/Screenshot-1757.png
END:VEVENT
BEGIN:VEVENT
DTSTART;TZID=Asia/Beirut:20220930T200000
DTEND;TZID=Asia/Beirut:20220930T200000
DTSTAMP:20260420T220736
CREATED:20220930T110139Z
LAST-MODIFIED:20220930T110139Z
UID:10001418-1664568000-1664568000@gobatroun.com
SUMMARY:DJ Undertaker at Cheers
DESCRIPTION:
URL:https://gobatroun.com/event/dj-undertaker-at-cheers-2/
LOCATION:Cheers
CATEGORIES:Performing Arts
ATTACH;FMTTYPE=image/png:https://gobatroun.com/wp-content/uploads/2022/09/Screenshot-1775.png
END:VEVENT
BEGIN:VEVENT
DTSTART;TZID=Asia/Beirut:20220930T210000
DTEND;TZID=Asia/Beirut:20220930T210000
DTSTAMP:20260420T220736
CREATED:20220927T062513Z
LAST-MODIFIED:20220927T062513Z
UID:10001165-1664571600-1664571600@gobatroun.com
SUMMARY:Aziz Asaad at Tramway Batroun
DESCRIPTION:Join us this Friday 30th of September with Aziz Asaad at Tramway Batroun Ft. @dj_chub_official\nFor reservations 📲 03 51 41 01\n✅Valet Parking Service available\n🕘 starting 9 p.m
URL:https://gobatroun.com/event/aziz-asaad-at-tramway-batroun-6/
LOCATION:Tramway Gastro Pub\, 7M45+CQ Batroun\, Batroun\, Lebanon
CATEGORIES:Performing Arts
ATTACH;FMTTYPE=image/png:https://gobatroun.com/wp-content/uploads/2022/09/Screenshot-1724.png
END:VEVENT
BEGIN:VEVENT
DTSTART;TZID=Asia/Beirut:20220930T213000
DTEND;TZID=Asia/Beirut:20220930T213000
DTSTAMP:20260420T220736
CREATED:20220928T143602Z
LAST-MODIFIED:20220928T143602Z
UID:10001405-1664573400-1664573400@gobatroun.com
SUMMARY:Mario Hadchity at Oren
DESCRIPTION:
URL:https://gobatroun.com/event/mario-hadchity-at-oren/
LOCATION:Oren Pool Lounge
CATEGORIES:Performing Arts
ATTACH;FMTTYPE=image/jpeg:https://gobatroun.com/wp-content/uploads/2022/09/IMG-20220927-WA0008.jpg
END:VEVENT
BEGIN:VEVENT
DTSTART;TZID=Asia/Beirut:20220930T213000
DTEND;TZID=Asia/Beirut:20220930T213000
DTSTAMP:20260420T220736
CREATED:20220928T144115Z
LAST-MODIFIED:20220928T144115Z
UID:10001407-1664573400-1664573400@gobatroun.com
SUMMARY:Hanna Abi Hanna at Oren
DESCRIPTION:
URL:https://gobatroun.com/event/hanna-abi-hanna-at-oren/
LOCATION:Oren Pool Lounge
CATEGORIES:Performing Arts
ATTACH;FMTTYPE=image/jpeg:https://gobatroun.com/wp-content/uploads/2022/09/Screenshot_20220928-173224_Instagram.jpg
END:VEVENT
BEGIN:VEVENT
DTSTART;TZID=Asia/Beirut:20220930T220000
DTEND;TZID=Asia/Beirut:20220930T220000
DTSTAMP:20260420T220736
CREATED:20220926T090650Z
LAST-MODIFIED:20220926T090650Z
UID:10001397-1664575200-1664575200@gobatroun.com
SUMMARY:Maher Jah at La Taiga Resort
DESCRIPTION:#MaherJah Every Friday Night\n#LaTaigaResort #Batroun #kafarabida\n#djralph Starting at 10:00 PM\nMore info call +961 71 414 441
URL:https://gobatroun.com/event/maher-jah-at-la-taiga-resort-2/
LOCATION:La Taiga Resort Batroun\, 6MC3+CP Kfar Aabida\, Batroun\, Lebanon
CATEGORIES:Performing Arts
ATTACH;FMTTYPE=image/png:https://gobatroun.com/wp-content/uploads/2022/09/Screenshot-174.png
GEO:34.221113189181;35.654292376004
X-APPLE-STRUCTURED-LOCATION;VALUE=URI;X-ADDRESS=La Taiga Resort Batroun 6MC3+CP Kfar Aabida Batroun Lebanon;X-APPLE-RADIUS=500;X-TITLE=6MC3+CP Kfar Aabida:geo:35.654292376004,34.221113189181
END:VEVENT
BEGIN:VEVENT
DTSTART;TZID=Asia/Beirut:20220930T220000
DTEND;TZID=Asia/Beirut:20220930T220000
DTSTAMP:20260420T220736
CREATED:20220927T062933Z
LAST-MODIFIED:20220927T062933Z
UID:10001166-1664575200-1664575200@gobatroun.com
SUMMARY:Dj Bibb and Dj Mc H at Odd Rooftop
DESCRIPTION:
URL:https://gobatroun.com/event/dj-bibb-and-dj-mc-h-at-odd-rooftop-2/
LOCATION:ODD Rooftop
CATEGORIES:Performing Arts
ATTACH;FMTTYPE=image/png:https://gobatroun.com/wp-content/uploads/2022/09/Screenshot-1727.png
END:VEVENT
BEGIN:VEVENT
DTSTART;TZID=Asia/Beirut:20220930T223000
DTEND;TZID=Asia/Beirut:20220930T223000
DTSTAMP:20260420T220736
CREATED:20220919T122053Z
LAST-MODIFIED:20220928T064646Z
UID:10001375-1664577000-1664577000@gobatroun.com
SUMMARY:Jawad at Taiga Batroun Club
DESCRIPTION:Taiga Batroun Every Weekend!\nThis Friday Night 🍸\n#Jawad on Stage #DjRalph\n#TaiGa #Batroun #Lebanon\n#Reserve On 00961 3499408
URL:https://gobatroun.com/event/jawad-at-taiga-batroun-club-2/
LOCATION:TAIGA BATROUN CLUB\, 7M46+23 Batroun\, Batroun\, Lebanon
CATEGORIES:Performing Arts
ATTACH;FMTTYPE=image/png:https://gobatroun.com/wp-content/uploads/2022/09/Screenshot-1749.png
GEO:34.255082353874;35.660243950604
X-APPLE-STRUCTURED-LOCATION;VALUE=URI;X-ADDRESS=TAIGA BATROUN CLUB 7M46+23 Batroun Batroun Lebanon;X-APPLE-RADIUS=500;X-TITLE=7M46+23 Batroun:geo:35.660243950604,34.255082353874
END:VEVENT
BEGIN:VEVENT
DTSTART;VALUE=DATE:20221001
DTEND;VALUE=DATE:20221002
DTSTAMP:20260420T220736
CREATED:20220929T100741Z
LAST-MODIFIED:20220929T100741Z
UID:10001413-1664582400-1664668799@gobatroun.com
SUMMARY:Yoga Morning and Open Mic Around The Fire at Snaw Bar
DESCRIPTION:🍂 Autumn colors remind us we are all one dancing in the wind 🍃 \nSchedule of the week: \n🔹️Saturday :\n●Saturday morning\, hata yoga\,\nmeditation\, and relaxation class\,\nwith @bassem.harb.104\nFrom 8 am till 10 am.\nClass charge: 200 000 LL\n●Saturday night\, we’ll have an open mic event around the fire🔥\nShare your talent with us\, we’ll be so excited to hear you and enjoy your beautiful performance.\nBe many!! Don’t forget to bring your instrument with you. \n🔹️Tattoo and dreadlocks stand will be available for all of the weekend with waleedsabi @riwakhalil_ ( special prices)\n❗Bring your jacket or a blanket with you❗ \n🔸 Camping spot 🏕\n🔸 bonfire 🔥\n🔸 bar 🍻\n🔸 food 🥙🌮🍳\n🔸 game board ♟🎲🎯\n🔸 Toilets available\n🔸 tent rental is available upon reservation\n🔸 RSVP: 71942776
URL:https://gobatroun.com/event/yoga-morning-and-open-mic-around-the-fire-at-snaw-bar/
LOCATION:Snaw Bar
CATEGORIES:Performing Arts
ATTACH;FMTTYPE=image/png:https://gobatroun.com/wp-content/uploads/2022/09/Screenshot-1758.png
END:VEVENT
END:VCALENDAR