BEGIN:VCALENDAR
VERSION:2.0
PRODID:-//Go Batroun - ECPv6.14.2//NONSGML v1.0//EN
CALSCALE:GREGORIAN
METHOD:PUBLISH
X-ORIGINAL-URL:https://gobatroun.com
X-WR-CALDESC:Events for Go Batroun
REFRESH-INTERVAL;VALUE=DURATION:PT1H
X-Robots-Tag:noindex
X-PUBLISHED-TTL:PT1H
BEGIN:VTIMEZONE
TZID:Asia/Beirut
BEGIN:DAYLIGHT
TZOFFSETFROM:+0200
TZOFFSETTO:+0300
TZNAME:EEST
DTSTART:20220326T220000
END:DAYLIGHT
BEGIN:STANDARD
TZOFFSETFROM:+0300
TZOFFSETTO:+0200
TZNAME:EET
DTSTART:20221029T210000
END:STANDARD
END:VTIMEZONE
BEGIN:VEVENT
DTSTART;TZID=Asia/Beirut:20220923T180000
DTEND;TZID=Asia/Beirut:20220923T180000
DTSTAMP:20260424T000928
CREATED:20220923T094059Z
LAST-MODIFIED:20220923T094059Z
UID:10001393-1663956000-1663956000@gobatroun.com
SUMMARY:Dj John at Almaza Bay
DESCRIPTION:
URL:https://gobatroun.com/event/dj-john-at-almaza-bay/
LOCATION:Almaza Bay\, 6J5V+2JJ\, Kfar Kedah\, Batroun\, Lebanon
CATEGORIES:Performing Arts
ATTACH;FMTTYPE=image/png:https://gobatroun.com/wp-content/uploads/2022/09/Screenshot-189.png
GEO:34.207559145639;35.644062243642
X-APPLE-STRUCTURED-LOCATION;VALUE=URI;X-ADDRESS=Almaza Bay 6J5V+2JJ Kfar Kedah Batroun Lebanon;X-APPLE-RADIUS=500;X-TITLE=6J5V+2JJ\, Kfar Kedah:geo:35.644062243642,34.207559145639
END:VEVENT
BEGIN:VEVENT
DTSTART;TZID=Asia/Beirut:20220923T180000
DTEND;TZID=Asia/Beirut:20220925T220000
DTSTAMP:20260424T000928
CREATED:20220907T091040Z
LAST-MODIFIED:20220923T172655Z
UID:10001316-1663956000-1664143200@gobatroun.com
SUMMARY:Toni Al Maalouf at Dar El Mona Batroun
DESCRIPTION:23-24-25 September 2022 From 10A.M to 10P.M
URL:https://gobatroun.com/event/toni-al-maalouf-at-dar-el-mona-batroun/
LOCATION:Dar El Mona
CATEGORIES:Performing Arts
ATTACH;FMTTYPE=image/jpeg:https://gobatroun.com/wp-content/uploads/2022/09/WhatsApp-Image-2022-09-07-at-11.53.26-AM.jpeg
END:VEVENT
BEGIN:VEVENT
DTSTART;TZID=Asia/Beirut:20220923T210000
DTEND;TZID=Asia/Beirut:20220923T210000
DTSTAMP:20260424T000928
CREATED:20220921T122345Z
LAST-MODIFIED:20220921T122559Z
UID:10001384-1663966800-1663966800@gobatroun.com
SUMMARY:Alecco's at Casa Catel
DESCRIPTION:
URL:https://gobatroun.com/event/aleccos-at-casa-catel/
LOCATION:Casa Cartel Batroun
CATEGORIES:Performing Arts
ATTACH;FMTTYPE=image/jpeg:https://gobatroun.com/wp-content/uploads/2022/09/Screenshot_20220921-152138_Instagram.jpg
END:VEVENT
BEGIN:VEVENT
DTSTART;TZID=Asia/Beirut:20220923T220000
DTEND;TZID=Asia/Beirut:20220923T220000
DTSTAMP:20260424T000928
CREATED:20220920T090931Z
LAST-MODIFIED:20220920T090931Z
UID:10001381-1663970400-1663970400@gobatroun.com
SUMMARY:Maher Jah at La Taiga Resort
DESCRIPTION:#MaherJah Every Friday Night\n#LaTaigaResort #Batroun #kafarabida\n#djralph Starting at 10:00 PM\nMore info call +961 71 414 441
URL:https://gobatroun.com/event/maher-jah-at-la-taiga-resort/
LOCATION:La Taiga Resort Batroun\, 6MC3+CP Kfar Aabida\, Batroun\, Lebanon
CATEGORIES:Performing Arts
ATTACH;FMTTYPE=image/png:https://gobatroun.com/wp-content/uploads/2022/09/Screenshot-174.png
GEO:34.221113189181;35.654292376004
X-APPLE-STRUCTURED-LOCATION;VALUE=URI;X-ADDRESS=La Taiga Resort Batroun 6MC3+CP Kfar Aabida Batroun Lebanon;X-APPLE-RADIUS=500;X-TITLE=6MC3+CP Kfar Aabida:geo:35.654292376004,34.221113189181
END:VEVENT
BEGIN:VEVENT
DTSTART;TZID=Asia/Beirut:20220923T220000
DTEND;TZID=Asia/Beirut:20220923T220000
DTSTAMP:20260424T000928
CREATED:20220921T123332Z
LAST-MODIFIED:20220921T123731Z
UID:10001385-1663970400-1663970400@gobatroun.com
SUMMARY:Dj Biib and Dj Mc H at Odd Rooftop
DESCRIPTION:
URL:https://gobatroun.com/event/dj-biib-and-dj-mc-h-at-odd-rooftop/
LOCATION:ODD Rooftop
CATEGORIES:Performing Arts
ATTACH;FMTTYPE=image/png:https://gobatroun.com/wp-content/uploads/2022/09/Screenshot-181.png
END:VEVENT
BEGIN:VEVENT
DTSTART;TZID=Asia/Beirut:20220923T220000
DTEND;TZID=Asia/Beirut:20220923T220000
DTSTAMP:20260424T000929
CREATED:20220921T124205Z
LAST-MODIFIED:20220921T124205Z
UID:10001378-1663970400-1663970400@gobatroun.com
SUMMARY:Ahmad ae The Karawan
DESCRIPTION:Build the best of FRIDAY nights at the rooftop with the best @ahmad_official_997 . Come & join us this Friday September 23 @the_karawan don’t miss a chance to party hard and dance all night long .\nFor more info: 76-448133
URL:https://gobatroun.com/event/ahmad-ae-the-karawan/
LOCATION:The Karawan
CATEGORIES:Performing Arts
ATTACH;FMTTYPE=image/png:https://gobatroun.com/wp-content/uploads/2022/09/Screenshot-185.png
END:VEVENT
BEGIN:VEVENT
DTSTART;TZID=Asia/Beirut:20220923T230000
DTEND;TZID=Asia/Beirut:20220923T230000
DTSTAMP:20260424T000929
CREATED:20220919T122021Z
LAST-MODIFIED:20220919T122021Z
UID:10001374-1663974000-1663974000@gobatroun.com
SUMMARY:Borhan at Taiga Batroun Club
DESCRIPTION:Taiga Batroun Every Weekend!\nThis Friday Night 🍸\n#Borhan on Stage #DjRalph\nNew Hit 3 am Faker sah\n#TaiGa #Batroun #Lebanon\n#Reserve On 00961 3499408
URL:https://gobatroun.com/event/borhan-at-taiga-batroun-club-2/
LOCATION:TAIGA BATROUN CLUB\, 7M46+23 Batroun\, Batroun\, Lebanon
CATEGORIES:Performing Arts
ATTACH;FMTTYPE=image/png:https://gobatroun.com/wp-content/uploads/2022/09/Screenshot-1671.png
GEO:34.255082353874;35.660243950604
X-APPLE-STRUCTURED-LOCATION;VALUE=URI;X-ADDRESS=TAIGA BATROUN CLUB 7M46+23 Batroun Batroun Lebanon;X-APPLE-RADIUS=500;X-TITLE=7M46+23 Batroun:geo:35.660243950604,34.255082353874
END:VEVENT
END:VCALENDAR