BEGIN:VCALENDAR
VERSION:2.0
PRODID:-//Go Batroun - ECPv6.14.2//NONSGML v1.0//EN
CALSCALE:GREGORIAN
METHOD:PUBLISH
X-ORIGINAL-URL:https://gobatroun.com
X-WR-CALDESC:Events for Go Batroun
REFRESH-INTERVAL;VALUE=DURATION:PT1H
X-Robots-Tag:noindex
X-PUBLISHED-TTL:PT1H
BEGIN:VTIMEZONE
TZID:Asia/Beirut
BEGIN:DAYLIGHT
TZOFFSETFROM:+0200
TZOFFSETTO:+0300
TZNAME:EEST
DTSTART:20220326T220000
END:DAYLIGHT
BEGIN:STANDARD
TZOFFSETFROM:+0300
TZOFFSETTO:+0200
TZNAME:EET
DTSTART:20221029T210000
END:STANDARD
END:VTIMEZONE
BEGIN:VEVENT
DTSTART;TZID=Asia/Beirut:20220909T170000
DTEND;TZID=Asia/Beirut:20220909T170000
DTSTAMP:20260421T145642
CREATED:20220908T063258Z
LAST-MODIFIED:20220908T063258Z
UID:10001094-1662742800-1662742800@gobatroun.com
SUMMARY:Day and Night Water Sports Schedule at Routes
DESCRIPTION:Sunrise\, Sunset & full moon from the middle of the Mediterranean 🌊☀️ \nPlease find below our weekly schedule: \n* Tour 1 Friday Sunset SUP & Kayak at 5:15 PM. \n* Tour 2 Saturday Sunrise SUP & Kayak at 6:00 AM. \n* Tour 3 Saturday Full moon SUP & Kayak at 9:00 PM. \n* Tour 4 Sunday morning Sup yoga class at 8:00 Am with @Aureliekaram \nOur Watersport rental station will be open till Monday. \nWe will pedal for approximately 2 hours\, enjoying the morning energy boost or the breathtaking sunset colors\, we will end the events by the beach for a nice gathering. ☀️ \nEvent fees: \n* Stand Up Paddle 200 000 LBP including your boards\, guides\, basic lesson\, and pedals. 🏄🏽‍♂️ \n* Kayak Double 300 000 LBP including kayaks\, guides\, basic lessons\, and pedals. \n* Sup Yoga 300 000 LBP including SUP & Yoga 🧘‍♀️. \nFor Reservation please contact the Routes team by WhatsApp at 76 338762 ☎️. \nYou will also have the opportunity to spend the rest of the day roaming the breathtaking city of Batroun and its numerous activities.\nDisclaimer: All tours are tentative to be canceled due to sudden weather changes. \nSee you all! 🙂
URL:https://gobatroun.com/event/day-and-night-water-sports-schedule-at-routes/
LOCATION:Routes
CATEGORIES:Sports
ATTACH;FMTTYPE=image/png:https://gobatroun.com/wp-content/uploads/2022/09/Screenshot-1588.png
END:VEVENT
BEGIN:VEVENT
DTSTART;TZID=Asia/Beirut:20220909T200000
DTEND;TZID=Asia/Beirut:20220909T200000
DTSTAMP:20260421T145642
CREATED:20220906T062843Z
LAST-MODIFIED:20220906T062843Z
UID:10001294-1662753600-1662753600@gobatroun.com
SUMMARY:DJ T-Mak at Blu Bay
DESCRIPTION:
URL:https://gobatroun.com/event/dj-t-mak-at-blu-bay/
LOCATION:Blu Bay Batroun\, 6MW6+QJ Batroun\, Batroun\, Lebanon
CATEGORIES:Performing Arts
ATTACH;FMTTYPE=image/png:https://gobatroun.com/wp-content/uploads/2022/09/Screenshot-1525.png
END:VEVENT
BEGIN:VEVENT
DTSTART;TZID=Asia/Beirut:20220909T200000
DTEND;TZID=Asia/Beirut:20220909T200000
DTSTAMP:20260421T145642
CREATED:20220909T080505Z
LAST-MODIFIED:20220909T080505Z
UID:10001331-1662753600-1662753600@gobatroun.com
SUMMARY:Micha and The Band at Cheers
DESCRIPTION:
URL:https://gobatroun.com/event/micha-and-the-band-at-cheers/
LOCATION:Cheers
CATEGORIES:Performing Arts
ATTACH;FMTTYPE=image/png:https://gobatroun.com/wp-content/uploads/2022/09/Screenshot-1622.png
END:VEVENT
BEGIN:VEVENT
DTSTART;TZID=Asia/Beirut:20220909T203000
DTEND;TZID=Asia/Beirut:20220909T203000
DTSTAMP:20260421T145642
CREATED:20220907T065628Z
LAST-MODIFIED:20220907T065723Z
UID:10001314-1662755400-1662755400@gobatroun.com
SUMMARY:Micha Aoun at SnawBar
DESCRIPTION:🏕Join this week’s event schedule at Snaw-bar campsite🏕 \n🔸️Friday\n-happy hour from 5:00 pm till 8:00 pm\n( 30% off drinks )\n-live music with @micha_aoun_ starting 8:30 pm\nband charge: 150\,000 L.L\nminimum charge: 150\,000 L.L \n《 bring a jacket or a blanket 》 \n🔸 Camping spot\n🔸 bonfire\n🔸 bar\n🔸 food\n🔸 game board\n🔸 toilets available\n🔸 tent rental is available upon reservation\n🔸 RSVP: 71942776
URL:https://gobatroun.com/event/micha-aoun-at-snawbar/
LOCATION:Snaw Bar
CATEGORIES:Performing Arts
ATTACH;FMTTYPE=image/png:https://gobatroun.com/wp-content/uploads/2022/09/Screenshot-1564.png
END:VEVENT
BEGIN:VEVENT
DTSTART;TZID=Asia/Beirut:20220909T210000
DTEND;TZID=Asia/Beirut:20220909T210000
DTSTAMP:20260421T145642
CREATED:20220906T063747Z
LAST-MODIFIED:20220906T063747Z
UID:10001298-1662757200-1662757200@gobatroun.com
SUMMARY:Aziz Asaad at Tramway Batroun
DESCRIPTION:This Friday\, September 9 with Aziz Asaad at Tramway Batroun\, Ft. @dj_chub_official \n✨ Starting 9:00PM\n✨ Valet Parking service available \n📲 +961 03 51 41 01
URL:https://gobatroun.com/event/aziz-asaad-at-tramway-batroun-4/
LOCATION:Tramway Gastro Pub\, 7M45+CQ Batroun\, Batroun\, Lebanon
CATEGORIES:Performing Arts
ATTACH;FMTTYPE=image/png:https://gobatroun.com/wp-content/uploads/2022/09/Screenshot-1527.png
END:VEVENT
BEGIN:VEVENT
DTSTART;TZID=Asia/Beirut:20220909T213000
DTEND;TZID=Asia/Beirut:20220909T213000
DTSTAMP:20260421T145642
CREATED:20220909T070404Z
LAST-MODIFIED:20220909T070404Z
UID:10001321-1662759000-1662759000@gobatroun.com
SUMMARY:DJ Booz at ODD Rooftop
DESCRIPTION:
URL:https://gobatroun.com/event/dj-booz-at-odd-rooftop-3/
LOCATION:ODD Rooftop
CATEGORIES:Performing Arts
ATTACH;FMTTYPE=image/png:https://gobatroun.com/wp-content/uploads/2022/09/Screenshot-1610.png
END:VEVENT
BEGIN:VEVENT
DTSTART;TZID=Asia/Beirut:20220909T220000
DTEND;TZID=Asia/Beirut:20220909T220000
DTSTAMP:20260421T145642
CREATED:20220908T084648Z
LAST-MODIFIED:20220908T084648Z
UID:10001102-1662760800-1662760800@gobatroun.com
SUMMARY:Maher Jah at La Taiga
DESCRIPTION:#MaherJah Every Friday Night\n#LaTaigaResort #Batroun #kafarabida\nStarting at 10:00 PM
URL:https://gobatroun.com/event/maher-jah-at-la-taiga-6/
LOCATION:La Taiga Resort Batroun\, 6MC3+CP Kfar Aabida\, Batroun\, Lebanon
CATEGORIES:Performing Arts
ATTACH;FMTTYPE=image/png:https://gobatroun.com/wp-content/uploads/2022/08/Screenshot-1478.png
GEO:34.221113189181;35.654292376004
X-APPLE-STRUCTURED-LOCATION;VALUE=URI;X-ADDRESS=La Taiga Resort Batroun 6MC3+CP Kfar Aabida Batroun Lebanon;X-APPLE-RADIUS=500;X-TITLE=6MC3+CP Kfar Aabida:geo:35.654292376004,34.221113189181
END:VEVENT
END:VCALENDAR