BEGIN:VCALENDAR
VERSION:2.0
PRODID:-//Go Batroun - ECPv6.14.2//NONSGML v1.0//EN
CALSCALE:GREGORIAN
METHOD:PUBLISH
X-ORIGINAL-URL:https://gobatroun.com
X-WR-CALDESC:Events for Go Batroun
REFRESH-INTERVAL;VALUE=DURATION:PT1H
X-Robots-Tag:noindex
X-PUBLISHED-TTL:PT1H
BEGIN:VTIMEZONE
TZID:Asia/Beirut
BEGIN:DAYLIGHT
TZOFFSETFROM:+0200
TZOFFSETTO:+0300
TZNAME:EEST
DTSTART:20220326T220000
END:DAYLIGHT
BEGIN:STANDARD
TZOFFSETFROM:+0300
TZOFFSETTO:+0200
TZNAME:EET
DTSTART:20221029T210000
END:STANDARD
END:VTIMEZONE
BEGIN:VEVENT
DTSTART;TZID=Asia/Beirut:20220908T170000
DTEND;TZID=Asia/Beirut:20220908T170000
DTSTAMP:20260421T180720
CREATED:20220907T065523Z
LAST-MODIFIED:20220907T065523Z
UID:10001311-1662656400-1662656400@gobatroun.com
SUMMARY:Movie Night at SnawBar
DESCRIPTION:🏕Join this week’s event schedule at Snaw-bar campsite🏕 \n🔸️Thursday\n-happy hour from 5:00 pm till 8:00 pm\n( 30% off drinks )\n-movie night starting 9:00 pm\ncharge: 100\,000 L.L including one free popcorn 🍿 \n《 bring a jacket or a blanket 》 \n🔸 Camping spot\n🔸 bonfire\n🔸 bar\n🔸 food\n🔸 game board\n🔸 toilets available\n🔸 tent rental is available upon reservation\n🔸 RSVP: 71942776
URL:https://gobatroun.com/event/movie-night-at-snawbar/
LOCATION:Snaw Bar
CATEGORIES:Performing Arts
ATTACH;FMTTYPE=image/png:https://gobatroun.com/wp-content/uploads/2022/09/Screenshot-1563.png
END:VEVENT
BEGIN:VEVENT
DTSTART;TZID=Asia/Beirut:20220908T200000
DTEND;TZID=Asia/Beirut:20220908T200000
DTSTAMP:20260421T180720
CREATED:20220904T171206Z
LAST-MODIFIED:20220904T171206Z
UID:10001283-1662667200-1662667200@gobatroun.com
SUMMARY:Beit El Fan
DESCRIPTION:
URL:https://gobatroun.com/event/beit-el-fan-2/
LOCATION:Mar Estfan
CATEGORIES:Performing Arts
ATTACH;FMTTYPE=image/jpeg:https://gobatroun.com/wp-content/uploads/2022/09/IMG-20220904-WA0030.jpg
END:VEVENT
BEGIN:VEVENT
DTSTART;TZID=Asia/Beirut:20220908T210000
DTEND;TZID=Asia/Beirut:20220908T210000
DTSTAMP:20260421T180720
CREATED:20220905T062102Z
LAST-MODIFIED:20220905T062102Z
UID:10001284-1662670800-1662670800@gobatroun.com
SUMMARY:80’s night at Tramway Batroun
DESCRIPTION:It’s about 80’s night EVERY THURSDAY at Tramway Batroun\, Ft. @dj_chub_official ! Let’s get the groove on 🪩 \nRSVP at 📲 03 51 41 01
URL:https://gobatroun.com/event/80s-night-at-tramway-batroun-2/
LOCATION:Tramway Gastro Pub\, 7M45+CQ Batroun\, Batroun\, Lebanon
CATEGORIES:Performing Arts
ATTACH;FMTTYPE=image/png:https://gobatroun.com/wp-content/uploads/2022/08/Screenshot-1467-1.png
END:VEVENT
BEGIN:VEVENT
DTSTART;TZID=Asia/Beirut:20220908T210000
DTEND;TZID=Asia/Beirut:20220908T210000
DTSTAMP:20260421T180720
CREATED:20220905T134655Z
LAST-MODIFIED:20220905T134655Z
UID:10001289-1662670800-1662670800@gobatroun.com
SUMMARY:Binky at Blu Bay
DESCRIPTION:
URL:https://gobatroun.com/event/binky-at-blu-bay/
LOCATION:Blu Bay Batroun\, 6MW6+QJ Batroun\, Batroun\, Lebanon
CATEGORIES:Performing Arts
ATTACH;FMTTYPE=image/png:https://gobatroun.com/wp-content/uploads/2022/09/Screenshot-1520.png
END:VEVENT
END:VCALENDAR