BEGIN:VCALENDAR
VERSION:2.0
PRODID:-//Go Batroun - ECPv6.14.2//NONSGML v1.0//EN
CALSCALE:GREGORIAN
METHOD:PUBLISH
X-WR-CALNAME:Go Batroun
X-ORIGINAL-URL:https://gobatroun.com
X-WR-CALDESC:Events for Go Batroun
REFRESH-INTERVAL;VALUE=DURATION:PT1H
X-Robots-Tag:noindex
X-PUBLISHED-TTL:PT1H
BEGIN:VTIMEZONE
TZID:Asia/Beirut
BEGIN:DAYLIGHT
TZOFFSETFROM:+0200
TZOFFSETTO:+0300
TZNAME:EEST
DTSTART:20220326T220000
END:DAYLIGHT
BEGIN:STANDARD
TZOFFSETFROM:+0300
TZOFFSETTO:+0200
TZNAME:EET
DTSTART:20221029T210000
END:STANDARD
END:VTIMEZONE
BEGIN:VEVENT
DTSTART;TZID=Asia/Beirut:20220730T170000
DTEND;TZID=Asia/Beirut:20220828T230000
DTSTAMP:20260422T030959
CREATED:20220614T102752Z
LAST-MODIFIED:20220728T074554Z
UID:10000844-1659200400-1661727600@gobatroun.com
SUMMARY:BIF2022- Batroun Art Fair
DESCRIPTION:Here it is our Annual Batroun Art Fair! \nSummer 2022 here we come!\nFor more info contact 00961 3 105700
URL:https://gobatroun.com/event/bif2022-batroun-art-fair/
LOCATION:Mina Batroun
CATEGORIES:Festivals,Performing Arts
ATTACH;FMTTYPE=image/png:https://gobatroun.com/wp-content/uploads/2022/06/Screenshot-1038.png
END:VEVENT
BEGIN:VEVENT
DTSTART;VALUE=DATE:20220807
DTEND;VALUE=DATE:20220808
DTSTAMP:20260422T030959
CREATED:20220804T221258Z
LAST-MODIFIED:20220805T070126Z
UID:10001079-1659830400-1659916799@gobatroun.com
SUMMARY:Party at Alik
DESCRIPTION:
URL:https://gobatroun.com/event/party-at-alik/
LOCATION:Alik Beach Bar
CATEGORIES:Performing Arts
ATTACH;FMTTYPE=image/jpeg:https://gobatroun.com/wp-content/uploads/2022/08/Screenshot_20220805-010558_Instagram-135x300-1.jpg
END:VEVENT
BEGIN:VEVENT
DTSTART;TZID=Asia/Beirut:20220807T100000
DTEND;TZID=Asia/Beirut:20220807T170000
DTSTAMP:20260422T030959
CREATED:20220805T071849Z
LAST-MODIFIED:20220805T071849Z
UID:10001089-1659866400-1659891600@gobatroun.com
SUMMARY:Detox ang Gut Health Masterclass With Aurelie
DESCRIPTION:
URL:https://gobatroun.com/event/detox-ang-gut-health-masterclass-with-aurelie/
LOCATION:Darma Ji
CATEGORIES:Sports
ATTACH;FMTTYPE=image/jpeg:https://gobatroun.com/wp-content/uploads/2022/08/WhatsApp-Image-2022-08-05-at-10.09.39-AM.jpeg
END:VEVENT
BEGIN:VEVENT
DTSTART;TZID=Asia/Beirut:20220807T120000
DTEND;TZID=Asia/Beirut:20220807T170000
DTSTAMP:20260422T030959
CREATED:20220802T053257Z
LAST-MODIFIED:20220802T053257Z
UID:10001054-1659873600-1659891600@gobatroun.com
SUMMARY:Big Bad Brunch at Isolé
DESCRIPTION:
URL:https://gobatroun.com/event/big-bad-brunch-at-isole-2/
LOCATION:Isolé the Beach
CATEGORIES:Performing Arts
ATTACH;FMTTYPE=image/jpeg:https://gobatroun.com/wp-content/uploads/2022/08/WhatsApp-Image-2022-08-01-at-10.57.39-PM.jpeg
END:VEVENT
BEGIN:VEVENT
DTSTART;TZID=Asia/Beirut:20220807T130000
DTEND;TZID=Asia/Beirut:20220807T233000
DTSTAMP:20260422T030959
CREATED:20220803T065546Z
LAST-MODIFIED:20220803T065546Z
UID:10001075-1659877200-1659915000@gobatroun.com
SUMMARY:Blu Island in Blu Bay
DESCRIPTION:
URL:https://gobatroun.com/event/blu-island-in-blu-bay-2/
LOCATION:Blu Bay Batroun\, 6MW6+QJ Batroun\, Batroun\, Lebanon
CATEGORIES:Performing Arts
ATTACH;FMTTYPE=image/png:https://gobatroun.com/wp-content/uploads/2022/08/Screenshot-1137.png
END:VEVENT
BEGIN:VEVENT
DTSTART;TZID=Asia/Beirut:20220807T150000
DTEND;TZID=Asia/Beirut:20220807T150000
DTSTAMP:20260422T030959
CREATED:20220801T194556Z
LAST-MODIFIED:20220801T194556Z
UID:10001049-1659884400-1659884400@gobatroun.com
SUMMARY:Borhan at La Taiga
DESCRIPTION:
URL:https://gobatroun.com/event/borhan-at-la-taiga-2/
LOCATION:La Taiga Resort Batroun\, 6MC3+CP Kfar Aabida\, Batroun\, Lebanon
CATEGORIES:Performing Arts
ATTACH;FMTTYPE=image/jpeg:https://gobatroun.com/wp-content/uploads/2022/08/Screenshot_20220801-224309_Instagram.jpg
GEO:34.221113189181;35.654292376004
X-APPLE-STRUCTURED-LOCATION;VALUE=URI;X-ADDRESS=La Taiga Resort Batroun 6MC3+CP Kfar Aabida Batroun Lebanon;X-APPLE-RADIUS=500;X-TITLE=6MC3+CP Kfar Aabida:geo:35.654292376004,34.221113189181
END:VEVENT
BEGIN:VEVENT
DTSTART;TZID=Asia/Beirut:20220807T160000
DTEND;TZID=Asia/Beirut:20220807T160000
DTSTAMP:20260422T030959
CREATED:20220805T062007Z
LAST-MODIFIED:20220805T062007Z
UID:10001081-1659888000-1659888000@gobatroun.com
SUMMARY:Nadim Attieh at La Maison Bleue
DESCRIPTION:
URL:https://gobatroun.com/event/nadim-attieh-at-la-maison-bleue/
LOCATION:La Maison Bleue kfaraabida
CATEGORIES:Performing Arts
ATTACH;FMTTYPE=image/png:https://gobatroun.com/wp-content/uploads/2022/08/Screenshot-1152.png
END:VEVENT
BEGIN:VEVENT
DTSTART;TZID=Asia/Beirut:20220807T180000
DTEND;TZID=Asia/Beirut:20220807T180000
DTSTAMP:20260422T030959
CREATED:20220728T173815Z
LAST-MODIFIED:20220728T173815Z
UID:10001029-1659895200-1659895200@gobatroun.com
SUMMARY:Dj Hrag Mikkel and Dj Jad Tannous at Pierre and Friends
DESCRIPTION:Another wild Sunday is right around the corner \nJoin us on Sunday August 7 for our second event of the summer on our decks with \n@hrag.mikkel \n• @jadtannous9 \nReservations +961 3 352930 Cheers!
URL:https://gobatroun.com/event/dj-hrag-mikkel-and-dj-jad-tannous-at-pierre-and-friends/
LOCATION:Pierre and Friends\, 6J6X+XQ Madfoun\, Batroun\, Lebanon
CATEGORIES:Performing Arts
ATTACH;FMTTYPE=image/jpeg:https://gobatroun.com/wp-content/uploads/2022/07/Screenshot_20220728-203046_Instagram.jpg
GEO:34.212423239859;35.649460262694
X-APPLE-STRUCTURED-LOCATION;VALUE=URI;X-ADDRESS=Pierre and Friends 6J6X+XQ Madfoun Batroun Lebanon;X-APPLE-RADIUS=500;X-TITLE=6J6X+XQ Madfoun:geo:35.649460262694,34.212423239859
END:VEVENT
BEGIN:VEVENT
DTSTART;TZID=Asia/Beirut:20220807T190000
DTEND;TZID=Asia/Beirut:20220807T190000
DTSTAMP:20260422T030959
CREATED:20220801T071348Z
LAST-MODIFIED:20220801T071454Z
UID:10001031-1659898800-1659898800@gobatroun.com
SUMMARY:Moha at Sept Winery
DESCRIPTION:
URL:https://gobatroun.com/event/moha-at-sept-winery/
LOCATION:Sept Winery
CATEGORIES:Performing Arts
ATTACH;FMTTYPE=image/jpeg:https://gobatroun.com/wp-content/uploads/2022/08/WhatsApp-Image-2022-08-01-at-10.05.15-AM.jpeg
END:VEVENT
BEGIN:VEVENT
DTSTART;TZID=Asia/Beirut:20220807T190000
DTEND;TZID=Asia/Beirut:20220807T190000
DTSTAMP:20260422T030959
CREATED:20220803T062905Z
LAST-MODIFIED:20220803T062905Z
UID:10001065-1659898800-1659898800@gobatroun.com
SUMMARY:Rachi and Daly Gana at Casa Cartel
DESCRIPTION:
URL:https://gobatroun.com/event/rachi-and-daly-gana-at-casa-cartel/
LOCATION:Casa Cartel Batroun
CATEGORIES:Performing Arts
ATTACH;FMTTYPE=image/jpeg:https://gobatroun.com/wp-content/uploads/2022/08/WhatsApp-Image-2022-08-03-at-9.17.09-AM.jpeg
END:VEVENT
BEGIN:VEVENT
DTSTART;TZID=Asia/Beirut:20220807T203000
DTEND;TZID=Asia/Beirut:20220807T203000
DTSTAMP:20260422T030959
CREATED:20220801T185738Z
LAST-MODIFIED:20220801T185738Z
UID:10001035-1659904200-1659904200@gobatroun.com
SUMMARY:The Red Right Band at Green House
DESCRIPTION:Greenhousecafeandbar This Saturday The Red Right Band will throw you back to the golden era of modern music where people suited up and danced to the rhythms of jazz and swing music while sipping on their favorite drink of choice. \nExpect to listen to some tunes from the American songbook and some jazz adaptations of contemporary tunes. \nSaturday August 07 Starting 8:30 pm \nIndoor band charge 100.000 LBP \nOutdoor No band charge \nRsvp 70125310 \n  \n 
URL:https://gobatroun.com/event/the-red-right-band-at-green-house-2/
LOCATION:Green House Batroun
CATEGORIES:Performing Arts
ATTACH;FMTTYPE=image/jpeg:https://gobatroun.com/wp-content/uploads/2022/08/Screenshot_20220801-215030_Instagram.jpg
END:VEVENT
BEGIN:VEVENT
DTSTART;TZID=Asia/Beirut:20220807T203000
DTEND;TZID=Asia/Beirut:20220807T203000
DTSTAMP:20260422T030959
CREATED:20220801T190734Z
LAST-MODIFIED:20220801T190734Z
UID:10001039-1659904200-1659904200@gobatroun.com
SUMMARY:Rashid El Najjar at Tramway Batroun
DESCRIPTION:This Sunday\, August 7\, with Rashid El Najjar ft. @dj_chub_official at Tramway Batroun\, starting 9:00PM \nRSVT at +961 03 51 41 01
URL:https://gobatroun.com/event/rashid-el-najjar-at-tramway-batroun-3/
LOCATION:Tramway Gastro Pub\, 7M45+CQ Batroun\, Batroun\, Lebanon
CATEGORIES:Performing Arts
ATTACH;FMTTYPE=image/jpeg:https://gobatroun.com/wp-content/uploads/2022/08/Screenshot_20220801-220004_Instagram.jpg
END:VEVENT
BEGIN:VEVENT
DTSTART;TZID=Asia/Beirut:20220807T210000
DTEND;TZID=Asia/Beirut:20220807T210000
DTSTAMP:20260422T030959
CREATED:20220801T062337Z
LAST-MODIFIED:20220801T062337Z
UID:10000909-1659906000-1659906000@gobatroun.com
SUMMARY:Hadi Daou at ODD Rooftop
DESCRIPTION:@hadidaouofficial this & every Sunday on the rooftop \nInfo & rsvp 76 424 999
URL:https://gobatroun.com/event/hadi-daou-at-odd-rooftop-2/
LOCATION:ODD Rooftop
CATEGORIES:Performing Arts
ATTACH;FMTTYPE=image/png:https://gobatroun.com/wp-content/uploads/2022/08/Screenshot-1081.png
END:VEVENT
BEGIN:VEVENT
DTSTART;TZID=Asia/Beirut:20220807T220000
DTEND;TZID=Asia/Beirut:20220807T220000
DTSTAMP:20260422T030959
CREATED:20220803T063721Z
LAST-MODIFIED:20220803T063721Z
UID:10001069-1659909600-1659909600@gobatroun.com
SUMMARY:Ziad Bourji at Kai
DESCRIPTION:We’ve got a legendary night in store for you\nthis Sunday\, 7 August with one of our all time favorite voices @ziadbourji . Get ready for a magical night-time performance at Kai Beach\, giving you the perfect finale to an extraordinary weekend. \nDoors open at 10 pm.\nInfo & Reservations 79 188 988 or 76 744 844
URL:https://gobatroun.com/event/ziad-bourji-at-kai/
LOCATION:Kai Beach\, 6J7X+FV Madfoun\, Madfoun\, Lebanon
CATEGORIES:Performing Arts
ATTACH;FMTTYPE=image/png:https://gobatroun.com/wp-content/uploads/2022/08/Screenshot-1136.png
END:VEVENT
END:VCALENDAR