BEGIN:VCALENDAR
VERSION:2.0
PRODID:-//Go Batroun - ECPv6.14.2//NONSGML v1.0//EN
CALSCALE:GREGORIAN
METHOD:PUBLISH
X-ORIGINAL-URL:https://gobatroun.com
X-WR-CALDESC:Events for Go Batroun
REFRESH-INTERVAL;VALUE=DURATION:PT1H
X-Robots-Tag:noindex
X-PUBLISHED-TTL:PT1H
BEGIN:VTIMEZONE
TZID:Asia/Beirut
BEGIN:DAYLIGHT
TZOFFSETFROM:+0200
TZOFFSETTO:+0300
TZNAME:EEST
DTSTART:20220326T220000
END:DAYLIGHT
BEGIN:STANDARD
TZOFFSETFROM:+0300
TZOFFSETTO:+0200
TZNAME:EET
DTSTART:20221029T210000
END:STANDARD
END:VTIMEZONE
BEGIN:VEVENT
DTSTART;VALUE=DATE:20220716
DTEND;VALUE=DATE:20220729
DTSTAMP:20260423T083706
CREATED:20220720T172445Z
LAST-MODIFIED:20220720T172445Z
UID:10000849-1657929600-1659052799@gobatroun.com
SUMMARY:ليالي سوق دوما
DESCRIPTION:
URL:https://gobatroun.com/event/%d9%84%d9%8a%d8%a7%d9%84%d9%8a-%d8%b3%d9%88%d9%82-%d8%af%d9%88%d9%85%d8%a7/
LOCATION:Douma\, 6R4Q+7J3\,\, Douma\, Lebanon
CATEGORIES:Festivals,Performing Arts
ATTACH;FMTTYPE=image/jpeg:https://gobatroun.com/wp-content/uploads/2022/07/PhotoGrid_Plus_1658337634336-scaled.jpg
GEO:34.205635417169;35.839081809552
X-APPLE-STRUCTURED-LOCATION;VALUE=URI;X-ADDRESS=Douma 6R4Q+7J3 Douma Lebanon;X-APPLE-RADIUS=500;X-TITLE=6R4Q+7J3\,:geo:35.839081809552,34.205635417169
END:VEVENT
BEGIN:VEVENT
DTSTART;TZID=Asia/Beirut:20220727T080000
DTEND;TZID=Asia/Beirut:20220727T170000
DTSTAMP:20260423T083706
CREATED:20220727T064007Z
LAST-MODIFIED:20220727T064007Z
UID:10001011-1658908800-1658941200@gobatroun.com
SUMMARY:Rea and HITCH at Colonel Reef
DESCRIPTION:We’ve got Saturdays sorted out for you. This Saturday (and every Saturday\, YAS!) make your way down to @colonelbeer @colonelreefbatroun to enjoy the best party of the season! Because let’s be honest\, summer is all about dancing. We’re hosting @reab08 and @hitch.wav behind the decks\, and we’ll be eagerly waiting for you to join us on the dance floor along with @rubikforeventlogistics \n⏰ Starting 8 p.m.\n📍Colonel Beer\, Batroun\n2️⃣ 2nd edition\n📞 03743543 \n🤙 Entrance: 200.000 L.L.
URL:https://gobatroun.com/event/rea-and-hitch-at-colonel-reef/
LOCATION:Colonel Reef\, 6MX5+R2 Batroun\, Batroun\, Lebanon
CATEGORIES:Performing Arts
ATTACH;FMTTYPE=image/png:https://gobatroun.com/wp-content/uploads/2022/07/Screenshot-1017.png
GEO:34.249604995751;35.657635266722
X-APPLE-STRUCTURED-LOCATION;VALUE=URI;X-ADDRESS=Colonel Reef 6MX5+R2 Batroun Batroun Lebanon;X-APPLE-RADIUS=500;X-TITLE=6MX5+R2 Batroun:geo:35.657635266722,34.249604995751
END:VEVENT
BEGIN:VEVENT
DTSTART;TZID=Asia/Beirut:20220727T190000
DTEND;TZID=Asia/Beirut:20220727T190000
DTSTAMP:20260423T083706
CREATED:20220715T104626Z
LAST-MODIFIED:20220727T060012Z
UID:10000938-1658948400-1658948400@gobatroun.com
SUMMARY:Ingrid at Casa Castel
DESCRIPTION:This Wednesday at Casa Cartel 🔥. \nFor bookings 📞 71000599
URL:https://gobatroun.com/event/ingrid-at-casa-castel/
LOCATION:Casa Cartel Batroun
CATEGORIES:Performing Arts
ATTACH;FMTTYPE=image/png:https://gobatroun.com/wp-content/uploads/2022/07/Screenshot-1009.png
END:VEVENT
BEGIN:VEVENT
DTSTART;TZID=Asia/Beirut:20220727T220000
DTEND;TZID=Asia/Beirut:20220727T220000
DTSTAMP:20260423T083706
CREATED:20220725T051937Z
LAST-MODIFIED:20220725T051937Z
UID:10000984-1658959200-1658959200@gobatroun.com
SUMMARY:Naji Osta at Kai Beach Club
DESCRIPTION:Wednesday 27 July\, star @ostanaji live at Kai Beach Club. \nDoors open at 10 pm.\nInfo & Reservations 79188988
URL:https://gobatroun.com/event/naji-osta-at-kai-beach-club/
LOCATION:Kai Beach\, 6J7X+FV Madfoun\, Madfoun\, Lebanon
CATEGORIES:Performing Arts
ATTACH;FMTTYPE=image/png:https://gobatroun.com/wp-content/uploads/2022/07/Screenshot-994.png
END:VEVENT
BEGIN:VEVENT
DTSTART;VALUE=DATE:20220728
DTEND;VALUE=DATE:20220801
DTSTAMP:20260423T083706
CREATED:20220727T053253Z
LAST-MODIFIED:20220727T053253Z
UID:10000986-1658966400-1659311999@gobatroun.com
SUMMARY:Wellness Stay at Mayouli
DESCRIPTION:A calming and rejuvenating experience at the heart of @mayoulibatroun \nValid from Thursday to Sunday \nBook your wellness stay for two people\, a package that includes the following: \nOne night stay\nYoga class at @ohanayogabythesea\nPostural Correction Massage by @souad.wellness\nCoffee and Dessert of your choice by @cafeyounes \nSingle occupancy: 100$\nDouble occupancy: 150$ \nThis offer is valid for a limited time only\, so book yours by contacting:\n+961 71 000 516
URL:https://gobatroun.com/event/wellness-stay-at-mayouli/
LOCATION:Mayouli\, 7M88+PP Batroun\, Batroun\, Lebanon
CATEGORIES:Sports
ATTACH;FMTTYPE=image/png:https://gobatroun.com/wp-content/uploads/2022/07/Screenshot-998.png
GEO:34.266795819013;35.666856562531
X-APPLE-STRUCTURED-LOCATION;VALUE=URI;X-ADDRESS=Mayouli 7M88+PP Batroun Batroun Lebanon;X-APPLE-RADIUS=500;X-TITLE=7M88+PP Batroun:geo:35.666856562531,34.266795819013
END:VEVENT
END:VCALENDAR