BEGIN:VCALENDAR
VERSION:2.0
PRODID:-//Go Batroun - ECPv6.14.2//NONSGML v1.0//EN
CALSCALE:GREGORIAN
METHOD:PUBLISH
X-ORIGINAL-URL:https://gobatroun.com
X-WR-CALDESC:Events for Go Batroun
REFRESH-INTERVAL;VALUE=DURATION:PT1H
X-Robots-Tag:noindex
X-PUBLISHED-TTL:PT1H
BEGIN:VTIMEZONE
TZID:Asia/Beirut
BEGIN:DAYLIGHT
TZOFFSETFROM:+0200
TZOFFSETTO:+0300
TZNAME:EEST
DTSTART:20220326T220000
END:DAYLIGHT
BEGIN:STANDARD
TZOFFSETFROM:+0300
TZOFFSETTO:+0200
TZNAME:EET
DTSTART:20221029T210000
END:STANDARD
END:VTIMEZONE
BEGIN:VEVENT
DTSTART;VALUE=DATE:20220716
DTEND;VALUE=DATE:20220729
DTSTAMP:20260421T080755
CREATED:20220720T172445Z
LAST-MODIFIED:20220720T172445Z
UID:10000849-1657929600-1659052799@gobatroun.com
SUMMARY:ليالي سوق دوما
DESCRIPTION:
URL:https://gobatroun.com/event/%d9%84%d9%8a%d8%a7%d9%84%d9%8a-%d8%b3%d9%88%d9%82-%d8%af%d9%88%d9%85%d8%a7/
LOCATION:Douma\, 6R4Q+7J3\,\, Douma\, Lebanon
CATEGORIES:Festivals,Performing Arts
ATTACH;FMTTYPE=image/jpeg:https://gobatroun.com/wp-content/uploads/2022/07/PhotoGrid_Plus_1658337634336-scaled.jpg
GEO:34.205635417169;35.839081809552
X-APPLE-STRUCTURED-LOCATION;VALUE=URI;X-ADDRESS=Douma 6R4Q+7J3 Douma Lebanon;X-APPLE-RADIUS=500;X-TITLE=6R4Q+7J3\,:geo:35.839081809552,34.205635417169
END:VEVENT
BEGIN:VEVENT
DTSTART;VALUE=DATE:20220721
DTEND;VALUE=DATE:20220725
DTSTAMP:20260421T080756
CREATED:20220614T103107Z
LAST-MODIFIED:20220721T061104Z
UID:10000846-1658361600-1658707199@gobatroun.com
SUMMARY:BIF2022- Marche du Port
DESCRIPTION:Summer 2022 here we come!\nFor more info contact 00961 3 105700
URL:https://gobatroun.com/event/bif2022-marche-du-port/
LOCATION:TBD
CATEGORIES:Festivals
ATTACH;FMTTYPE=image/png:https://gobatroun.com/wp-content/uploads/2022/06/Screenshot-32.png
END:VEVENT
BEGIN:VEVENT
DTSTART;VALUE=DATE:20220724
DTEND;VALUE=DATE:20220725
DTSTAMP:20260421T080756
CREATED:20220721T100951Z
LAST-MODIFIED:20220721T100951Z
UID:10000855-1658620800-1658707199@gobatroun.com
SUMMARY:Dj Crow at Alik Beach Bar
DESCRIPTION:
URL:https://gobatroun.com/event/dj-crow-at-alik-beach-bar/
LOCATION:Alik Beach Bar
CATEGORIES:Performing Arts,Sports
ATTACH;FMTTYPE=image/jpeg:https://gobatroun.com/wp-content/uploads/2022/07/WhatsApp-Image-2022-07-21-at-1.07.02-PM.jpeg
END:VEVENT
BEGIN:VEVENT
DTSTART;TZID=Asia/Beirut:20220724T140000
DTEND;TZID=Asia/Beirut:20220724T170000
DTSTAMP:20260421T080756
CREATED:20220630T104751Z
LAST-MODIFIED:20220630T105707Z
UID:10000893-1658671200-1658682000@gobatroun.com
SUMMARY:Niha Sunset Hike and Yoga
DESCRIPTION:Check our events schedule & Book your tour
URL:https://gobatroun.com/event/niha-sunset-hike-and-yoga/
LOCATION:Routes
CATEGORIES:Sports
ATTACH;FMTTYPE=image/jpeg:https://gobatroun.com/wp-content/uploads/2022/06/291040551_3280492348861423_2326920589207862471_n.jpg
END:VEVENT
BEGIN:VEVENT
DTSTART;TZID=Asia/Beirut:20220724T140000
DTEND;TZID=Asia/Beirut:20220724T170000
DTSTAMP:20260421T080756
CREATED:20220722T085346Z
LAST-MODIFIED:20220722T095112Z
UID:10000867-1658671200-1658682000@gobatroun.com
SUMMARY:Rock Climbing with Flying Frog
DESCRIPTION:Join us this Sunday for your first Rock Climbing session\nOr schedule your private session with flexible timings \n76495495
URL:https://gobatroun.com/event/rock-climbing-with-flying-frog/
LOCATION:Tannourine
CATEGORIES:Sports
ATTACH;FMTTYPE=image/png:https://gobatroun.com/wp-content/uploads/2022/07/Screenshot-80.png
END:VEVENT
BEGIN:VEVENT
DTSTART;TZID=Asia/Beirut:20220724T150000
DTEND;TZID=Asia/Beirut:20220724T170000
DTSTAMP:20260421T080756
CREATED:20220719T085047Z
LAST-MODIFIED:20220719T085047Z
UID:10000961-1658674800-1658682000@gobatroun.com
SUMMARY:Borhan at La Taiga
DESCRIPTION:
URL:https://gobatroun.com/event/borhan-at-la-taiga/
LOCATION:La Taiga Resort Batroun\, 6MC3+CP Kfar Aabida\, Batroun\, Lebanon
CATEGORIES:Performing Arts
ATTACH;FMTTYPE=image/png:https://gobatroun.com/wp-content/uploads/2022/07/Screenshot-970.png
GEO:34.221113189181;35.654292376004
X-APPLE-STRUCTURED-LOCATION;VALUE=URI;X-ADDRESS=La Taiga Resort Batroun 6MC3+CP Kfar Aabida Batroun Lebanon;X-APPLE-RADIUS=500;X-TITLE=6MC3+CP Kfar Aabida:geo:35.654292376004,34.221113189181
END:VEVENT
BEGIN:VEVENT
DTSTART;TZID=Asia/Beirut:20220724T180000
DTEND;TZID=Asia/Beirut:20220724T180000
DTSTAMP:20260421T080756
CREATED:20220722T095258Z
LAST-MODIFIED:20220722T095258Z
UID:10000982-1658685600-1658685600@gobatroun.com
SUMMARY:Natalya at La Maison Bleue
DESCRIPTION:JOIN US FOR THE LIVE PERFORMANCE OF NATALYA AT LA MAISON BLEUE! 😍🔥 \nThis Sunday we’re kicking it up with your favorite oriental beats to the soothing voice of @natalyasafyofficial ✨ \nWhat are you waiting for? BOOK YOUR TABLE NOW! \n📞70 999 586
URL:https://gobatroun.com/event/natalya-at-la-maison-bleue/
LOCATION:La Maison Bleue kfaraabida
CATEGORIES:Performing Arts
ATTACH;FMTTYPE=image/png:https://gobatroun.com/wp-content/uploads/2022/07/Screenshot-87.png
END:VEVENT
BEGIN:VEVENT
DTSTART;TZID=Asia/Beirut:20220724T183000
DTEND;TZID=Asia/Beirut:20220724T183000
DTSTAMP:20260421T080756
CREATED:20220722T092230Z
LAST-MODIFIED:20220722T092230Z
UID:10000980-1658687400-1658687400@gobatroun.com
SUMMARY:Big Bad Brunch at Isolé
DESCRIPTION:It’s big\, it’s bad\, and it’s like nothing you’ve ever had🫠
URL:https://gobatroun.com/event/big-bad-brunch-at-isole/
LOCATION:Isolé the Beach
CATEGORIES:Performing Arts
ATTACH;FMTTYPE=image/png:https://gobatroun.com/wp-content/uploads/2022/07/Screenshot-83.png
END:VEVENT
BEGIN:VEVENT
DTSTART;TZID=Asia/Beirut:20220724T190000
DTEND;TZID=Asia/Beirut:20220724T190000
DTSTAMP:20260421T080756
CREATED:20220719T100451Z
LAST-MODIFIED:20220719T100451Z
UID:10000974-1658689200-1658689200@gobatroun.com
SUMMARY:Mariam Mezher at Green House
DESCRIPTION:
URL:https://gobatroun.com/event/mariam-mezher-at-green-house/
LOCATION:Green House Batroun
CATEGORIES:Performing Arts
ATTACH;FMTTYPE=image/png:https://gobatroun.com/wp-content/uploads/2022/07/Screenshot-976.png
END:VEVENT
BEGIN:VEVENT
DTSTART;TZID=Asia/Beirut:20220724T200000
DTEND;TZID=Asia/Beirut:20220724T200000
DTSTAMP:20260421T080756
CREATED:20220713T110417Z
LAST-MODIFIED:20220713T110525Z
UID:10000817-1658692800-1658692800@gobatroun.com
SUMMARY:DJ Rodge at Casa Cartel
DESCRIPTION:Lock down that date! Sunday\, July 24!\n@rodgemix will be doing what he does best🔥. \nBatroun will be boiling HOT!\nRsvp 71 000 599
URL:https://gobatroun.com/event/dj-rodge-at-casa-cartel/
LOCATION:Casa Cartel Batroun
CATEGORIES:Performing Arts
ATTACH;FMTTYPE=image/png:https://gobatroun.com/wp-content/uploads/2022/07/Screenshot-940.png
END:VEVENT
BEGIN:VEVENT
DTSTART;TZID=Asia/Beirut:20220724T200000
DTEND;TZID=Asia/Beirut:20220724T200000
DTSTAMP:20260421T080756
CREATED:20220722T092830Z
LAST-MODIFIED:20220722T092830Z
UID:10000981-1658692800-1658692800@gobatroun.com
SUMMARY:Joelle and  Elie Dargham at Vine Wine Bar
DESCRIPTION:join us for some live acoustic music with @joelle__makhoul & @mrdargham this Sunday\, July 24 \nstarting 8:00 pm \n. \nFor bookings – 71 455 882
URL:https://gobatroun.com/event/joelle-and-elie-dargham-at-vine-wine-bar/
LOCATION:Vine\, Smar Jbeil\, 6M9R+95 Smar Jbeil\, Smar Jbeil\, Lebanon
CATEGORIES:Performing Arts
ATTACH;FMTTYPE=image/png:https://gobatroun.com/wp-content/uploads/2022/07/Screenshot-85.png
END:VEVENT
BEGIN:VEVENT
DTSTART;TZID=Asia/Beirut:20220724T203000
DTEND;TZID=Asia/Beirut:20220724T203000
DTSTAMP:20260421T080756
CREATED:20220721T114444Z
LAST-MODIFIED:20220721T114758Z
UID:10000861-1658694600-1658694600@gobatroun.com
SUMMARY:Hadi Daou at OOD RoofTop
DESCRIPTION:
URL:https://gobatroun.com/event/hadi-daou-at-ood-rooftop/
LOCATION:ODD Rooftop
CATEGORIES:Performing Arts
ATTACH;FMTTYPE=image/jpeg:https://gobatroun.com/wp-content/uploads/2022/07/WhatsApp-Image-2022-07-21-at-2.45.06-PM-2.jpeg
END:VEVENT
BEGIN:VEVENT
DTSTART;TZID=Asia/Beirut:20220724T210000
DTEND;TZID=Asia/Beirut:20220724T210000
DTSTAMP:20260421T080756
CREATED:20220719T092126Z
LAST-MODIFIED:20220719T092126Z
UID:10000971-1658696400-1658696400@gobatroun.com
SUMMARY:Rashid El Najjar at Tramway Batroun
DESCRIPTION:Sing\, dance and drink with Rashid El Najjar this Sunday\, July 24 at Tramway Batroun\, starting 9:00PM \nRSVP at 📲 +961 03 51 41 01
URL:https://gobatroun.com/event/rashid-el-najjar-at-tramway-batroun/
LOCATION:Tramway Gastro Pub\, 7M45+CQ Batroun\, Batroun\, Lebanon
CATEGORIES:Performing Arts
ATTACH;FMTTYPE=image/png:https://gobatroun.com/wp-content/uploads/2022/07/Screenshot-974.png
END:VEVENT
END:VCALENDAR