BEGIN:VCALENDAR
VERSION:2.0
PRODID:-//Go Batroun - ECPv6.14.2//NONSGML v1.0//EN
CALSCALE:GREGORIAN
METHOD:PUBLISH
X-WR-CALNAME:Go Batroun
X-ORIGINAL-URL:https://gobatroun.com
X-WR-CALDESC:Events for Go Batroun
REFRESH-INTERVAL;VALUE=DURATION:PT1H
X-Robots-Tag:noindex
X-PUBLISHED-TTL:PT1H
BEGIN:VTIMEZONE
TZID:Asia/Beirut
BEGIN:DAYLIGHT
TZOFFSETFROM:+0200
TZOFFSETTO:+0300
TZNAME:EEST
DTSTART:20220326T220000
END:DAYLIGHT
BEGIN:STANDARD
TZOFFSETFROM:+0300
TZOFFSETTO:+0200
TZNAME:EET
DTSTART:20221029T210000
END:STANDARD
END:VTIMEZONE
BEGIN:VEVENT
DTSTART;VALUE=DATE:20220716
DTEND;VALUE=DATE:20220729
DTSTAMP:20260422T013355
CREATED:20220720T172445Z
LAST-MODIFIED:20220720T172445Z
UID:10000849-1657929600-1659052799@gobatroun.com
SUMMARY:ليالي سوق دوما
DESCRIPTION:
URL:https://gobatroun.com/event/%d9%84%d9%8a%d8%a7%d9%84%d9%8a-%d8%b3%d9%88%d9%82-%d8%af%d9%88%d9%85%d8%a7/
LOCATION:Douma\, 6R4Q+7J3\,\, Douma\, Lebanon
CATEGORIES:Festivals,Performing Arts
ATTACH;FMTTYPE=image/jpeg:https://gobatroun.com/wp-content/uploads/2022/07/PhotoGrid_Plus_1658337634336-scaled.jpg
GEO:34.205635417169;35.839081809552
X-APPLE-STRUCTURED-LOCATION;VALUE=URI;X-ADDRESS=Douma 6R4Q+7J3 Douma Lebanon;X-APPLE-RADIUS=500;X-TITLE=6R4Q+7J3\,:geo:35.839081809552,34.205635417169
END:VEVENT
BEGIN:VEVENT
DTSTART;VALUE=DATE:20220721
DTEND;VALUE=DATE:20220725
DTSTAMP:20260422T013355
CREATED:20220614T103107Z
LAST-MODIFIED:20220721T061104Z
UID:10000846-1658361600-1658707199@gobatroun.com
SUMMARY:BIF2022- Marche du Port
DESCRIPTION:Summer 2022 here we come!\nFor more info contact 00961 3 105700
URL:https://gobatroun.com/event/bif2022-marche-du-port/
LOCATION:TBD
CATEGORIES:Festivals
ATTACH;FMTTYPE=image/png:https://gobatroun.com/wp-content/uploads/2022/06/Screenshot-32.png
END:VEVENT
BEGIN:VEVENT
DTSTART;TZID=Asia/Beirut:20220722T183000
DTEND;TZID=Asia/Beirut:20220722T200000
DTSTAMP:20260422T013355
CREATED:20220722T091100Z
LAST-MODIFIED:20220722T091127Z
UID:10000978-1658514600-1658520000@gobatroun.com
SUMMARY:Yoga Meets Electronic Music at Isolé
DESCRIPTION:This Friday\, Yoga meets electronic music at @isolethebeach. Practice The Yogiventures Flow\, offered by @yogawithserah with a live DJ set by @soupio_samaha at 6:30 pm. \nRegistration opens at 6:00 pm\nClass starts at 6:30 pm\nCost: 300\,000 Includes entrance to Decks On the Beach\nPlease bring your own mat. \nThis event’s attendees will receive a 25% discount on all classes at @ohanayogabythesea
URL:https://gobatroun.com/event/yoga-meets-electronic-music-at-isole/
LOCATION:Isolé the Beach
CATEGORIES:Performing Arts,Sports
ATTACH;FMTTYPE=image/png:https://gobatroun.com/wp-content/uploads/2022/07/Screenshot-81.png
END:VEVENT
BEGIN:VEVENT
DTSTART;TZID=Asia/Beirut:20220722T190000
DTEND;TZID=Asia/Beirut:20220722T190000
DTSTAMP:20260422T013355
CREATED:20220719T050928Z
LAST-MODIFIED:20220719T051001Z
UID:10000953-1658516400-1658516400@gobatroun.com
SUMMARY:Joy Moughanni\, Ledwarf\, Serge Volant\, and YSF at Isolé
DESCRIPTION:Early birds get worms but what do psychedelic disco-shnoof infected pigeons get??😋😋😵😵\nA throw-down like no other at the edge of the sea 🥳🌊🌊🏝🏝🤤🤤🕊🕊🪱🪱\nJoy from pomme rouge will be there to saddle you in\, serge volant will be there to fly you out\, ledwarf will lead us into his hobbit cave\, and ysf will be your captain 🧑🏼‍✈️🧑🏼‍✈️🧑🏼‍✈️🧑🏼‍✈️ 🧜🏼🧜🏼🧜🏼🧜🏼 \n@raphaellemacaron thank you these pigeons will now haunt us eternally🙀👻 \n7pm- 9pm : 300\,000LL\n9pm- 1am: 400\,000LL \nTables and infoline 71-694469
URL:https://gobatroun.com/event/joy-moughanni-ledwarf-serge-volant-and-ysf-at-isole/
LOCATION:Isolé the Beach
CATEGORIES:Performing Arts
ATTACH;FMTTYPE=image/png:https://gobatroun.com/wp-content/uploads/2022/07/Screenshot-964.png
END:VEVENT
BEGIN:VEVENT
DTSTART;TZID=Asia/Beirut:20220722T193000
DTEND;TZID=Asia/Beirut:20220722T193000
DTSTAMP:20260422T013355
CREATED:20220722T095328Z
LAST-MODIFIED:20220722T095328Z
UID:10000983-1658518200-1658518200@gobatroun.com
SUMMARY:Samer Maroon at La Maison Bleue
DESCRIPTION:Samer Maroon is making a comeback at La Maison Bleue! 😍 \nWatch his live performance with a drink in your hand this Friday 22 July! 🔥 tap the event for a reminder ❤️ \nSee you on the dance floor! 💃
URL:https://gobatroun.com/event/samer-maroon-at-la-maison-bleue-2/
LOCATION:La Maison Bleue kfaraabida
CATEGORIES:Performing Arts
ATTACH;FMTTYPE=image/png:https://gobatroun.com/wp-content/uploads/2022/07/Screenshot-88.png
END:VEVENT
BEGIN:VEVENT
DTSTART;TZID=Asia/Beirut:20220722T200000
DTEND;TZID=Asia/Beirut:20220722T200000
DTSTAMP:20260422T013355
CREATED:20220721T111947Z
LAST-MODIFIED:20220721T111947Z
UID:10000857-1658520000-1658520000@gobatroun.com
SUMMARY:DJ Akreo at Blu Bay
DESCRIPTION:
URL:https://gobatroun.com/event/dj-akreo-at-blu-bay/
LOCATION:Blu Bay Batroun\, 6MW6+QJ Batroun\, Batroun\, Lebanon
CATEGORIES:Performing Arts
ATTACH;FMTTYPE=image/png:https://gobatroun.com/wp-content/uploads/2022/07/Screenshot-980.png
END:VEVENT
BEGIN:VEVENT
DTSTART;TZID=Asia/Beirut:20220722T203000
DTEND;TZID=Asia/Beirut:20220722T203000
DTSTAMP:20260422T013355
CREATED:20220720T091755Z
LAST-MODIFIED:20220720T091755Z
UID:10000975-1658521800-1658521800@gobatroun.com
SUMMARY:Loopstache at Colonel Beach Bar
DESCRIPTION:@loopstache is taking over @colonelreefbatroun on Friday July 22th! We’re partying by the beach\, so gather your pals and meet us on the dance floor! \n⏰ 8:30 p.m. \n👉 For bookings: 03743543
URL:https://gobatroun.com/event/loopstache-at-colonel-beach-bar-2/
LOCATION:Colonel Reef\, 6MX5+R2 Batroun\, Batroun\, Lebanon
CATEGORIES:Performing Arts
ATTACH;FMTTYPE=image/png:https://gobatroun.com/wp-content/uploads/2022/07/Screenshot-910.png
GEO:34.249604995751;35.657635266722
X-APPLE-STRUCTURED-LOCATION;VALUE=URI;X-ADDRESS=Colonel Reef 6MX5+R2 Batroun Batroun Lebanon;X-APPLE-RADIUS=500;X-TITLE=6MX5+R2 Batroun:geo:35.657635266722,34.249604995751
END:VEVENT
BEGIN:VEVENT
DTSTART;TZID=Asia/Beirut:20220722T203000
DTEND;TZID=Asia/Beirut:20220722T203000
DTSTAMP:20260422T013355
CREATED:20220721T114449Z
LAST-MODIFIED:20220721T114725Z
UID:10000865-1658521800-1658521800@gobatroun.com
SUMMARY:Dj Booz at OOD Rooftop
DESCRIPTION:
URL:https://gobatroun.com/event/dj-booz-at-ood-rooftop/
LOCATION:ODD Rooftop
CATEGORIES:Performing Arts
ATTACH;FMTTYPE=image/jpeg:https://gobatroun.com/wp-content/uploads/2022/07/WhatsApp-Image-2022-07-21-at-2.45.06-PM.jpeg
END:VEVENT
BEGIN:VEVENT
DTSTART;TZID=Asia/Beirut:20220722T210000
DTEND;TZID=Asia/Beirut:20220722T210000
DTSTAMP:20260422T013355
CREATED:20220720T173131Z
LAST-MODIFIED:20220720T173131Z
UID:10000851-1658523600-1658523600@gobatroun.com
SUMMARY:The Amberjacks at Darmaji Batroun
DESCRIPTION:It’s this Friday♫ \n  \nMeet the Amberjacks at Darmaji/Orenda Batroun playing Rock\, Reggae and Alternative music \n  \nReservation is a must 03927886
URL:https://gobatroun.com/event/the-amberjacks-at-darmaji-batroun/
LOCATION:Orenda
CATEGORIES:Performing Arts
ATTACH;FMTTYPE=image/jpeg:https://gobatroun.com/wp-content/uploads/2022/07/Screenshot_20220720-202709_Instagram.jpg
END:VEVENT
BEGIN:VEVENT
DTSTART;TZID=Asia/Beirut:20220722T213000
DTEND;TZID=Asia/Beirut:20220722T213000
DTSTAMP:20260422T013355
CREATED:20220718T071459Z
LAST-MODIFIED:20220718T071459Z
UID:10000951-1658525400-1658525400@gobatroun.com
SUMMARY:Viny Roumy at Gávea Beach Bar
DESCRIPTION:22.07.22 🎧 \nCatch @vinyroumy on our decks next Friday for an exclusive jam session. See you on the dance floor 🕺🏻🫶🏼💃🏻 \nFor Reservations 📞 03 075 939
URL:https://gobatroun.com/event/viny-roumy-at-gavea-beach-bar/
LOCATION:Gávea Beach Bar
CATEGORIES:Performing Arts
ATTACH;FMTTYPE=image/png:https://gobatroun.com/wp-content/uploads/2022/07/Screenshot-961.png
END:VEVENT
BEGIN:VEVENT
DTSTART;TZID=Asia/Beirut:20220722T220000
DTEND;TZID=Asia/Beirut:20220722T220000
DTSTAMP:20260422T013355
CREATED:20220719T085156Z
LAST-MODIFIED:20220722T095928Z
UID:10000965-1658527200-1658527200@gobatroun.com
SUMMARY:Maher Jah at La Taiga
DESCRIPTION:#MaherJah Every Friday Night\n#LaTaigaResort #Batroun #kafarabida\nStarting at 10:00 PM
URL:https://gobatroun.com/event/maher-jah-at-la-taiga/
LOCATION:La Taiga Resort Batroun\, 6MC3+CP Kfar Aabida\, Batroun\, Lebanon
CATEGORIES:Performing Arts
ATTACH;FMTTYPE=image/png:https://gobatroun.com/wp-content/uploads/2022/07/Screenshot-968.png
GEO:34.221113189181;35.654292376004
X-APPLE-STRUCTURED-LOCATION;VALUE=URI;X-ADDRESS=La Taiga Resort Batroun 6MC3+CP Kfar Aabida Batroun Lebanon;X-APPLE-RADIUS=500;X-TITLE=6MC3+CP Kfar Aabida:geo:35.654292376004,34.221113189181
END:VEVENT
END:VCALENDAR