BEGIN:VCALENDAR
VERSION:2.0
PRODID:-//Go Batroun - ECPv6.14.2//NONSGML v1.0//EN
CALSCALE:GREGORIAN
METHOD:PUBLISH
X-WR-CALNAME:Go Batroun
X-ORIGINAL-URL:https://gobatroun.com
X-WR-CALDESC:Events for Go Batroun
REFRESH-INTERVAL;VALUE=DURATION:PT1H
X-Robots-Tag:noindex
X-PUBLISHED-TTL:PT1H
BEGIN:VTIMEZONE
TZID:Asia/Beirut
BEGIN:DAYLIGHT
TZOFFSETFROM:+0200
TZOFFSETTO:+0300
TZNAME:EEST
DTSTART:20220326T220000
END:DAYLIGHT
BEGIN:STANDARD
TZOFFSETFROM:+0300
TZOFFSETTO:+0200
TZNAME:EET
DTSTART:20221029T210000
END:STANDARD
END:VTIMEZONE
BEGIN:VEVENT
DTSTART;VALUE=DATE:20220716
DTEND;VALUE=DATE:20220729
DTSTAMP:20260421T063035
CREATED:20220720T172445Z
LAST-MODIFIED:20220720T172445Z
UID:10000849-1657929600-1659052799@gobatroun.com
SUMMARY:ليالي سوق دوما
DESCRIPTION:
URL:https://gobatroun.com/event/%d9%84%d9%8a%d8%a7%d9%84%d9%8a-%d8%b3%d9%88%d9%82-%d8%af%d9%88%d9%85%d8%a7/
LOCATION:Douma\, 6R4Q+7J3\,\, Douma\, Lebanon
CATEGORIES:Festivals,Performing Arts
ATTACH;FMTTYPE=image/jpeg:https://gobatroun.com/wp-content/uploads/2022/07/PhotoGrid_Plus_1658337634336-scaled.jpg
GEO:34.205635417169;35.839081809552
X-APPLE-STRUCTURED-LOCATION;VALUE=URI;X-ADDRESS=Douma 6R4Q+7J3 Douma Lebanon;X-APPLE-RADIUS=500;X-TITLE=6R4Q+7J3\,:geo:35.839081809552,34.205635417169
END:VEVENT
BEGIN:VEVENT
DTSTART;TZID=Asia/Beirut:20220720T193000
DTEND;TZID=Asia/Beirut:20220720T193000
DTSTAMP:20260421T063035
CREATED:20220718T070219Z
LAST-MODIFIED:20220718T070343Z
UID:10000950-1658345400-1658345400@gobatroun.com
SUMMARY:LaToya at Casa Castel
DESCRIPTION:Ladies and Gents @latoya_latoya and the band this Wednesday! \nLet’s spice it up Batroun city! 🔥
URL:https://gobatroun.com/event/latoya-at-casa-castel/
LOCATION:Casa Cartel Batroun
CATEGORIES:Performing Arts
ATTACH;FMTTYPE=image/png:https://gobatroun.com/wp-content/uploads/2022/07/Screenshot-960.png
END:VEVENT
BEGIN:VEVENT
DTSTART;TZID=Asia/Beirut:20220720T220000
DTEND;TZID=Asia/Beirut:20220720T220000
DTSTAMP:20260421T063035
CREATED:20220718T065606Z
LAST-MODIFIED:20220718T065606Z
UID:10000947-1658354400-1658354400@gobatroun.com
SUMMARY:George Nehme at Kai Beach
DESCRIPTION:Your all-time favorite @georgenehmeofficial returns at Kai Beach this Wednesday\, 20 July. \nDoors open at 10 pm.\nInfo & Reservations 79188988
URL:https://gobatroun.com/event/george-nehme-at-kai-beach-2/
LOCATION:Kai Beach\, 6J7X+FV Madfoun\, Madfoun\, Lebanon
CATEGORIES:Performing Arts
ATTACH;FMTTYPE=image/png:https://gobatroun.com/wp-content/uploads/2022/07/Screenshot-959.png
END:VEVENT
BEGIN:VEVENT
DTSTART;TZID=Asia/Beirut:20220720T220000
DTEND;TZID=Asia/Beirut:20220720T220000
DTSTAMP:20260421T063035
CREATED:20220719T081613Z
LAST-MODIFIED:20220719T081613Z
UID:10000957-1658354400-1658354400@gobatroun.com
SUMMARY:Dj Kayy\, and Dj MC H at Blu Bay
DESCRIPTION:
URL:https://gobatroun.com/event/dj-kayy-and-dj-mc-h-at-blu-bay/
LOCATION:Blu Bay Batroun\, 6MW6+QJ Batroun\, Batroun\, Lebanon
CATEGORIES:Performing Arts
ATTACH;FMTTYPE=image/jpeg:https://gobatroun.com/wp-content/uploads/2022/07/WhatsApp-Image-2022-07-19-at-11.12.58-AM.jpeg
END:VEVENT
BEGIN:VEVENT
DTSTART;VALUE=DATE:20220721
DTEND;VALUE=DATE:20220725
DTSTAMP:20260421T063035
CREATED:20220614T103107Z
LAST-MODIFIED:20220721T061104Z
UID:10000846-1658361600-1658707199@gobatroun.com
SUMMARY:BIF2022- Marche du Port
DESCRIPTION:Summer 2022 here we come!\nFor more info contact 00961 3 105700
URL:https://gobatroun.com/event/bif2022-marche-du-port/
LOCATION:TBD
CATEGORIES:Festivals
ATTACH;FMTTYPE=image/png:https://gobatroun.com/wp-content/uploads/2022/06/Screenshot-32.png
END:VEVENT
END:VCALENDAR