BEGIN:VCALENDAR
VERSION:2.0
PRODID:-//Go Batroun - ECPv6.14.2//NONSGML v1.0//EN
CALSCALE:GREGORIAN
METHOD:PUBLISH
X-WR-CALNAME:Go Batroun
X-ORIGINAL-URL:https://gobatroun.com
X-WR-CALDESC:Events for Go Batroun
REFRESH-INTERVAL;VALUE=DURATION:PT1H
X-Robots-Tag:noindex
X-PUBLISHED-TTL:PT1H
BEGIN:VTIMEZONE
TZID:Asia/Beirut
BEGIN:DAYLIGHT
TZOFFSETFROM:+0200
TZOFFSETTO:+0300
TZNAME:EEST
DTSTART:20220326T220000
END:DAYLIGHT
BEGIN:STANDARD
TZOFFSETFROM:+0300
TZOFFSETTO:+0200
TZNAME:EET
DTSTART:20221029T210000
END:STANDARD
END:VTIMEZONE
BEGIN:VEVENT
DTSTART;VALUE=DATE:20220716
DTEND;VALUE=DATE:20220729
DTSTAMP:20260421T011602
CREATED:20220720T172445Z
LAST-MODIFIED:20220720T172445Z
UID:10000849-1657929600-1659052799@gobatroun.com
SUMMARY:ليالي سوق دوما
DESCRIPTION:
URL:https://gobatroun.com/event/%d9%84%d9%8a%d8%a7%d9%84%d9%8a-%d8%b3%d9%88%d9%82-%d8%af%d9%88%d9%85%d8%a7/
LOCATION:Douma\, 6R4Q+7J3\,\, Douma\, Lebanon
CATEGORIES:Festivals,Performing Arts
ATTACH;FMTTYPE=image/jpeg:https://gobatroun.com/wp-content/uploads/2022/07/PhotoGrid_Plus_1658337634336-scaled.jpg
GEO:34.205635417169;35.839081809552
X-APPLE-STRUCTURED-LOCATION;VALUE=URI;X-ADDRESS=Douma 6R4Q+7J3 Douma Lebanon;X-APPLE-RADIUS=500;X-TITLE=6R4Q+7J3\,:geo:35.839081809552,34.205635417169
END:VEVENT
BEGIN:VEVENT
DTSTART;TZID=Asia/Beirut:20220716T100000
DTEND;TZID=Asia/Beirut:20220717T233000
DTSTAMP:20260421T011602
CREATED:20220705T104552Z
LAST-MODIFIED:20220705T104552Z
UID:10000803-1657965600-1658100600@gobatroun.com
SUMMARY:Art In the Woods
DESCRIPTION:
URL:https://gobatroun.com/event/art-in-the-woods/
LOCATION:Olin Woods
CATEGORIES:Performing Arts
ATTACH;FMTTYPE=image/jpeg:https://gobatroun.com/wp-content/uploads/2022/07/WhatsApp-Image-2022-07-05-at-1.28.35-PM.jpeg
END:VEVENT
BEGIN:VEVENT
DTSTART;TZID=Asia/Beirut:20220716T170000
DTEND;TZID=Asia/Beirut:20220717T233000
DTSTAMP:20260421T011602
CREATED:20220716T114447Z
LAST-MODIFIED:20220718T052248Z
UID:10000940-1657990800-1658100600@gobatroun.com
SUMMARY:Dj Charbel Assal at Sierra
DESCRIPTION:
URL:https://gobatroun.com/event/dj-charbel-assal-at-sierra/
LOCATION:Sierra Beachfront
CATEGORIES:Performing Arts
ATTACH;FMTTYPE=image/jpeg:https://gobatroun.com/wp-content/uploads/2022/07/Screenshot_20220716-143349_Facebook-1.jpg
END:VEVENT
BEGIN:VEVENT
DTSTART;TZID=Asia/Beirut:20220717T070000
DTEND;TZID=Asia/Beirut:20220717T170000
DTSTAMP:20260421T011602
CREATED:20220710T111936Z
LAST-MODIFIED:20220712T114945Z
UID:10000916-1658041200-1658077200@gobatroun.com
SUMMARY:BURPEES MARATHON
DESCRIPTION:We all hate burpees\, but what if we burpee for a cause? \nWe have exciting news for you!!! \nThe Cage\, in collaboration with SOS Children’s Villages in Lebanon\, is organizing a BURPEES MARATHON which contribution will go to support SOS’ children\, on the 17th of July. \nStay tuned for more live updates!! \nFor more info\, contact Serge Assal +961 71827138
URL:https://gobatroun.com/event/burpees-marathon-which-contribution/
LOCATION:The Cage\, 6MWC+VF Batroun\, Batroun\, Lebanon
CATEGORIES:Sports
ATTACH;FMTTYPE=image/jpeg:https://gobatroun.com/wp-content/uploads/2022/07/Screenshot_20220710-141055_Instagram.jpg
GEO:34.247225990409;35.671297508043
X-APPLE-STRUCTURED-LOCATION;VALUE=URI;X-ADDRESS=The Cage 6MWC+VF Batroun Batroun Lebanon;X-APPLE-RADIUS=500;X-TITLE=6MWC+VF Batroun:geo:35.671297508043,34.247225990409
END:VEVENT
BEGIN:VEVENT
DTSTART;TZID=Asia/Beirut:20220717T090000
DTEND;TZID=Asia/Beirut:20220717T170000
DTSTAMP:20260421T011602
CREATED:20220630T104532Z
LAST-MODIFIED:20220630T105716Z
UID:10000891-1658048400-1658077200@gobatroun.com
SUMMARY:Batroun Touristic Ride
DESCRIPTION:Check our events schedule & Book your tour
URL:https://gobatroun.com/event/batroun-touristic-ride/
LOCATION:Routes
CATEGORIES:Sports
ATTACH;FMTTYPE=image/jpeg:https://gobatroun.com/wp-content/uploads/2022/06/290358214_3280492352194756_7202934015182308023_n.jpg
END:VEVENT
BEGIN:VEVENT
DTSTART;TZID=Asia/Beirut:20220717T120000
DTEND;TZID=Asia/Beirut:20220717T203000
DTSTAMP:20260421T011602
CREATED:20220706T052440Z
LAST-MODIFIED:20220706T052609Z
UID:10000899-1658059200-1658089800@gobatroun.com
SUMMARY:DJs Marvik\, NINO.A.N\, CROW&S.E.B and DJ Andreo at ALIK
DESCRIPTION:Save the Date !!\nJuly 17 is big Sunday and we will be waiting for you !!\nMusic\, Dance\, Drinks and Special Entertainment Shows. \nParty at day or night or both!!! \nRSVP 70 006 757
URL:https://gobatroun.com/event/djs-marvik-nino-a-n-crows-e-b-and-dj-andreo-at-alik/
LOCATION:Alik Beach Bar
CATEGORIES:Performing Arts
ATTACH;FMTTYPE=image/jpeg:https://gobatroun.com/wp-content/uploads/2022/07/WhatsApp-Image-2022-07-05-at-5.31.09-PM.jpeg
END:VEVENT
BEGIN:VEVENT
DTSTART;TZID=Asia/Beirut:20220717T150000
DTEND;TZID=Asia/Beirut:20220717T170000
DTSTAMP:20260421T011602
CREATED:20220715T102931Z
LAST-MODIFIED:20220715T102931Z
UID:10000936-1658070000-1658077200@gobatroun.com
SUMMARY:Wadih El Cheikh at  La Taiga resort
DESCRIPTION:This Sunday By The Pool\n#wadihelcheikh\n#LaTaigaResort #Batroun\nStarting 3:PM\nFor more info call +961 71 414 441
URL:https://gobatroun.com/event/wadih-el-cheikh-at-la-taiga-resort/
LOCATION:La Taiga Resort Batroun\, 6MC3+CP Kfar Aabida\, Batroun\, Lebanon
CATEGORIES:Performing Arts
ATTACH;FMTTYPE=image/png:https://gobatroun.com/wp-content/uploads/2022/07/Screenshot-956.png
GEO:34.221113189181;35.654292376004
X-APPLE-STRUCTURED-LOCATION;VALUE=URI;X-ADDRESS=La Taiga Resort Batroun 6MC3+CP Kfar Aabida Batroun Lebanon;X-APPLE-RADIUS=500;X-TITLE=6MC3+CP Kfar Aabida:geo:35.654292376004,34.221113189181
END:VEVENT
BEGIN:VEVENT
DTSTART;TZID=Asia/Beirut:20220717T170000
DTEND;TZID=Asia/Beirut:20220717T170000
DTSTAMP:20260421T011602
CREATED:20220713T095655Z
LAST-MODIFIED:20220728T074645Z
UID:10000815-1658077200-1658077200@gobatroun.com
SUMMARY:Dj Bibb\, Dj Kayy\, and Dj Mavrik in Batroun in Colors
DESCRIPTION:DJs – Color Throw – Food & Drinks – Tombola – Swimming\nDJs : Dj Bibb – Dj Kayy – Dj Marvik\nTickets @: Sealena Beach 81698803\nJessy Juice Batroun\nContact: 70108596 @dabnadinee
URL:https://gobatroun.com/event/dj-bibb-dj-kayy-and-dj-mavrik-in/
LOCATION:Sealena Beach
CATEGORIES:Festivals,Performing Arts
ATTACH;FMTTYPE=image/jpeg:https://gobatroun.com/wp-content/uploads/2022/07/292073468_1079233166015965_5811102254858187588_n.jpg
END:VEVENT
BEGIN:VEVENT
DTSTART;TZID=Asia/Beirut:20220717T170000
DTEND;TZID=Asia/Beirut:20220717T170000
DTSTAMP:20260421T011602
CREATED:20220715T054919Z
LAST-MODIFIED:20220715T054935Z
UID:10000930-1658077200-1658077200@gobatroun.com
SUMMARY:Pool Party Ft Nadim Attieh at La Maison Bleue
DESCRIPTION:Got any weekend plans? Meet us at La Maison Bleue\, enjoy some drinks and great music ⚡️🔥\n@escobar.lb
URL:https://gobatroun.com/event/pool-party-ft-nadim-attieh-at-la-maison-bleue/
LOCATION:La Maison Bleue kfaraabida
CATEGORIES:Performing Arts
ATTACH;FMTTYPE=image/png:https://gobatroun.com/wp-content/uploads/2022/07/Screenshot-949.png
END:VEVENT
BEGIN:VEVENT
DTSTART;TZID=Asia/Beirut:20220717T190000
DTEND;TZID=Asia/Beirut:20220717T190000
DTSTAMP:20260421T011602
CREATED:20220714T112134Z
LAST-MODIFIED:20220714T112256Z
UID:10000823-1658084400-1658084400@gobatroun.com
SUMMARY:DJ whoisbibz\, DJ NAMI\, and DJ Jakob Hidmi at Isolé
DESCRIPTION:Brunching by the sea this Sunday with @dead.end.paradise 🐚\nWe got @whoisbibz b2b @jakes.hid and @nehmeb behind the decks.
URL:https://gobatroun.com/event/dj-whoisbibz-dj-nami-and-dj-jakob-hidmi-at-isole/
LOCATION:Isolé the Beach
CATEGORIES:Performing Arts
ATTACH;FMTTYPE=image/png:https://gobatroun.com/wp-content/uploads/2022/07/Screenshot-942.png
END:VEVENT
BEGIN:VEVENT
DTSTART;TZID=Asia/Beirut:20220717T200000
DTEND;TZID=Asia/Beirut:20220717T200000
DTSTAMP:20260421T011602
CREATED:20220715T051149Z
LAST-MODIFIED:20220715T051230Z
UID:10000926-1658088000-1658088000@gobatroun.com
SUMMARY:Elie Margi at Vine Wine Bar
DESCRIPTION:Join us for some live acoustic music with @eliemargi this Sunday July17\nstarting 8:00 pm\n.\nFor bookings – 71 455 882
URL:https://gobatroun.com/event/elie-margi-at-vine-wine-bar/
LOCATION:Vine\, Smar Jbeil\, 6M9R+95 Smar Jbeil\, Smar Jbeil\, Lebanon
CATEGORIES:Performing Arts
ATTACH;FMTTYPE=image/png:https://gobatroun.com/wp-content/uploads/2022/07/Screenshot-944.png
END:VEVENT
END:VCALENDAR