BEGIN:VCALENDAR
VERSION:2.0
PRODID:-//Go Batroun - ECPv6.14.2//NONSGML v1.0//EN
CALSCALE:GREGORIAN
METHOD:PUBLISH
X-ORIGINAL-URL:https://gobatroun.com
X-WR-CALDESC:Events for Go Batroun
REFRESH-INTERVAL;VALUE=DURATION:PT1H
X-Robots-Tag:noindex
X-PUBLISHED-TTL:PT1H
BEGIN:VTIMEZONE
TZID:Asia/Beirut
BEGIN:DAYLIGHT
TZOFFSETFROM:+0200
TZOFFSETTO:+0300
TZNAME:EEST
DTSTART:20220326T220000
END:DAYLIGHT
BEGIN:STANDARD
TZOFFSETFROM:+0300
TZOFFSETTO:+0200
TZNAME:EET
DTSTART:20221029T210000
END:STANDARD
END:VTIMEZONE
BEGIN:VEVENT
DTSTART;TZID=Asia/Beirut:20220713T170000
DTEND;TZID=Asia/Beirut:20220713T170000
DTSTAMP:20260420T223842
CREATED:20220713T052721Z
LAST-MODIFIED:20220713T062827Z
UID:10000921-1657731600-1657731600@gobatroun.com
SUMMARY:Ingrid and Amy Smack Daddy at Casa Cartel
DESCRIPTION:Bringing you again to Batroun\, the showstopping @ingridbawab & @amysmackdaddy for an unhappy fun Wednesday night!
URL:https://gobatroun.com/event/ingrid-and-amy-smack-daddy-at-casa-cartel/
LOCATION:Casa Cartel Batroun
CATEGORIES:Performing Arts
ATTACH;FMTTYPE=image/png:https://gobatroun.com/wp-content/uploads/2022/07/Screenshot-922.png
END:VEVENT
BEGIN:VEVENT
DTSTART;TZID=Asia/Beirut:20220713T193000
DTEND;TZID=Asia/Beirut:20220713T193000
DTSTAMP:20260420T223842
CREATED:20220712T092620Z
LAST-MODIFIED:20220712T115010Z
UID:10000918-1657740600-1657740600@gobatroun.com
SUMMARY:Charbel Zreiby at Meat the Fish
DESCRIPTION:Join us this Wednesday starting 7:30pm at Meat the Fish at the Beach for a DJ night by @djcharbelzreiby . Featuring special cocktails by @sagatibabrasil 🎧🍹🌅\nCall us to book or more info on 81-993736
URL:https://gobatroun.com/event/charbel-zreiby-ar-meat-the-fish/
LOCATION:Meat the Fish\, 6MV6+V9 Batroun\, Lebanon
CATEGORIES:Performing Arts
ATTACH;FMTTYPE=image/jpeg:https://gobatroun.com/wp-content/uploads/2022/07/Screenshot_20220712-122929_Instagram.jpg
GEO:34.244669025222;35.661004379845
X-APPLE-STRUCTURED-LOCATION;VALUE=URI;X-ADDRESS=Meat the Fish 6MV6+V9 Batroun Lebanon;X-APPLE-RADIUS=500;X-TITLE=6MV6+V9 Batroun:geo:35.661004379845,34.244669025222
END:VEVENT
BEGIN:VEVENT
DTSTART;TZID=Asia/Beirut:20220713T220000
DTEND;TZID=Asia/Beirut:20220713T220000
DTSTAMP:20260420T223842
CREATED:20220708T090748Z
LAST-MODIFIED:20220708T091150Z
UID:10000811-1657749600-1657749600@gobatroun.com
SUMMARY:George Nehme at Kai Beach
DESCRIPTION:You favorite @georgenehmeofficial live at Kai Beach Wednesday July 13. \nDoors open at 10 pm.\nInfo & Reservations 79188988
URL:https://gobatroun.com/event/george-nehme-at-kai-beach/
LOCATION:Kai Beach\, 6J7X+FV Madfoun\, Madfoun\, Lebanon
CATEGORIES:Performing Arts
ATTACH;FMTTYPE=image/png:https://gobatroun.com/wp-content/uploads/2022/07/Screenshot-911.png
END:VEVENT
END:VCALENDAR