BEGIN:VCALENDAR
VERSION:2.0
PRODID:-//Go Batroun - ECPv6.14.2//NONSGML v1.0//EN
CALSCALE:GREGORIAN
METHOD:PUBLISH
X-WR-CALNAME:Go Batroun
X-ORIGINAL-URL:https://gobatroun.com
X-WR-CALDESC:Events for Go Batroun
REFRESH-INTERVAL;VALUE=DURATION:PT1H
X-Robots-Tag:noindex
X-PUBLISHED-TTL:PT1H
BEGIN:VTIMEZONE
TZID:Asia/Beirut
BEGIN:DAYLIGHT
TZOFFSETFROM:+0200
TZOFFSETTO:+0300
TZNAME:EEST
DTSTART:20220326T220000
END:DAYLIGHT
BEGIN:STANDARD
TZOFFSETFROM:+0300
TZOFFSETTO:+0200
TZNAME:EET
DTSTART:20221029T210000
END:STANDARD
END:VTIMEZONE
BEGIN:VEVENT
DTSTART;TZID=Asia/Beirut:20220711T080000
DTEND;TZID=Asia/Beirut:20220711T220000
DTSTAMP:20260421T011558
CREATED:20220711T150015Z
LAST-MODIFIED:20220711T150015Z
UID:10000917-1657526400-1657576800@gobatroun.com
SUMMARY:Come for the Sun
DESCRIPTION:Children of the sun\, see you tomorrow as well🌞
URL:https://gobatroun.com/event/come-for-the-sun/
LOCATION:Isolethebeach
END:VEVENT
BEGIN:VEVENT
DTSTART;TZID=Asia/Beirut:20220711T100000
DTEND;TZID=Asia/Beirut:20220711T193000
DTSTAMP:20260421T011558
CREATED:20220706T054249Z
LAST-MODIFIED:20220706T054249Z
UID:10000906-1657533600-1657567800@gobatroun.com
SUMMARY:Detox Flow with Aurelie and Sound Chakra Healing Meditation Circle with Rita Homsi
DESCRIPTION:
URL:https://gobatroun.com/event/detox-flow-with-aurelie-and-sound-chakra-healing-meditation-circle-with-rita-homsi/
LOCATION:Villa Paradiso Lebanon
CATEGORIES:Sports
ATTACH;FMTTYPE=image/jpeg:https://gobatroun.com/wp-content/uploads/2022/07/WhatsApp-Image-2022-07-05-at-7.39.23-PM.jpeg
END:VEVENT
BEGIN:VEVENT
DTSTART;TZID=Asia/Beirut:20220711T220000
DTEND;TZID=Asia/Beirut:20220711T220000
DTSTAMP:20260421T011558
CREATED:20220708T090642Z
LAST-MODIFIED:20220708T091210Z
UID:10000810-1657576800-1657576800@gobatroun.com
SUMMARY:Bilal at KAI Beach Batroun
DESCRIPTION:Bilal the gipsy prince takes over Kai’s Beach Club this Monday\, 11 July. \nDoors open at 10 pm.\nInfo & Reservations 79188988
URL:https://gobatroun.com/event/bilal-at-kai-beach-batroun/
LOCATION:Kai Beach\, 6J7X+FV Madfoun\, Madfoun\, Lebanon
CATEGORIES:Performing Arts
ATTACH;FMTTYPE=image/png:https://gobatroun.com/wp-content/uploads/2022/07/Screenshot-914.png
END:VEVENT
END:VCALENDAR