BEGIN:VCALENDAR
VERSION:2.0
PRODID:-//Go Batroun - ECPv6.14.2//NONSGML v1.0//EN
CALSCALE:GREGORIAN
METHOD:PUBLISH
X-ORIGINAL-URL:https://gobatroun.com
X-WR-CALDESC:Events for Go Batroun
REFRESH-INTERVAL;VALUE=DURATION:PT1H
X-Robots-Tag:noindex
X-PUBLISHED-TTL:PT1H
BEGIN:VTIMEZONE
TZID:Asia/Beirut
BEGIN:DAYLIGHT
TZOFFSETFROM:+0200
TZOFFSETTO:+0300
TZNAME:EEST
DTSTART:20220326T220000
END:DAYLIGHT
BEGIN:STANDARD
TZOFFSETFROM:+0300
TZOFFSETTO:+0200
TZNAME:EET
DTSTART:20221029T210000
END:STANDARD
END:VTIMEZONE
BEGIN:VEVENT
DTSTART;TZID=Asia/Beirut:20220710T090000
DTEND;TZID=Asia/Beirut:20220710T123000
DTSTAMP:20260421T155516
CREATED:20220706T054451Z
LAST-MODIFIED:20220706T054613Z
UID:10000908-1657443600-1657456200@gobatroun.com
SUMMARY:Release Tension Class and Cleansing & Rejuvenating Masterclass With Rita Houmsi
DESCRIPTION:
URL:https://gobatroun.com/event/release-tension-class-and-cleansing-rejuvenating-masterclass-with-rita-houmsi/
LOCATION:Villa Paradiso Lebanon
CATEGORIES:Sports
ATTACH;FMTTYPE=image/jpeg:https://gobatroun.com/wp-content/uploads/2022/07/WhatsApp-Image-2022-07-05-at-7.39.23-PM.jpeg
END:VEVENT
BEGIN:VEVENT
DTSTART;TZID=Asia/Beirut:20220710T190000
DTEND;TZID=Asia/Beirut:20220710T190000
DTSTAMP:20260421T155516
CREATED:20220708T083453Z
LAST-MODIFIED:20220708T083453Z
UID:10000805-1657479600-1657479600@gobatroun.com
SUMMARY:DJ Roy at Alik Beach Bar
DESCRIPTION:Dance\, Drink and Party with DJ Roy this Sunday.\nEndless parties\, amazing vibes and happy people !!\nDon’t forget to taste our delicious sea food. \nFree Entrance\nRSVP 70 006 757
URL:https://gobatroun.com/event/dj-roy-at-alik-beach-bar/
LOCATION:Alik Beach Bar
CATEGORIES:Performing Arts
ATTACH;FMTTYPE=image/png:https://gobatroun.com/wp-content/uploads/2022/07/Screenshot-906.png
END:VEVENT
BEGIN:VEVENT
DTSTART;TZID=Asia/Beirut:20220710T190000
DTEND;TZID=Asia/Beirut:20220710T190000
DTSTAMP:20260421T155516
CREATED:20220710T111348Z
LAST-MODIFIED:20220710T111348Z
UID:10000915-1657479600-1657479600@gobatroun.com
SUMMARY:Micha Aoun at Greenhouse
DESCRIPTION:Nothing but smile \, good time and sunset with a live acoustic session with the lovely @micha_aoun_starting 7:00 pm
URL:https://gobatroun.com/event/micha-aoun-at-greenhouse/
LOCATION:Green House Batroun
CATEGORIES:Performing Arts
ATTACH;FMTTYPE=image/jpeg:https://gobatroun.com/wp-content/uploads/2022/07/Screenshot_20220710-140637_Instagram.jpg
END:VEVENT
END:VCALENDAR