BEGIN:VCALENDAR
VERSION:2.0
PRODID:-//Go Batroun - ECPv6.14.2//NONSGML v1.0//EN
CALSCALE:GREGORIAN
METHOD:PUBLISH
X-ORIGINAL-URL:https://gobatroun.com
X-WR-CALDESC:Events for Go Batroun
REFRESH-INTERVAL;VALUE=DURATION:PT1H
X-Robots-Tag:noindex
X-PUBLISHED-TTL:PT1H
BEGIN:VTIMEZONE
TZID:Asia/Beirut
BEGIN:DAYLIGHT
TZOFFSETFROM:+0200
TZOFFSETTO:+0300
TZNAME:EEST
DTSTART:20220326T220000
END:DAYLIGHT
BEGIN:STANDARD
TZOFFSETFROM:+0300
TZOFFSETTO:+0200
TZNAME:EET
DTSTART:20221029T210000
END:STANDARD
END:VTIMEZONE
BEGIN:VEVENT
DTSTART;TZID=Asia/Beirut:20220630T190000
DTEND;TZID=Asia/Beirut:20220703T233000
DTSTAMP:20260421T180732
CREATED:20220701T100823Z
LAST-MODIFIED:20220701T100823Z
UID:10000795-1656615600-1656891000@gobatroun.com
SUMMARY:SnawBar | صنو-بر
DESCRIPTION:HERE WE GO AGAIN !!\nSee you @snaw_bar_camping! \n🔹️Thursday 30\n• Movie night ( the fountain )\nFee: 50\,000 LL \n🔹️Friday 1\n• DJ night! \n🔹️Saturday 2\n• Sunset Yoga flow with🧘‍♀️ @darmaji_batroun\nStarting at 7:00 pm\ndon’t forget your Matt!!\nFee: 200\,000 LL \n• Followed by live oud performances with Walid Baydoun & his band\nStarting at 8:30 pm\nFee: 150\,000 LL \n🔹️Sunday 3\n• Jamming night around the fire with\n< Matmoura >🥔\nDon’t forget your musical instruments 🥁🎷🎻 \n❗Bring a jacket or blanket if you’d like!❗ \nRSVP: 71942776 or DM \n🔸 Camping spot\n🔸 board games\n🔸 balance board\n🔸 slackline\n🔸 bonfire 🔥\n🔸 bar 🍻\n🔸 Toilets available\n🔸 food will be available\n🔸 tent rental is available upon\nreservation.
URL:https://gobatroun.com/event/snawbar-%d8%b5%d9%86%d9%88-%d8%a8%d8%b1/
LOCATION:Snaw Bar
CATEGORIES:Performing Arts,Sports
ATTACH;FMTTYPE=image/png:https://gobatroun.com/wp-content/uploads/2022/07/Screenshot-874.png
END:VEVENT
BEGIN:VEVENT
DTSTART;TZID=Asia/Beirut:20220701T170000
DTEND;TZID=Asia/Beirut:20220701T170000
DTSTAMP:20260421T180732
CREATED:20220628T074934Z
LAST-MODIFIED:20220628T080416Z
UID:10000788-1656694800-1656694800@gobatroun.com
SUMMARY:Tenno Beirut  and Orient express Beirut in Gavea Beach bar
DESCRIPTION:We’re finally back!\nStarting the summer season with\nAperitive edition Brunch Club At Gavea Beach bar Batroun!\nThis time in collaboration with our fellow friends from @orientexpressbeirut and @tennobeirut \nAll you need to know:\n5 pm till 6 pm free entrance\n6 pm till 9 pm 10$\n9 pm end 15$\nContact us for table reservations.
URL:https://gobatroun.com/event/7735/
LOCATION:Gávea Beach Bar
CATEGORIES:Performing Arts
ATTACH;FMTTYPE=image/jpeg:https://gobatroun.com/wp-content/uploads/2022/06/WhatsApp-Image-2022-06-28-at-9.53.09-AM.jpeg
END:VEVENT
BEGIN:VEVENT
DTSTART;TZID=Asia/Beirut:20220701T190000
DTEND;TZID=Asia/Beirut:20220701T190000
DTSTAMP:20260421T180732
CREATED:20220628T134147Z
LAST-MODIFIED:20220628T134147Z
UID:10000790-1656702000-1656702000@gobatroun.com
SUMMARY:Creatures of the Beach with Jana\, Phil Vader\, Nami\, and YSF
DESCRIPTION:Decksters rejoice!\nSummer comes early this year and with it the emergence of the local fauna of musicians\, dancers\, and artists.\nThis Friday we give props to a flurry of Lebanese creatures behind the decks:\n@usernamewiththatusername and @philvader command the early eve\, while @nehmeb and @yousdogg take the reins in the later hours 😈😈👹👹 \n7pm- 9pm : 200\,000LL\n9pm- 1am: 300\,000LL \nTables and infoline 71-694469
URL:https://gobatroun.com/event/creatures-of-the-beach-with-jana-phil-vader-nami-and-ysf/
LOCATION:Decks on the beach
CATEGORIES:Performing Arts
ATTACH;FMTTYPE=image/png:https://gobatroun.com/wp-content/uploads/2022/06/Screenshot-826.png
END:VEVENT
BEGIN:VEVENT
DTSTART;TZID=Asia/Beirut:20220701T190000
DTEND;TZID=Asia/Beirut:20220701T190000
DTSTAMP:20260421T180732
CREATED:20220629T070559Z
LAST-MODIFIED:20220629T070559Z
UID:10000793-1656702000-1656702000@gobatroun.com
SUMMARY:Samer Maroon at La Maison Bleue
DESCRIPTION:Ready for a magical night with @samermaroonofficial? We know we are! 😍
URL:https://gobatroun.com/event/samer-maroon-at-la-maison-bleue/
LOCATION:La Maison Bleue kfaraabida
CATEGORIES:Performing Arts
ATTACH;FMTTYPE=image/png:https://gobatroun.com/wp-content/uploads/2022/06/Screenshot-827.png
END:VEVENT
END:VCALENDAR