BEGIN:VCALENDAR
VERSION:2.0
PRODID:-//Go Batroun - ECPv6.14.2//NONSGML v1.0//EN
CALSCALE:GREGORIAN
METHOD:PUBLISH
X-WR-CALNAME:Go Batroun
X-ORIGINAL-URL:https://gobatroun.com
X-WR-CALDESC:Events for Go Batroun
REFRESH-INTERVAL;VALUE=DURATION:PT1H
X-Robots-Tag:noindex
X-PUBLISHED-TTL:PT1H
BEGIN:VTIMEZONE
TZID:Asia/Beirut
BEGIN:DAYLIGHT
TZOFFSETFROM:+0200
TZOFFSETTO:+0300
TZNAME:EEST
DTSTART:20220326T220000
END:DAYLIGHT
BEGIN:STANDARD
TZOFFSETFROM:+0300
TZOFFSETTO:+0200
TZNAME:EET
DTSTART:20221029T210000
END:STANDARD
END:VTIMEZONE
BEGIN:VEVENT
DTSTART;TZID=Asia/Beirut:20220624T190000
DTEND;TZID=Asia/Beirut:20220624T233000
DTSTAMP:20260421T073435
CREATED:20220617T103305Z
LAST-MODIFIED:20220624T130937Z
UID:10000869-1656097200-1656113400@gobatroun.com
SUMMARY:Creatures Of The Summer
DESCRIPTION:We give our beloved creatures a rest this weekend but next friday we are back with a bang: long-time Decks aficionado and friend @zimmermusic makes a well-deserved return to our stage\, joined by local decks first-timer @seahaddad \nDate: Friday June 24th \nLocation: @isolethebeach \nDoors open at 7pm \n7-9pm: 200\,000LL \n9-1am: 300\,000LL \nTables and infoline 71-694469
URL:https://gobatroun.com/event/creatures-of-the-summer/
LOCATION:Decks on the beach
CATEGORIES:Concerts
ATTACH;FMTTYPE=image/png:https://gobatroun.com/wp-content/uploads/2022/06/Screenshot-760.png
END:VEVENT
BEGIN:VEVENT
DTSTART;TZID=Asia/Beirut:20220624T203000
DTEND;TZID=Asia/Beirut:20220624T203000
DTSTAMP:20260421T073435
CREATED:20220624T084934Z
LAST-MODIFIED:20220624T094404Z
UID:10000786-1656102600-1656102600@gobatroun.com
SUMMARY:Blu Bay with T-Mak and Yam
DESCRIPTION:Walk-in Fees: 300.000LBP Including 1 Drink. \nTables reservation: \nVVIP: 800.000LBP per Person. \nVip: 600.000LBP. \nRegular: 400.000LBP. \nTel: 70436244
URL:https://gobatroun.com/event/blu-bay-with-y-mak-and-yam/
LOCATION:Blu Bay Batroun\, 6MW6+QJ Batroun\, Batroun\, Lebanon
CATEGORIES:Performing Arts
ATTACH;FMTTYPE=image/jpeg:https://gobatroun.com/wp-content/uploads/2022/06/WhatsApp-Image-2022-06-23-at-7.18.20-PM.jpeg
END:VEVENT
BEGIN:VEVENT
DTSTART;TZID=Asia/Beirut:20220624T210000
DTEND;TZID=Asia/Beirut:20220624T233000
DTSTAMP:20260421T073435
CREATED:20220621T095003Z
LAST-MODIFIED:20220621T095003Z
UID:10000876-1656104400-1656113400@gobatroun.com
SUMMARY:The Amberjacks
DESCRIPTION:“The Amberjacks” live performance this Friday\, playing a mixture of blues\, rock reggae and Latino music . With an English Arabic french and Spanish twist.\n__________________________________\nFriday 24 July\nTiming 9:00 pm\nGarden is open\nRsvp 70125310\n_________________________________
URL:https://gobatroun.com/event/the-amberjacks/
LOCATION:Green House Batroun
CATEGORIES:Performing Arts
ATTACH;FMTTYPE=image/png:https://gobatroun.com/wp-content/uploads/2022/06/Screenshot-38.png
END:VEVENT
END:VCALENDAR