BEGIN:VCALENDAR
VERSION:2.0
PRODID:-//Go Batroun - ECPv6.14.2//NONSGML v1.0//EN
CALSCALE:GREGORIAN
METHOD:PUBLISH
X-ORIGINAL-URL:https://gobatroun.com
X-WR-CALDESC:Events for Go Batroun
REFRESH-INTERVAL;VALUE=DURATION:PT1H
X-Robots-Tag:noindex
X-PUBLISHED-TTL:PT1H
BEGIN:VTIMEZONE
TZID:Asia/Beirut
BEGIN:DAYLIGHT
TZOFFSETFROM:+0200
TZOFFSETTO:+0300
TZNAME:EEST
DTSTART:20220326T220000
END:DAYLIGHT
BEGIN:STANDARD
TZOFFSETFROM:+0300
TZOFFSETTO:+0200
TZNAME:EET
DTSTART:20221029T210000
END:STANDARD
END:VTIMEZONE
BEGIN:VEVENT
DTSTART;TZID=Asia/Beirut:20220621T180000
DTEND;TZID=Asia/Beirut:20220621T200000
DTSTAMP:20260421T073520
CREATED:20220620T070551Z
LAST-MODIFIED:20220622T102921Z
UID:10000872-1655834400-1655841600@gobatroun.com
SUMMARY:Free Yoga and Live Music
DESCRIPTION:June 21st marks World Yoga Day and with this occasion\, we decided to give back to the wonderful community that allowed us to bloom. \nCelebrating the World Yoga Day and to give back to this beautiful and supportive community and Batroun that gave us room to create something new\, we are offering a free Yoga class and live music.\nDate : Tuesday June 23.\nTime : 6:00 PM\nWith @jihane.wellness\nPrice : Free \nFor more info & reservations 03/632900
URL:https://gobatroun.com/event/happy-international-yoga-day/
LOCATION:Darma Ji
CATEGORIES:Sports
ATTACH;FMTTYPE=image/jpeg:https://gobatroun.com/wp-content/uploads/2022/06/WhatsApp-Image-2022-06-22-at-12.31.09-PM.jpeg
END:VEVENT
END:VCALENDAR